BEGIN:VCALENDAR
VERSION:2.0
PRODID:-//Ladera Community Church - ECPv6.15.20//NONSGML v1.0//EN
CALSCALE:GREGORIAN
METHOD:PUBLISH
X-WR-CALNAME:Ladera Community Church
X-ORIGINAL-URL:https://ladera.org
X-WR-CALDESC:Events for Ladera Community Church
REFRESH-INTERVAL;VALUE=DURATION:PT1H
X-Robots-Tag:noindex
X-PUBLISHED-TTL:PT1H
BEGIN:VTIMEZONE
TZID:America/Los_Angeles
BEGIN:DAYLIGHT
TZOFFSETFROM:-0800
TZOFFSETTO:-0700
TZNAME:PDT
DTSTART:20250309T100000
END:DAYLIGHT
BEGIN:STANDARD
TZOFFSETFROM:-0700
TZOFFSETTO:-0800
TZNAME:PST
DTSTART:20251102T090000
END:STANDARD
BEGIN:DAYLIGHT
TZOFFSETFROM:-0800
TZOFFSETTO:-0700
TZNAME:PDT
DTSTART:20260308T100000
END:DAYLIGHT
BEGIN:STANDARD
TZOFFSETFROM:-0700
TZOFFSETTO:-0800
TZNAME:PST
DTSTART:20261101T090000
END:STANDARD
BEGIN:DAYLIGHT
TZOFFSETFROM:-0800
TZOFFSETTO:-0700
TZNAME:PDT
DTSTART:20270314T100000
END:DAYLIGHT
BEGIN:STANDARD
TZOFFSETFROM:-0700
TZOFFSETTO:-0800
TZNAME:PST
DTSTART:20271107T090000
END:STANDARD
END:VTIMEZONE
BEGIN:VEVENT
DTSTART;TZID=America/Los_Angeles:20260329T093000
DTEND;TZID=America/Los_Angeles:20260329T103000
DTSTAMP:20260424T090230
CREATED:20241023T195434Z
LAST-MODIFIED:20260319T162123Z
UID:10000570-1774776600-1774780200@ladera.org
SUMMARY:Worship Service
DESCRIPTION:Worship is the heart of our community life. Sunday worship begins at 9:30 a.m. in the sanctuary and online via Zoom. All ages are invited. LCC worship is a joyful celebration of God’s presence among us. We find inspiration\, renewal\, and refreshment through song and silence\, prayer\, and reflection. We seek to integrate the arts – music\, drama\, and visual – to enrich the worship experience. Worship continues in the many ways we seek\, serve\, and grow in the world. \n\nWe serve communion on the first Sunday of every month. All are welcome to the table!\n\n  \nJoin us on Zoom \nID: 829 2023 8953\nPasscode: Sunday
URL:https://ladera.org/event/weekly-worship-service-2-2-2-5-2-2-2/2026-03-29/
LOCATION:LCC: Sanctuary\, 3300 Alpine Road\, Portola Valley\, CA\, 94028\, United States
CATEGORIES:Find Connection,Look Deeper,Quiet the Noise
ATTACH;FMTTYPE=image/jpeg:https://ladera.org/wp-content/uploads/2024/10/unnamed-11.jpg
END:VEVENT
BEGIN:VEVENT
DTSTART;TZID=America/Los_Angeles:20260329T093000
DTEND;TZID=America/Los_Angeles:20260329T103000
DTSTAMP:20260424T090230
CREATED:20260324T191011Z
LAST-MODIFIED:20260324T191011Z
UID:10015932-1774776600-1774780200@ladera.org
SUMMARY:Palm Sunday Worship Service
DESCRIPTION:Celebrate Palm Sunday with us as we reflect on Jesus’ triumphant entry into Jerusalem. Bring family and friends to experience the transformative love of Christ as we prepare our hearts for the cross and the hope of resurrection.
URL:https://ladera.org/event/palm-sunday-worship-service/
LOCATION:LCC: Sanctuary\, 3300 Alpine Road\, Portola Valley\, CA\, 94028\, United States
CATEGORIES:Look Deeper
ATTACH;FMTTYPE=image/jpeg:https://ladera.org/wp-content/uploads/2023/02/Palm-Sunday.jpg
ORGANIZER;CN="Ladera Church":MAILTO:church@ladera.org
END:VEVENT
BEGIN:VEVENT
DTSTART;TZID=America/Los_Angeles:20260329T123000
DTEND;TZID=America/Los_Angeles:20260329T150000
DTSTAMP:20260424T090230
CREATED:20230206T041415Z
LAST-MODIFIED:20240429T231837Z
UID:10006668-1774787400-1774796400@ladera.org
SUMMARY:Haumalu 'o Langi Worship Service
DESCRIPTION:Haumalu ‘o Langi Tongan congregation’s weekly Sunday service and Sunday school for the children.
URL:https://ladera.org/event/haumalu-o-langi-worship-service-2/2026-03-29/
LOCATION:Ladera Church\, 3300 Alpine Road\, Portola Valley\, CA\, 94028\, United States
CATEGORIES:Facility Use
ATTACH;FMTTYPE=image/jpeg:https://ladera.org/wp-content/uploads/2022/10/Tongan-Worship-Service.jpg
END:VEVENT
END:VCALENDAR