BEGIN:VCALENDAR
VERSION:2.0
PRODID:-//Ladera Community Church - ECPv6.15.20//NONSGML v1.0//EN
CALSCALE:GREGORIAN
METHOD:PUBLISH
X-ORIGINAL-URL:https://ladera.org
X-WR-CALDESC:Events for Ladera Community Church
REFRESH-INTERVAL;VALUE=DURATION:PT1H
X-Robots-Tag:noindex
X-PUBLISHED-TTL:PT1H
BEGIN:VTIMEZONE
TZID:America/Los_Angeles
BEGIN:DAYLIGHT
TZOFFSETFROM:-0800
TZOFFSETTO:-0700
TZNAME:PDT
DTSTART:20250309T100000
END:DAYLIGHT
BEGIN:STANDARD
TZOFFSETFROM:-0700
TZOFFSETTO:-0800
TZNAME:PST
DTSTART:20251102T090000
END:STANDARD
BEGIN:DAYLIGHT
TZOFFSETFROM:-0800
TZOFFSETTO:-0700
TZNAME:PDT
DTSTART:20260308T100000
END:DAYLIGHT
BEGIN:STANDARD
TZOFFSETFROM:-0700
TZOFFSETTO:-0800
TZNAME:PST
DTSTART:20261101T090000
END:STANDARD
BEGIN:DAYLIGHT
TZOFFSETFROM:-0800
TZOFFSETTO:-0700
TZNAME:PDT
DTSTART:20270314T100000
END:DAYLIGHT
BEGIN:STANDARD
TZOFFSETFROM:-0700
TZOFFSETTO:-0800
TZNAME:PST
DTSTART:20271107T090000
END:STANDARD
END:VTIMEZONE
BEGIN:VEVENT
DTSTART;VALUE=DATE:20260503
DTEND;VALUE=DATE:20260518
DTSTAMP:20260424T211947
CREATED:20260407T173600Z
LAST-MODIFIED:20260407T173600Z
UID:10015954-1777766400-1779062399@ladera.org
SUMMARY:Church World Service Blanket Drive
DESCRIPTION:CWS is there in times of need with blankets and toiletry kits\, whether it is during a disaster or a daily need for the homeless. Let’s support their efforts with our funds! Drop a check in the collection plate made out to LCC with CWS in the memo line\, send a check to LCC\, or give online: ladera.org.
URL:https://ladera.org/event/church-world-service-blanket-drive-3/
LOCATION:Ladera Church\, 3300 Alpine Road\, Portola Valley\, CA\, 94028\, United States
ATTACH;FMTTYPE=image/jpeg:https://ladera.org/wp-content/uploads/2024/04/ValentinesBlanket-Web-24-scaled-1.jpg
ORGANIZER;CN="Ladera Church":MAILTO:church@ladera.org
END:VEVENT
BEGIN:VEVENT
DTSTART;VALUE=DATE:20260504
DTEND;VALUE=DATE:20260509
DTSTAMP:20260424T211947
CREATED:20260401T202212Z
LAST-MODIFIED:20260410T013801Z
UID:10015950-1777852800-1778284799@ladera.org
SUMMARY:Sump Pumps Installation Project
DESCRIPTION:We will be installing new pump sumps in the breezeway outside of the office\, Peabody Hall\, and the kitchen.
URL:https://ladera.org/event/pump-sump-repair-work/
LOCATION:LCC: Peabody Hall\, 3300 Alpine Road\, Portola Valley\, CA\, 94028
ORGANIZER;CN="Ladera Church":MAILTO:church@ladera.org
END:VEVENT
BEGIN:VEVENT
DTSTART;TZID=America/Los_Angeles:20260505T080000
DTEND;TZID=America/Los_Angeles:20260505T130000
DTSTAMP:20260424T211947
CREATED:20260422T002902Z
LAST-MODIFIED:20260422T062417Z
UID:10015966-1777968000-1777986000@ladera.org
SUMMARY:Sharmila Montessori Preschool's Picture Day
DESCRIPTION:Sharmila Montessori Preschool’s Picture Day.
URL:https://ladera.org/event/sharmila-montessori-preschools-picture-day-4/
LOCATION:LCC: Room 7
CATEGORIES:Preschool
ATTACH;FMTTYPE=image/png:https://ladera.org/wp-content/uploads/2022/11/SMP-Logo-e1669921740683.png
END:VEVENT
END:VCALENDAR