BEGIN:VCALENDAR
VERSION:2.0
PRODID:-//Ladera Community Church - ECPv6.15.20//NONSGML v1.0//EN
CALSCALE:GREGORIAN
METHOD:PUBLISH
X-WR-CALNAME:Ladera Community Church
X-ORIGINAL-URL:https://ladera.org
X-WR-CALDESC:Events for Ladera Community Church
REFRESH-INTERVAL;VALUE=DURATION:PT1H
X-Robots-Tag:noindex
X-PUBLISHED-TTL:PT1H
BEGIN:VTIMEZONE
TZID:America/Los_Angeles
BEGIN:DAYLIGHT
TZOFFSETFROM:-0800
TZOFFSETTO:-0700
TZNAME:PDT
DTSTART:20250309T100000
END:DAYLIGHT
BEGIN:STANDARD
TZOFFSETFROM:-0700
TZOFFSETTO:-0800
TZNAME:PST
DTSTART:20251102T090000
END:STANDARD
BEGIN:DAYLIGHT
TZOFFSETFROM:-0800
TZOFFSETTO:-0700
TZNAME:PDT
DTSTART:20260308T100000
END:DAYLIGHT
BEGIN:STANDARD
TZOFFSETFROM:-0700
TZOFFSETTO:-0800
TZNAME:PST
DTSTART:20261101T090000
END:STANDARD
BEGIN:DAYLIGHT
TZOFFSETFROM:-0800
TZOFFSETTO:-0700
TZNAME:PDT
DTSTART:20270314T100000
END:DAYLIGHT
BEGIN:STANDARD
TZOFFSETFROM:-0700
TZOFFSETTO:-0800
TZNAME:PST
DTSTART:20271107T090000
END:STANDARD
END:VTIMEZONE
BEGIN:VEVENT
DTSTART;TZID=America/Los_Angeles:20260419T173000
DTEND;TZID=America/Los_Angeles:20260419T213000
DTSTAMP:20260425T074028
CREATED:20251104T170042Z
LAST-MODIFIED:20260303T170423Z
UID:10015477-1776619800-1776634200@ladera.org
SUMMARY:Stanford Quads
DESCRIPTION:Modern square dancing is a recreation enjoyed by people of all ages in the United States and around the world.  We dance the Plus program utilizing All Position Dancing.  We often have an A2 or C1 star tip at the end of the evening.  All Plus dancers are welcome to join us for an evening of dancing.  Square dance attire is not needed.  Masks are optional. \n\nThe weekly schedule is:\n       Review: 6:00-6:30 pm\n\n\n\n\n\n\n\n\n\n       Class: 6:30-8:30 pm\n\n\n\n\n\n\n\n\n\n\n\n\n\n\n\n\n       Plus: 8:30-9:00 pm\n\n\n\n\n\n\n\n\n\n\n\n\n\n\n\n\n\n       Star tips: 9:00-9:30 pm \n\n\n\n\n\n\n\n\n\n\nThe cost is $10 per session.  We start a beginner’s class every fall in October.
URL:https://ladera.org/event/stanford-quads-2-2-2-2-2-2-2-2/2026-04-19/
LOCATION:LCC: Peabody Hall\, 3300 Alpine Road\, Portola Valley\, CA\, 94028
CATEGORIES:Facility Use,Find Connection
ATTACH;FMTTYPE=image/jpeg:https://ladera.org/wp-content/uploads/2022/10/squre-dancing.jpeg
END:VEVENT
BEGIN:VEVENT
DTSTART;TZID=America/Los_Angeles:20260422T190000
DTEND;TZID=America/Los_Angeles:20260422T203000
DTSTAMP:20260425T074028
CREATED:20221017T070859Z
LAST-MODIFIED:20251102T014045Z
UID:10014924-1776884400-1776889800@ladera.org
SUMMARY:Peninsula Threshold Choir
DESCRIPTION:Peninsula Threshold Choir brings comfort and kindness through song to the bedsides of those at the thresholds of living and dying. The choir rehearses on the second and fourth Wednesdays of the month.
URL:https://ladera.org/event/peninsula-threshold-choir-2/2026-04-22/
LOCATION:LCC: Peabody Hall\, 3300 Alpine Road\, Portola Valley\, CA\, 94028
CATEGORIES:Facility Use
ATTACH;FMTTYPE=image/jpeg:https://ladera.org/wp-content/uploads/2022/10/PeninsulaThresholdChoir.jpg
END:VEVENT
BEGIN:VEVENT
DTSTART;TZID=America/Los_Angeles:20260426T123000
DTEND;TZID=America/Los_Angeles:20260426T150000
DTSTAMP:20260425T074028
CREATED:20230206T041415Z
LAST-MODIFIED:20240429T231837Z
UID:10006671-1777206600-1777215600@ladera.org
SUMMARY:Haumalu 'o Langi Worship Service
DESCRIPTION:Haumalu ‘o Langi Tongan congregation’s weekly Sunday service and Sunday school for the children.
URL:https://ladera.org/event/haumalu-o-langi-worship-service-2/2026-04-26/
LOCATION:Ladera Church\, 3300 Alpine Road\, Portola Valley\, CA\, 94028\, United States
CATEGORIES:Facility Use
ATTACH;FMTTYPE=image/jpeg:https://ladera.org/wp-content/uploads/2022/10/Tongan-Worship-Service.jpg
END:VEVENT
BEGIN:VEVENT
DTSTART;TZID=America/Los_Angeles:20260426T180000
DTEND;TZID=America/Los_Angeles:20260426T213000
DTSTAMP:20260425T074028
CREATED:20260425T014540Z
LAST-MODIFIED:20260425T014542Z
UID:10015478-1777226400-1777239000@ladera.org
SUMMARY:Stanford Quads
DESCRIPTION:Modern square dancing is a recreation enjoyed by people of all ages in the United States and around the world.  We dance the Plus program utilizing All Position Dancing.  We often have an A2 or C1 star tip at the end of the evening.  All Plus dancers are welcome to join us for an evening of dancing.  Square dance attire is not needed.  Masks are optional. \n\nThe weekly schedule is:\n\n\n\n\n\n\n\n\n\n       Class: 6:30-8:30 pm\n\n\n\n\n\n\n\n\n\n\n\n\n\n\n\n\n       Plus: 8:30-9:00 pm\n\n\n\n\n\n\n\n\n\n\n\n\n\n\n\n\n\n       Star tips: 9:00-9:30 pm \n\n\n\n\n\n\n\n\n\n\nThe cost is $10 per session.  We start a beginner’s class every fall in October.
URL:https://ladera.org/event/stanford-quads-2-2-2-2-2-2-2-2-2/2026-04-26/
LOCATION:LCC: Peabody Hall\, 3300 Alpine Road\, Portola Valley\, CA\, 94028
CATEGORIES:Facility Use,Find Connection
ATTACH;FMTTYPE=image/jpeg:https://ladera.org/wp-content/uploads/2022/10/squre-dancing.jpeg
END:VEVENT
BEGIN:VEVENT
DTSTART;TZID=America/Los_Angeles:20260503T180000
DTEND;TZID=America/Los_Angeles:20260503T213000
DTSTAMP:20260425T074028
CREATED:20260425T014540Z
LAST-MODIFIED:20260425T014542Z
UID:10015973-1777831200-1777843800@ladera.org
SUMMARY:Stanford Quads
DESCRIPTION:Modern square dancing is a recreation enjoyed by people of all ages in the United States and around the world.  We dance the Plus program utilizing All Position Dancing.  We often have an A2 or C1 star tip at the end of the evening.  All Plus dancers are welcome to join us for an evening of dancing.  Square dance attire is not needed.  Masks are optional. \n\nThe weekly schedule is:\n\n\n\n\n\n\n\n\n\n       Class: 6:30-8:30 pm\n\n\n\n\n\n\n\n\n\n\n\n\n\n\n\n\n       Plus: 8:30-9:00 pm\n\n\n\n\n\n\n\n\n\n\n\n\n\n\n\n\n\n       Star tips: 9:00-9:30 pm \n\n\n\n\n\n\n\n\n\n\nThe cost is $10 per session.  We start a beginner’s class every fall in October.
URL:https://ladera.org/event/stanford-quads-2-2-2-2-2-2-2-2-2/2026-05-03/
LOCATION:LCC: Peabody Hall\, 3300 Alpine Road\, Portola Valley\, CA\, 94028
CATEGORIES:Facility Use,Find Connection
ATTACH;FMTTYPE=image/jpeg:https://ladera.org/wp-content/uploads/2022/10/squre-dancing.jpeg
END:VEVENT
BEGIN:VEVENT
DTSTART;TZID=America/Los_Angeles:20260510T123000
DTEND;TZID=America/Los_Angeles:20260510T150000
DTSTAMP:20260425T074028
CREATED:20230206T041415Z
LAST-MODIFIED:20240429T231837Z
UID:10006672-1778416200-1778425200@ladera.org
SUMMARY:Haumalu 'o Langi Worship Service
DESCRIPTION:Haumalu ‘o Langi Tongan congregation’s weekly Sunday service and Sunday school for the children.
URL:https://ladera.org/event/haumalu-o-langi-worship-service-2/2026-05-10/
LOCATION:Ladera Church\, 3300 Alpine Road\, Portola Valley\, CA\, 94028\, United States
CATEGORIES:Facility Use
ATTACH;FMTTYPE=image/jpeg:https://ladera.org/wp-content/uploads/2022/10/Tongan-Worship-Service.jpg
END:VEVENT
BEGIN:VEVENT
DTSTART;TZID=America/Los_Angeles:20260510T180000
DTEND;TZID=America/Los_Angeles:20260510T213000
DTSTAMP:20260425T074028
CREATED:20260425T014540Z
LAST-MODIFIED:20260425T014542Z
UID:10015974-1778436000-1778448600@ladera.org
SUMMARY:Stanford Quads
DESCRIPTION:Modern square dancing is a recreation enjoyed by people of all ages in the United States and around the world.  We dance the Plus program utilizing All Position Dancing.  We often have an A2 or C1 star tip at the end of the evening.  All Plus dancers are welcome to join us for an evening of dancing.  Square dance attire is not needed.  Masks are optional. \n\nThe weekly schedule is:\n\n\n\n\n\n\n\n\n\n       Class: 6:30-8:30 pm\n\n\n\n\n\n\n\n\n\n\n\n\n\n\n\n\n       Plus: 8:30-9:00 pm\n\n\n\n\n\n\n\n\n\n\n\n\n\n\n\n\n\n       Star tips: 9:00-9:30 pm \n\n\n\n\n\n\n\n\n\n\nThe cost is $10 per session.  We start a beginner’s class every fall in October.
URL:https://ladera.org/event/stanford-quads-2-2-2-2-2-2-2-2-2/2026-05-10/
LOCATION:LCC: Peabody Hall\, 3300 Alpine Road\, Portola Valley\, CA\, 94028
CATEGORIES:Facility Use,Find Connection
ATTACH;FMTTYPE=image/jpeg:https://ladera.org/wp-content/uploads/2022/10/squre-dancing.jpeg
END:VEVENT
BEGIN:VEVENT
DTSTART;TZID=America/Los_Angeles:20260513T190000
DTEND;TZID=America/Los_Angeles:20260513T203000
DTSTAMP:20260425T074028
CREATED:20241223T012553Z
LAST-MODIFIED:20251102T013331Z
UID:10012588-1778698800-1778704200@ladera.org
SUMMARY:Peninsula Threshold Choir
DESCRIPTION:Peninsula Threshold Choir brings comfort and kindness through song to the bedsides of those at the thresholds of living and dying. The choir rehearses on the second and fourth Wednesdays of the month.
URL:https://ladera.org/event/peninsula-threshold-choir-6/2026-05-13/
LOCATION:LCC: Peabody Hall\, 3300 Alpine Road\, Portola Valley\, CA\, 94028
CATEGORIES:Facility Use
ATTACH;FMTTYPE=image/jpeg:https://ladera.org/wp-content/uploads/2022/10/PeninsulaThresholdChoir.jpg
END:VEVENT
BEGIN:VEVENT
DTSTART;TZID=America/Los_Angeles:20260517T123000
DTEND;TZID=America/Los_Angeles:20260517T150000
DTSTAMP:20260425T074028
CREATED:20230206T041415Z
LAST-MODIFIED:20240429T231837Z
UID:10006673-1779021000-1779030000@ladera.org
SUMMARY:Haumalu 'o Langi Worship Service
DESCRIPTION:Haumalu ‘o Langi Tongan congregation’s weekly Sunday service and Sunday school for the children.
URL:https://ladera.org/event/haumalu-o-langi-worship-service-2/2026-05-17/
LOCATION:Ladera Church\, 3300 Alpine Road\, Portola Valley\, CA\, 94028\, United States
CATEGORIES:Facility Use
ATTACH;FMTTYPE=image/jpeg:https://ladera.org/wp-content/uploads/2022/10/Tongan-Worship-Service.jpg
END:VEVENT
BEGIN:VEVENT
DTSTART;TZID=America/Los_Angeles:20260517T180000
DTEND;TZID=America/Los_Angeles:20260517T213000
DTSTAMP:20260425T074028
CREATED:20260425T014540Z
LAST-MODIFIED:20260425T014542Z
UID:10015975-1779040800-1779053400@ladera.org
SUMMARY:Stanford Quads
DESCRIPTION:Modern square dancing is a recreation enjoyed by people of all ages in the United States and around the world.  We dance the Plus program utilizing All Position Dancing.  We often have an A2 or C1 star tip at the end of the evening.  All Plus dancers are welcome to join us for an evening of dancing.  Square dance attire is not needed.  Masks are optional. \n\nThe weekly schedule is:\n\n\n\n\n\n\n\n\n\n       Class: 6:30-8:30 pm\n\n\n\n\n\n\n\n\n\n\n\n\n\n\n\n\n       Plus: 8:30-9:00 pm\n\n\n\n\n\n\n\n\n\n\n\n\n\n\n\n\n\n       Star tips: 9:00-9:30 pm \n\n\n\n\n\n\n\n\n\n\nThe cost is $10 per session.  We start a beginner’s class every fall in October.
URL:https://ladera.org/event/stanford-quads-2-2-2-2-2-2-2-2-2/2026-05-17/
LOCATION:LCC: Peabody Hall\, 3300 Alpine Road\, Portola Valley\, CA\, 94028
CATEGORIES:Facility Use,Find Connection
ATTACH;FMTTYPE=image/jpeg:https://ladera.org/wp-content/uploads/2022/10/squre-dancing.jpeg
END:VEVENT
BEGIN:VEVENT
DTSTART;TZID=America/Los_Angeles:20260524T123000
DTEND;TZID=America/Los_Angeles:20260524T150000
DTSTAMP:20260425T074028
CREATED:20230206T041415Z
LAST-MODIFIED:20240429T231837Z
UID:10006674-1779625800-1779634800@ladera.org
SUMMARY:Haumalu 'o Langi Worship Service
DESCRIPTION:Haumalu ‘o Langi Tongan congregation’s weekly Sunday service and Sunday school for the children.
URL:https://ladera.org/event/haumalu-o-langi-worship-service-2/2026-05-24/
LOCATION:Ladera Church\, 3300 Alpine Road\, Portola Valley\, CA\, 94028\, United States
CATEGORIES:Facility Use
ATTACH;FMTTYPE=image/jpeg:https://ladera.org/wp-content/uploads/2022/10/Tongan-Worship-Service.jpg
END:VEVENT
BEGIN:VEVENT
DTSTART;TZID=America/Los_Angeles:20260527T190000
DTEND;TZID=America/Los_Angeles:20260527T203000
DTSTAMP:20260425T074028
CREATED:20221017T070859Z
LAST-MODIFIED:20251102T014045Z
UID:10014925-1779908400-1779913800@ladera.org
SUMMARY:Peninsula Threshold Choir
DESCRIPTION:Peninsula Threshold Choir brings comfort and kindness through song to the bedsides of those at the thresholds of living and dying. The choir rehearses on the second and fourth Wednesdays of the month.
URL:https://ladera.org/event/peninsula-threshold-choir-2/2026-05-27/
LOCATION:LCC: Peabody Hall\, 3300 Alpine Road\, Portola Valley\, CA\, 94028
CATEGORIES:Facility Use
ATTACH;FMTTYPE=image/jpeg:https://ladera.org/wp-content/uploads/2022/10/PeninsulaThresholdChoir.jpg
END:VEVENT
BEGIN:VEVENT
DTSTART;TZID=America/Los_Angeles:20260531T123000
DTEND;TZID=America/Los_Angeles:20260531T150000
DTSTAMP:20260425T074028
CREATED:20230206T041415Z
LAST-MODIFIED:20240429T231837Z
UID:10006675-1780230600-1780239600@ladera.org
SUMMARY:Haumalu 'o Langi Worship Service
DESCRIPTION:Haumalu ‘o Langi Tongan congregation’s weekly Sunday service and Sunday school for the children.
URL:https://ladera.org/event/haumalu-o-langi-worship-service-2/2026-05-31/
LOCATION:Ladera Church\, 3300 Alpine Road\, Portola Valley\, CA\, 94028\, United States
CATEGORIES:Facility Use
ATTACH;FMTTYPE=image/jpeg:https://ladera.org/wp-content/uploads/2022/10/Tongan-Worship-Service.jpg
END:VEVENT
BEGIN:VEVENT
DTSTART;TZID=America/Los_Angeles:20260531T180000
DTEND;TZID=America/Los_Angeles:20260531T213000
DTSTAMP:20260425T074028
CREATED:20260425T014540Z
LAST-MODIFIED:20260425T014542Z
UID:10015976-1780250400-1780263000@ladera.org
SUMMARY:Stanford Quads
DESCRIPTION:Modern square dancing is a recreation enjoyed by people of all ages in the United States and around the world.  We dance the Plus program utilizing All Position Dancing.  We often have an A2 or C1 star tip at the end of the evening.  All Plus dancers are welcome to join us for an evening of dancing.  Square dance attire is not needed.  Masks are optional. \n\nThe weekly schedule is:\n\n\n\n\n\n\n\n\n\n       Class: 6:30-8:30 pm\n\n\n\n\n\n\n\n\n\n\n\n\n\n\n\n\n       Plus: 8:30-9:00 pm\n\n\n\n\n\n\n\n\n\n\n\n\n\n\n\n\n\n       Star tips: 9:00-9:30 pm \n\n\n\n\n\n\n\n\n\n\nThe cost is $10 per session.  We start a beginner’s class every fall in October.
URL:https://ladera.org/event/stanford-quads-2-2-2-2-2-2-2-2-2/2026-05-31/
LOCATION:LCC: Peabody Hall\, 3300 Alpine Road\, Portola Valley\, CA\, 94028
CATEGORIES:Facility Use,Find Connection
ATTACH;FMTTYPE=image/jpeg:https://ladera.org/wp-content/uploads/2022/10/squre-dancing.jpeg
END:VEVENT
BEGIN:VEVENT
DTSTART;TZID=America/Los_Angeles:20260607T180000
DTEND;TZID=America/Los_Angeles:20260607T213000
DTSTAMP:20260425T074028
CREATED:20260425T014540Z
LAST-MODIFIED:20260425T014542Z
UID:10015977-1780855200-1780867800@ladera.org
SUMMARY:Stanford Quads
DESCRIPTION:Modern square dancing is a recreation enjoyed by people of all ages in the United States and around the world.  We dance the Plus program utilizing All Position Dancing.  We often have an A2 or C1 star tip at the end of the evening.  All Plus dancers are welcome to join us for an evening of dancing.  Square dance attire is not needed.  Masks are optional. \n\nThe weekly schedule is:\n\n\n\n\n\n\n\n\n\n       Class: 6:30-8:30 pm\n\n\n\n\n\n\n\n\n\n\n\n\n\n\n\n\n       Plus: 8:30-9:00 pm\n\n\n\n\n\n\n\n\n\n\n\n\n\n\n\n\n\n       Star tips: 9:00-9:30 pm \n\n\n\n\n\n\n\n\n\n\nThe cost is $10 per session.  We start a beginner’s class every fall in October.
URL:https://ladera.org/event/stanford-quads-2-2-2-2-2-2-2-2-2/2026-06-07/
LOCATION:LCC: Peabody Hall\, 3300 Alpine Road\, Portola Valley\, CA\, 94028
CATEGORIES:Facility Use,Find Connection
ATTACH;FMTTYPE=image/jpeg:https://ladera.org/wp-content/uploads/2022/10/squre-dancing.jpeg
END:VEVENT
BEGIN:VEVENT
DTSTART;TZID=America/Los_Angeles:20260610T190000
DTEND;TZID=America/Los_Angeles:20260610T203000
DTSTAMP:20260425T074028
CREATED:20241223T012553Z
LAST-MODIFIED:20251102T013331Z
UID:10012589-1781118000-1781123400@ladera.org
SUMMARY:Peninsula Threshold Choir
DESCRIPTION:Peninsula Threshold Choir brings comfort and kindness through song to the bedsides of those at the thresholds of living and dying. The choir rehearses on the second and fourth Wednesdays of the month.
URL:https://ladera.org/event/peninsula-threshold-choir-6/2026-06-10/
LOCATION:LCC: Peabody Hall\, 3300 Alpine Road\, Portola Valley\, CA\, 94028
CATEGORIES:Facility Use
ATTACH;FMTTYPE=image/jpeg:https://ladera.org/wp-content/uploads/2022/10/PeninsulaThresholdChoir.jpg
END:VEVENT
BEGIN:VEVENT
DTSTART;TZID=America/Los_Angeles:20260614T123000
DTEND;TZID=America/Los_Angeles:20260614T150000
DTSTAMP:20260425T074028
CREATED:20230206T041415Z
LAST-MODIFIED:20240429T231837Z
UID:10006676-1781440200-1781449200@ladera.org
SUMMARY:Haumalu 'o Langi Worship Service
DESCRIPTION:Haumalu ‘o Langi Tongan congregation’s weekly Sunday service and Sunday school for the children.
URL:https://ladera.org/event/haumalu-o-langi-worship-service-2/2026-06-14/
LOCATION:Ladera Church\, 3300 Alpine Road\, Portola Valley\, CA\, 94028\, United States
CATEGORIES:Facility Use
ATTACH;FMTTYPE=image/jpeg:https://ladera.org/wp-content/uploads/2022/10/Tongan-Worship-Service.jpg
END:VEVENT
BEGIN:VEVENT
DTSTART;TZID=America/Los_Angeles:20260614T180000
DTEND;TZID=America/Los_Angeles:20260614T213000
DTSTAMP:20260425T074028
CREATED:20260425T014540Z
LAST-MODIFIED:20260425T014542Z
UID:10015978-1781460000-1781472600@ladera.org
SUMMARY:Stanford Quads
DESCRIPTION:Modern square dancing is a recreation enjoyed by people of all ages in the United States and around the world.  We dance the Plus program utilizing All Position Dancing.  We often have an A2 or C1 star tip at the end of the evening.  All Plus dancers are welcome to join us for an evening of dancing.  Square dance attire is not needed.  Masks are optional. \n\nThe weekly schedule is:\n\n\n\n\n\n\n\n\n\n       Class: 6:30-8:30 pm\n\n\n\n\n\n\n\n\n\n\n\n\n\n\n\n\n       Plus: 8:30-9:00 pm\n\n\n\n\n\n\n\n\n\n\n\n\n\n\n\n\n\n       Star tips: 9:00-9:30 pm \n\n\n\n\n\n\n\n\n\n\nThe cost is $10 per session.  We start a beginner’s class every fall in October.
URL:https://ladera.org/event/stanford-quads-2-2-2-2-2-2-2-2-2/2026-06-14/
LOCATION:LCC: Peabody Hall\, 3300 Alpine Road\, Portola Valley\, CA\, 94028
CATEGORIES:Facility Use,Find Connection
ATTACH;FMTTYPE=image/jpeg:https://ladera.org/wp-content/uploads/2022/10/squre-dancing.jpeg
END:VEVENT
BEGIN:VEVENT
DTSTART;TZID=America/Los_Angeles:20260621T123000
DTEND;TZID=America/Los_Angeles:20260621T150000
DTSTAMP:20260425T074028
CREATED:20230206T041415Z
LAST-MODIFIED:20240429T231837Z
UID:10006677-1782045000-1782054000@ladera.org
SUMMARY:Haumalu 'o Langi Worship Service
DESCRIPTION:Haumalu ‘o Langi Tongan congregation’s weekly Sunday service and Sunday school for the children.
URL:https://ladera.org/event/haumalu-o-langi-worship-service-2/2026-06-21/
LOCATION:Ladera Church\, 3300 Alpine Road\, Portola Valley\, CA\, 94028\, United States
CATEGORIES:Facility Use
ATTACH;FMTTYPE=image/jpeg:https://ladera.org/wp-content/uploads/2022/10/Tongan-Worship-Service.jpg
END:VEVENT
BEGIN:VEVENT
DTSTART;TZID=America/Los_Angeles:20260621T180000
DTEND;TZID=America/Los_Angeles:20260621T213000
DTSTAMP:20260425T074028
CREATED:20260425T014540Z
LAST-MODIFIED:20260425T014542Z
UID:10015979-1782064800-1782077400@ladera.org
SUMMARY:Stanford Quads
DESCRIPTION:Modern square dancing is a recreation enjoyed by people of all ages in the United States and around the world.  We dance the Plus program utilizing All Position Dancing.  We often have an A2 or C1 star tip at the end of the evening.  All Plus dancers are welcome to join us for an evening of dancing.  Square dance attire is not needed.  Masks are optional. \n\nThe weekly schedule is:\n\n\n\n\n\n\n\n\n\n       Class: 6:30-8:30 pm\n\n\n\n\n\n\n\n\n\n\n\n\n\n\n\n\n       Plus: 8:30-9:00 pm\n\n\n\n\n\n\n\n\n\n\n\n\n\n\n\n\n\n       Star tips: 9:00-9:30 pm \n\n\n\n\n\n\n\n\n\n\nThe cost is $10 per session.  We start a beginner’s class every fall in October.
URL:https://ladera.org/event/stanford-quads-2-2-2-2-2-2-2-2-2/2026-06-21/
LOCATION:LCC: Peabody Hall\, 3300 Alpine Road\, Portola Valley\, CA\, 94028
CATEGORIES:Facility Use,Find Connection
ATTACH;FMTTYPE=image/jpeg:https://ladera.org/wp-content/uploads/2022/10/squre-dancing.jpeg
END:VEVENT
BEGIN:VEVENT
DTSTART;TZID=America/Los_Angeles:20260624T190000
DTEND;TZID=America/Los_Angeles:20260624T203000
DTSTAMP:20260425T074028
CREATED:20221017T070859Z
LAST-MODIFIED:20251102T014045Z
UID:10014926-1782327600-1782333000@ladera.org
SUMMARY:Peninsula Threshold Choir
DESCRIPTION:Peninsula Threshold Choir brings comfort and kindness through song to the bedsides of those at the thresholds of living and dying. The choir rehearses on the second and fourth Wednesdays of the month.
URL:https://ladera.org/event/peninsula-threshold-choir-2/2026-06-24/
LOCATION:LCC: Peabody Hall\, 3300 Alpine Road\, Portola Valley\, CA\, 94028
CATEGORIES:Facility Use
ATTACH;FMTTYPE=image/jpeg:https://ladera.org/wp-content/uploads/2022/10/PeninsulaThresholdChoir.jpg
END:VEVENT
BEGIN:VEVENT
DTSTART;TZID=America/Los_Angeles:20260628T123000
DTEND;TZID=America/Los_Angeles:20260628T150000
DTSTAMP:20260425T074028
CREATED:20230206T041415Z
LAST-MODIFIED:20240429T231837Z
UID:10006678-1782649800-1782658800@ladera.org
SUMMARY:Haumalu 'o Langi Worship Service
DESCRIPTION:Haumalu ‘o Langi Tongan congregation’s weekly Sunday service and Sunday school for the children.
URL:https://ladera.org/event/haumalu-o-langi-worship-service-2/2026-06-28/
LOCATION:Ladera Church\, 3300 Alpine Road\, Portola Valley\, CA\, 94028\, United States
CATEGORIES:Facility Use
ATTACH;FMTTYPE=image/jpeg:https://ladera.org/wp-content/uploads/2022/10/Tongan-Worship-Service.jpg
END:VEVENT
BEGIN:VEVENT
DTSTART;TZID=America/Los_Angeles:20260628T180000
DTEND;TZID=America/Los_Angeles:20260628T213000
DTSTAMP:20260425T074028
CREATED:20260425T014540Z
LAST-MODIFIED:20260425T014542Z
UID:10015980-1782669600-1782682200@ladera.org
SUMMARY:Stanford Quads
DESCRIPTION:Modern square dancing is a recreation enjoyed by people of all ages in the United States and around the world.  We dance the Plus program utilizing All Position Dancing.  We often have an A2 or C1 star tip at the end of the evening.  All Plus dancers are welcome to join us for an evening of dancing.  Square dance attire is not needed.  Masks are optional. \n\nThe weekly schedule is:\n\n\n\n\n\n\n\n\n\n       Class: 6:30-8:30 pm\n\n\n\n\n\n\n\n\n\n\n\n\n\n\n\n\n       Plus: 8:30-9:00 pm\n\n\n\n\n\n\n\n\n\n\n\n\n\n\n\n\n\n       Star tips: 9:00-9:30 pm \n\n\n\n\n\n\n\n\n\n\nThe cost is $10 per session.  We start a beginner’s class every fall in October.
URL:https://ladera.org/event/stanford-quads-2-2-2-2-2-2-2-2-2/2026-06-28/
LOCATION:LCC: Peabody Hall\, 3300 Alpine Road\, Portola Valley\, CA\, 94028
CATEGORIES:Facility Use,Find Connection
ATTACH;FMTTYPE=image/jpeg:https://ladera.org/wp-content/uploads/2022/10/squre-dancing.jpeg
END:VEVENT
BEGIN:VEVENT
DTSTART;TZID=America/Los_Angeles:20260708T190000
DTEND;TZID=America/Los_Angeles:20260708T203000
DTSTAMP:20260425T074028
CREATED:20241223T012553Z
LAST-MODIFIED:20251102T013331Z
UID:10012590-1783537200-1783542600@ladera.org
SUMMARY:Peninsula Threshold Choir
DESCRIPTION:Peninsula Threshold Choir brings comfort and kindness through song to the bedsides of those at the thresholds of living and dying. The choir rehearses on the second and fourth Wednesdays of the month.
URL:https://ladera.org/event/peninsula-threshold-choir-6/2026-07-08/
LOCATION:LCC: Peabody Hall\, 3300 Alpine Road\, Portola Valley\, CA\, 94028
CATEGORIES:Facility Use
ATTACH;FMTTYPE=image/jpeg:https://ladera.org/wp-content/uploads/2022/10/PeninsulaThresholdChoir.jpg
END:VEVENT
BEGIN:VEVENT
DTSTART;TZID=America/Los_Angeles:20260712T123000
DTEND;TZID=America/Los_Angeles:20260712T150000
DTSTAMP:20260425T074028
CREATED:20230206T041415Z
LAST-MODIFIED:20240429T231837Z
UID:10006679-1783859400-1783868400@ladera.org
SUMMARY:Haumalu 'o Langi Worship Service
DESCRIPTION:Haumalu ‘o Langi Tongan congregation’s weekly Sunday service and Sunday school for the children.
URL:https://ladera.org/event/haumalu-o-langi-worship-service-2/2026-07-12/
LOCATION:Ladera Church\, 3300 Alpine Road\, Portola Valley\, CA\, 94028\, United States
CATEGORIES:Facility Use
ATTACH;FMTTYPE=image/jpeg:https://ladera.org/wp-content/uploads/2022/10/Tongan-Worship-Service.jpg
END:VEVENT
BEGIN:VEVENT
DTSTART;TZID=America/Los_Angeles:20260712T180000
DTEND;TZID=America/Los_Angeles:20260712T213000
DTSTAMP:20260425T074028
CREATED:20260425T014540Z
LAST-MODIFIED:20260425T014542Z
UID:10015981-1783879200-1783891800@ladera.org
SUMMARY:Stanford Quads
DESCRIPTION:Modern square dancing is a recreation enjoyed by people of all ages in the United States and around the world.  We dance the Plus program utilizing All Position Dancing.  We often have an A2 or C1 star tip at the end of the evening.  All Plus dancers are welcome to join us for an evening of dancing.  Square dance attire is not needed.  Masks are optional. \n\nThe weekly schedule is:\n\n\n\n\n\n\n\n\n\n       Class: 6:30-8:30 pm\n\n\n\n\n\n\n\n\n\n\n\n\n\n\n\n\n       Plus: 8:30-9:00 pm\n\n\n\n\n\n\n\n\n\n\n\n\n\n\n\n\n\n       Star tips: 9:00-9:30 pm \n\n\n\n\n\n\n\n\n\n\nThe cost is $10 per session.  We start a beginner’s class every fall in October.
URL:https://ladera.org/event/stanford-quads-2-2-2-2-2-2-2-2-2/2026-07-12/
LOCATION:LCC: Peabody Hall\, 3300 Alpine Road\, Portola Valley\, CA\, 94028
CATEGORIES:Facility Use,Find Connection
ATTACH;FMTTYPE=image/jpeg:https://ladera.org/wp-content/uploads/2022/10/squre-dancing.jpeg
END:VEVENT
BEGIN:VEVENT
DTSTART;TZID=America/Los_Angeles:20260719T123000
DTEND;TZID=America/Los_Angeles:20260719T150000
DTSTAMP:20260425T074028
CREATED:20230206T041415Z
LAST-MODIFIED:20240429T231837Z
UID:10006680-1784464200-1784473200@ladera.org
SUMMARY:Haumalu 'o Langi Worship Service
DESCRIPTION:Haumalu ‘o Langi Tongan congregation’s weekly Sunday service and Sunday school for the children.
URL:https://ladera.org/event/haumalu-o-langi-worship-service-2/2026-07-19/
LOCATION:Ladera Church\, 3300 Alpine Road\, Portola Valley\, CA\, 94028\, United States
CATEGORIES:Facility Use
ATTACH;FMTTYPE=image/jpeg:https://ladera.org/wp-content/uploads/2022/10/Tongan-Worship-Service.jpg
END:VEVENT
BEGIN:VEVENT
DTSTART;TZID=America/Los_Angeles:20260719T180000
DTEND;TZID=America/Los_Angeles:20260719T213000
DTSTAMP:20260425T074028
CREATED:20260425T014540Z
LAST-MODIFIED:20260425T014542Z
UID:10015982-1784484000-1784496600@ladera.org
SUMMARY:Stanford Quads
DESCRIPTION:Modern square dancing is a recreation enjoyed by people of all ages in the United States and around the world.  We dance the Plus program utilizing All Position Dancing.  We often have an A2 or C1 star tip at the end of the evening.  All Plus dancers are welcome to join us for an evening of dancing.  Square dance attire is not needed.  Masks are optional. \n\nThe weekly schedule is:\n\n\n\n\n\n\n\n\n\n       Class: 6:30-8:30 pm\n\n\n\n\n\n\n\n\n\n\n\n\n\n\n\n\n       Plus: 8:30-9:00 pm\n\n\n\n\n\n\n\n\n\n\n\n\n\n\n\n\n\n       Star tips: 9:00-9:30 pm \n\n\n\n\n\n\n\n\n\n\nThe cost is $10 per session.  We start a beginner’s class every fall in October.
URL:https://ladera.org/event/stanford-quads-2-2-2-2-2-2-2-2-2/2026-07-19/
LOCATION:LCC: Peabody Hall\, 3300 Alpine Road\, Portola Valley\, CA\, 94028
CATEGORIES:Facility Use,Find Connection
ATTACH;FMTTYPE=image/jpeg:https://ladera.org/wp-content/uploads/2022/10/squre-dancing.jpeg
END:VEVENT
BEGIN:VEVENT
DTSTART;TZID=America/Los_Angeles:20260722T190000
DTEND;TZID=America/Los_Angeles:20260722T203000
DTSTAMP:20260425T074028
CREATED:20221017T070859Z
LAST-MODIFIED:20251102T014045Z
UID:10014927-1784746800-1784752200@ladera.org
SUMMARY:Peninsula Threshold Choir
DESCRIPTION:Peninsula Threshold Choir brings comfort and kindness through song to the bedsides of those at the thresholds of living and dying. The choir rehearses on the second and fourth Wednesdays of the month.
URL:https://ladera.org/event/peninsula-threshold-choir-2/2026-07-22/
LOCATION:LCC: Peabody Hall\, 3300 Alpine Road\, Portola Valley\, CA\, 94028
CATEGORIES:Facility Use
ATTACH;FMTTYPE=image/jpeg:https://ladera.org/wp-content/uploads/2022/10/PeninsulaThresholdChoir.jpg
END:VEVENT
BEGIN:VEVENT
DTSTART;TZID=America/Los_Angeles:20260726T123000
DTEND;TZID=America/Los_Angeles:20260726T150000
DTSTAMP:20260425T074028
CREATED:20230206T041415Z
LAST-MODIFIED:20240429T231837Z
UID:10006681-1785069000-1785078000@ladera.org
SUMMARY:Haumalu 'o Langi Worship Service
DESCRIPTION:Haumalu ‘o Langi Tongan congregation’s weekly Sunday service and Sunday school for the children.
URL:https://ladera.org/event/haumalu-o-langi-worship-service-2/2026-07-26/
LOCATION:Ladera Church\, 3300 Alpine Road\, Portola Valley\, CA\, 94028\, United States
CATEGORIES:Facility Use
ATTACH;FMTTYPE=image/jpeg:https://ladera.org/wp-content/uploads/2022/10/Tongan-Worship-Service.jpg
END:VEVENT
END:VCALENDAR