BEGIN:VCALENDAR
VERSION:2.0
PRODID:-//Ladera Community Church - ECPv6.15.20//NONSGML v1.0//EN
CALSCALE:GREGORIAN
METHOD:PUBLISH
X-WR-CALNAME:Ladera Community Church
X-ORIGINAL-URL:https://ladera.org
X-WR-CALDESC:Events for Ladera Community Church
REFRESH-INTERVAL;VALUE=DURATION:PT1H
X-Robots-Tag:noindex
X-PUBLISHED-TTL:PT1H
BEGIN:VTIMEZONE
TZID:America/Los_Angeles
BEGIN:DAYLIGHT
TZOFFSETFROM:-0800
TZOFFSETTO:-0700
TZNAME:PDT
DTSTART:20250309T100000
END:DAYLIGHT
BEGIN:STANDARD
TZOFFSETFROM:-0700
TZOFFSETTO:-0800
TZNAME:PST
DTSTART:20251102T090000
END:STANDARD
BEGIN:DAYLIGHT
TZOFFSETFROM:-0800
TZOFFSETTO:-0700
TZNAME:PDT
DTSTART:20260308T100000
END:DAYLIGHT
BEGIN:STANDARD
TZOFFSETFROM:-0700
TZOFFSETTO:-0800
TZNAME:PST
DTSTART:20261101T090000
END:STANDARD
BEGIN:DAYLIGHT
TZOFFSETFROM:-0800
TZOFFSETTO:-0700
TZNAME:PDT
DTSTART:20270314T100000
END:DAYLIGHT
BEGIN:STANDARD
TZOFFSETFROM:-0700
TZOFFSETTO:-0800
TZNAME:PST
DTSTART:20271107T090000
END:STANDARD
END:VTIMEZONE
BEGIN:VEVENT
DTSTART;TZID=America/Los_Angeles:20260125T173000
DTEND;TZID=America/Los_Angeles:20260125T213000
DTSTAMP:20260425T074020
CREATED:20251104T170042Z
LAST-MODIFIED:20260303T170423Z
UID:10015122-1769362200-1769376600@ladera.org
SUMMARY:Stanford Quads
DESCRIPTION:Modern square dancing is a recreation enjoyed by people of all ages in the United States and around the world.  We dance the Plus program utilizing All Position Dancing.  We often have an A2 or C1 star tip at the end of the evening.  All Plus dancers are welcome to join us for an evening of dancing.  Square dance attire is not needed.  Masks are optional. \n\nThe weekly schedule is:\n       Review: 6:00-6:30 pm\n\n\n\n\n\n\n\n\n\n       Class: 6:30-8:30 pm\n\n\n\n\n\n\n\n\n\n\n\n\n\n\n\n\n       Plus: 8:30-9:00 pm\n\n\n\n\n\n\n\n\n\n\n\n\n\n\n\n\n\n       Star tips: 9:00-9:30 pm \n\n\n\n\n\n\n\n\n\n\nThe cost is $10 per session.  We start a beginner’s class every fall in October.
URL:https://ladera.org/event/stanford-quads-2-2-2-2-2-2-2-2/2026-01-25/
LOCATION:LCC: Peabody Hall\, 3300 Alpine Road\, Portola Valley\, CA\, 94028
CATEGORIES:Facility Use,Find Connection
ATTACH;FMTTYPE=image/jpeg:https://ladera.org/wp-content/uploads/2022/10/squre-dancing.jpeg
END:VEVENT
BEGIN:VEVENT
DTSTART;TZID=America/Los_Angeles:20260126T190000
DTEND;TZID=America/Los_Angeles:20260126T210000
DTSTAMP:20260425T074020
CREATED:20221005T213350Z
LAST-MODIFIED:20240108T165955Z
UID:10000920-1769454000-1769461200@ladera.org
SUMMARY:AA
DESCRIPTION:
URL:https://ladera.org/event/aa/2026-01-26/
LOCATION:LCC: Peabody Hall\, 3300 Alpine Road\, Portola Valley\, CA\, 94028
CATEGORIES:Find Connection,Look Deeper
ORGANIZER;CN="Ladera Church":MAILTO:church@ladera.org
END:VEVENT
BEGIN:VEVENT
DTSTART;TZID=America/Los_Angeles:20260129T193000
DTEND;TZID=America/Los_Angeles:20260129T210000
DTSTAMP:20260425T074020
CREATED:20250403T171119Z
LAST-MODIFIED:20260422T062849Z
UID:10012871-1769715000-1769720400@ladera.org
SUMMARY:LCC Choir Rehearsal
DESCRIPTION:Ladera Community Church weekly choir rehearsal.
URL:https://ladera.org/event/lcc-choir-rehearsal-6/2026-01-29/
LOCATION:LCC: Sanctuary\, 3300 Alpine Road\, Portola Valley\, CA\, 94028\, United States
CATEGORIES:Find Connection
ATTACH;FMTTYPE=image/jpeg:https://ladera.org/wp-content/uploads/2023/03/Choir-Rehearsal.jpg
ORGANIZER;CN="Ladera Church":MAILTO:church@ladera.org
END:VEVENT
BEGIN:VEVENT
DTSTART;TZID=America/Los_Angeles:20260201T093000
DTEND;TZID=America/Los_Angeles:20260201T103000
DTSTAMP:20260425T074020
CREATED:20241023T195434Z
LAST-MODIFIED:20260319T162123Z
UID:10000562-1769938200-1769941800@ladera.org
SUMMARY:Worship Service
DESCRIPTION:Worship is the heart of our community life. Sunday worship begins at 9:30 a.m. in the sanctuary and online via Zoom. All ages are invited. LCC worship is a joyful celebration of God’s presence among us. We find inspiration\, renewal\, and refreshment through song and silence\, prayer\, and reflection. We seek to integrate the arts – music\, drama\, and visual – to enrich the worship experience. Worship continues in the many ways we seek\, serve\, and grow in the world. \n\nWe serve communion on the first Sunday of every month. All are welcome to the table!\n\n  \nJoin us on Zoom \nID: 829 2023 8953\nPasscode: Sunday
URL:https://ladera.org/event/weekly-worship-service-2-2-2-5-2-2-2/2026-02-01/
LOCATION:LCC: Sanctuary\, 3300 Alpine Road\, Portola Valley\, CA\, 94028\, United States
CATEGORIES:Find Connection,Look Deeper,Quiet the Noise
ATTACH;FMTTYPE=image/jpeg:https://ladera.org/wp-content/uploads/2024/10/unnamed-11.jpg
END:VEVENT
BEGIN:VEVENT
DTSTART;TZID=America/Los_Angeles:20260201T173000
DTEND;TZID=America/Los_Angeles:20260201T213000
DTSTAMP:20260425T074020
CREATED:20251104T170042Z
LAST-MODIFIED:20260303T170423Z
UID:10015123-1769967000-1769981400@ladera.org
SUMMARY:Stanford Quads
DESCRIPTION:Modern square dancing is a recreation enjoyed by people of all ages in the United States and around the world.  We dance the Plus program utilizing All Position Dancing.  We often have an A2 or C1 star tip at the end of the evening.  All Plus dancers are welcome to join us for an evening of dancing.  Square dance attire is not needed.  Masks are optional. \n\nThe weekly schedule is:\n       Review: 6:00-6:30 pm\n\n\n\n\n\n\n\n\n\n       Class: 6:30-8:30 pm\n\n\n\n\n\n\n\n\n\n\n\n\n\n\n\n\n       Plus: 8:30-9:00 pm\n\n\n\n\n\n\n\n\n\n\n\n\n\n\n\n\n\n       Star tips: 9:00-9:30 pm \n\n\n\n\n\n\n\n\n\n\nThe cost is $10 per session.  We start a beginner’s class every fall in October.
URL:https://ladera.org/event/stanford-quads-2-2-2-2-2-2-2-2/2026-02-01/
LOCATION:LCC: Peabody Hall\, 3300 Alpine Road\, Portola Valley\, CA\, 94028
CATEGORIES:Facility Use,Find Connection
ATTACH;FMTTYPE=image/jpeg:https://ladera.org/wp-content/uploads/2022/10/squre-dancing.jpeg
END:VEVENT
BEGIN:VEVENT
DTSTART;TZID=America/Los_Angeles:20260202T190000
DTEND;TZID=America/Los_Angeles:20260202T210000
DTSTAMP:20260425T074020
CREATED:20221005T213350Z
LAST-MODIFIED:20240108T165955Z
UID:10000921-1770058800-1770066000@ladera.org
SUMMARY:AA
DESCRIPTION:
URL:https://ladera.org/event/aa/2026-02-02/
LOCATION:LCC: Peabody Hall\, 3300 Alpine Road\, Portola Valley\, CA\, 94028
CATEGORIES:Find Connection,Look Deeper
ORGANIZER;CN="Ladera Church":MAILTO:church@ladera.org
END:VEVENT
BEGIN:VEVENT
DTSTART;TZID=America/Los_Angeles:20260204T130000
DTEND;TZID=America/Los_Angeles:20260204T134500
DTSTAMP:20260425T074020
CREATED:20251029T203807Z
LAST-MODIFIED:20251125T190402Z
UID:10015055-1770210000-1770212700@ladera.org
SUMMARY:Community Support & Meditation
DESCRIPTION:Join in community for fellowship time to enjoy snacks and conversation after the community support program.
URL:https://ladera.org/event/community-support-program-fellowship-time/2026-02-04/
LOCATION:LCC: Peabody Hall\, 3300 Alpine Road\, Portola Valley\, CA\, 94028
CATEGORIES:Find Connection
ATTACH;FMTTYPE=image/jpeg:https://ladera.org/wp-content/uploads/2025/06/Community-Support-Program-16-x-6-in.jpg
ORGANIZER;CN="Ladera Church":MAILTO:church@ladera.org
END:VEVENT
BEGIN:VEVENT
DTSTART;TZID=America/Los_Angeles:20260205T193000
DTEND;TZID=America/Los_Angeles:20260205T210000
DTSTAMP:20260425T074020
CREATED:20250403T171119Z
LAST-MODIFIED:20260422T062849Z
UID:10012872-1770319800-1770325200@ladera.org
SUMMARY:LCC Choir Rehearsal
DESCRIPTION:Ladera Community Church weekly choir rehearsal.
URL:https://ladera.org/event/lcc-choir-rehearsal-6/2026-02-05/
LOCATION:LCC: Sanctuary\, 3300 Alpine Road\, Portola Valley\, CA\, 94028\, United States
CATEGORIES:Find Connection
ATTACH;FMTTYPE=image/jpeg:https://ladera.org/wp-content/uploads/2023/03/Choir-Rehearsal.jpg
ORGANIZER;CN="Ladera Church":MAILTO:church@ladera.org
END:VEVENT
BEGIN:VEVENT
DTSTART;TZID=America/Los_Angeles:20260208T093000
DTEND;TZID=America/Los_Angeles:20260208T103000
DTSTAMP:20260425T074020
CREATED:20241023T195434Z
LAST-MODIFIED:20260319T162123Z
UID:10000563-1770543000-1770546600@ladera.org
SUMMARY:Worship Service
DESCRIPTION:Worship is the heart of our community life. Sunday worship begins at 9:30 a.m. in the sanctuary and online via Zoom. All ages are invited. LCC worship is a joyful celebration of God’s presence among us. We find inspiration\, renewal\, and refreshment through song and silence\, prayer\, and reflection. We seek to integrate the arts – music\, drama\, and visual – to enrich the worship experience. Worship continues in the many ways we seek\, serve\, and grow in the world. \n\nWe serve communion on the first Sunday of every month. All are welcome to the table!\n\n  \nJoin us on Zoom \nID: 829 2023 8953\nPasscode: Sunday
URL:https://ladera.org/event/weekly-worship-service-2-2-2-5-2-2-2/2026-02-08/
LOCATION:LCC: Sanctuary\, 3300 Alpine Road\, Portola Valley\, CA\, 94028\, United States
CATEGORIES:Find Connection,Look Deeper,Quiet the Noise
ATTACH;FMTTYPE=image/jpeg:https://ladera.org/wp-content/uploads/2024/10/unnamed-11.jpg
END:VEVENT
BEGIN:VEVENT
DTSTART;TZID=America/Los_Angeles:20260208T173000
DTEND;TZID=America/Los_Angeles:20260208T213000
DTSTAMP:20260425T074020
CREATED:20251104T170042Z
LAST-MODIFIED:20260303T170423Z
UID:10015124-1770571800-1770586200@ladera.org
SUMMARY:Stanford Quads
DESCRIPTION:Modern square dancing is a recreation enjoyed by people of all ages in the United States and around the world.  We dance the Plus program utilizing All Position Dancing.  We often have an A2 or C1 star tip at the end of the evening.  All Plus dancers are welcome to join us for an evening of dancing.  Square dance attire is not needed.  Masks are optional. \n\nThe weekly schedule is:\n       Review: 6:00-6:30 pm\n\n\n\n\n\n\n\n\n\n       Class: 6:30-8:30 pm\n\n\n\n\n\n\n\n\n\n\n\n\n\n\n\n\n       Plus: 8:30-9:00 pm\n\n\n\n\n\n\n\n\n\n\n\n\n\n\n\n\n\n       Star tips: 9:00-9:30 pm \n\n\n\n\n\n\n\n\n\n\nThe cost is $10 per session.  We start a beginner’s class every fall in October.
URL:https://ladera.org/event/stanford-quads-2-2-2-2-2-2-2-2/2026-02-08/
LOCATION:LCC: Peabody Hall\, 3300 Alpine Road\, Portola Valley\, CA\, 94028
CATEGORIES:Facility Use,Find Connection
ATTACH;FMTTYPE=image/jpeg:https://ladera.org/wp-content/uploads/2022/10/squre-dancing.jpeg
END:VEVENT
BEGIN:VEVENT
DTSTART;TZID=America/Los_Angeles:20260209T190000
DTEND;TZID=America/Los_Angeles:20260209T210000
DTSTAMP:20260425T074020
CREATED:20221005T213350Z
LAST-MODIFIED:20240108T165955Z
UID:10000922-1770663600-1770670800@ladera.org
SUMMARY:AA
DESCRIPTION:
URL:https://ladera.org/event/aa/2026-02-09/
LOCATION:LCC: Peabody Hall\, 3300 Alpine Road\, Portola Valley\, CA\, 94028
CATEGORIES:Find Connection,Look Deeper
ORGANIZER;CN="Ladera Church":MAILTO:church@ladera.org
END:VEVENT
BEGIN:VEVENT
DTSTART;TZID=America/Los_Angeles:20260212T193000
DTEND;TZID=America/Los_Angeles:20260212T210000
DTSTAMP:20260425T074020
CREATED:20250403T171119Z
LAST-MODIFIED:20260422T062849Z
UID:10012873-1770924600-1770930000@ladera.org
SUMMARY:LCC Choir Rehearsal
DESCRIPTION:Ladera Community Church weekly choir rehearsal.
URL:https://ladera.org/event/lcc-choir-rehearsal-6/2026-02-12/
LOCATION:LCC: Sanctuary\, 3300 Alpine Road\, Portola Valley\, CA\, 94028\, United States
CATEGORIES:Find Connection
ATTACH;FMTTYPE=image/jpeg:https://ladera.org/wp-content/uploads/2023/03/Choir-Rehearsal.jpg
ORGANIZER;CN="Ladera Church":MAILTO:church@ladera.org
END:VEVENT
BEGIN:VEVENT
DTSTART;TZID=America/Los_Angeles:20260215T093000
DTEND;TZID=America/Los_Angeles:20260215T103000
DTSTAMP:20260425T074020
CREATED:20241023T195434Z
LAST-MODIFIED:20260319T162123Z
UID:10000564-1771147800-1771151400@ladera.org
SUMMARY:Worship Service
DESCRIPTION:Worship is the heart of our community life. Sunday worship begins at 9:30 a.m. in the sanctuary and online via Zoom. All ages are invited. LCC worship is a joyful celebration of God’s presence among us. We find inspiration\, renewal\, and refreshment through song and silence\, prayer\, and reflection. We seek to integrate the arts – music\, drama\, and visual – to enrich the worship experience. Worship continues in the many ways we seek\, serve\, and grow in the world. \n\nWe serve communion on the first Sunday of every month. All are welcome to the table!\n\n  \nJoin us on Zoom \nID: 829 2023 8953\nPasscode: Sunday
URL:https://ladera.org/event/weekly-worship-service-2-2-2-5-2-2-2/2026-02-15/
LOCATION:LCC: Sanctuary\, 3300 Alpine Road\, Portola Valley\, CA\, 94028\, United States
CATEGORIES:Find Connection,Look Deeper,Quiet the Noise
ATTACH;FMTTYPE=image/jpeg:https://ladera.org/wp-content/uploads/2024/10/unnamed-11.jpg
END:VEVENT
BEGIN:VEVENT
DTSTART;TZID=America/Los_Angeles:20260215T173000
DTEND;TZID=America/Los_Angeles:20260215T213000
DTSTAMP:20260425T074020
CREATED:20251104T170042Z
LAST-MODIFIED:20260303T170423Z
UID:10015125-1771176600-1771191000@ladera.org
SUMMARY:Stanford Quads
DESCRIPTION:Modern square dancing is a recreation enjoyed by people of all ages in the United States and around the world.  We dance the Plus program utilizing All Position Dancing.  We often have an A2 or C1 star tip at the end of the evening.  All Plus dancers are welcome to join us for an evening of dancing.  Square dance attire is not needed.  Masks are optional. \n\nThe weekly schedule is:\n       Review: 6:00-6:30 pm\n\n\n\n\n\n\n\n\n\n       Class: 6:30-8:30 pm\n\n\n\n\n\n\n\n\n\n\n\n\n\n\n\n\n       Plus: 8:30-9:00 pm\n\n\n\n\n\n\n\n\n\n\n\n\n\n\n\n\n\n       Star tips: 9:00-9:30 pm \n\n\n\n\n\n\n\n\n\n\nThe cost is $10 per session.  We start a beginner’s class every fall in October.
URL:https://ladera.org/event/stanford-quads-2-2-2-2-2-2-2-2/2026-02-15/
LOCATION:LCC: Peabody Hall\, 3300 Alpine Road\, Portola Valley\, CA\, 94028
CATEGORIES:Facility Use,Find Connection
ATTACH;FMTTYPE=image/jpeg:https://ladera.org/wp-content/uploads/2022/10/squre-dancing.jpeg
END:VEVENT
BEGIN:VEVENT
DTSTART;TZID=America/Los_Angeles:20260216T190000
DTEND;TZID=America/Los_Angeles:20260216T210000
DTSTAMP:20260425T074020
CREATED:20221005T213350Z
LAST-MODIFIED:20240108T165955Z
UID:10000923-1771268400-1771275600@ladera.org
SUMMARY:AA
DESCRIPTION:
URL:https://ladera.org/event/aa/2026-02-16/
LOCATION:LCC: Peabody Hall\, 3300 Alpine Road\, Portola Valley\, CA\, 94028
CATEGORIES:Find Connection,Look Deeper
ORGANIZER;CN="Ladera Church":MAILTO:church@ladera.org
END:VEVENT
BEGIN:VEVENT
DTSTART;TZID=America/Los_Angeles:20260218T130000
DTEND;TZID=America/Los_Angeles:20260218T134500
DTSTAMP:20260425T074020
CREATED:20251029T203933Z
LAST-MODIFIED:20251125T184241Z
UID:10014995-1771419600-1771422300@ladera.org
SUMMARY:Community Support & Meditation
DESCRIPTION:Join in community for fellowship time to enjoy snacks and conversation after the community support program.
URL:https://ladera.org/event/community-support-program-fellowship-time-2/2026-02-18/
LOCATION:LCC: Peabody Hall\, 3300 Alpine Road\, Portola Valley\, CA\, 94028
CATEGORIES:Find Connection
ATTACH;FMTTYPE=image/jpeg:https://ladera.org/wp-content/uploads/2025/06/Community-Support-Program-16-x-6-in.jpg
ORGANIZER;CN="Ladera Church":MAILTO:church@ladera.org
END:VEVENT
BEGIN:VEVENT
DTSTART;TZID=America/Los_Angeles:20260219T193000
DTEND;TZID=America/Los_Angeles:20260219T210000
DTSTAMP:20260425T074020
CREATED:20250403T171119Z
LAST-MODIFIED:20260422T062849Z
UID:10012874-1771529400-1771534800@ladera.org
SUMMARY:LCC Choir Rehearsal
DESCRIPTION:Ladera Community Church weekly choir rehearsal.
URL:https://ladera.org/event/lcc-choir-rehearsal-6/2026-02-19/
LOCATION:LCC: Sanctuary\, 3300 Alpine Road\, Portola Valley\, CA\, 94028\, United States
CATEGORIES:Find Connection
ATTACH;FMTTYPE=image/jpeg:https://ladera.org/wp-content/uploads/2023/03/Choir-Rehearsal.jpg
ORGANIZER;CN="Ladera Church":MAILTO:church@ladera.org
END:VEVENT
BEGIN:VEVENT
DTSTART;TZID=America/Los_Angeles:20260222T093000
DTEND;TZID=America/Los_Angeles:20260222T103000
DTSTAMP:20260425T074020
CREATED:20241023T195434Z
LAST-MODIFIED:20260319T162123Z
UID:10000565-1771752600-1771756200@ladera.org
SUMMARY:Worship Service
DESCRIPTION:Worship is the heart of our community life. Sunday worship begins at 9:30 a.m. in the sanctuary and online via Zoom. All ages are invited. LCC worship is a joyful celebration of God’s presence among us. We find inspiration\, renewal\, and refreshment through song and silence\, prayer\, and reflection. We seek to integrate the arts – music\, drama\, and visual – to enrich the worship experience. Worship continues in the many ways we seek\, serve\, and grow in the world. \n\nWe serve communion on the first Sunday of every month. All are welcome to the table!\n\n  \nJoin us on Zoom \nID: 829 2023 8953\nPasscode: Sunday
URL:https://ladera.org/event/weekly-worship-service-2-2-2-5-2-2-2/2026-02-22/
LOCATION:LCC: Sanctuary\, 3300 Alpine Road\, Portola Valley\, CA\, 94028\, United States
CATEGORIES:Find Connection,Look Deeper,Quiet the Noise
ATTACH;FMTTYPE=image/jpeg:https://ladera.org/wp-content/uploads/2024/10/unnamed-11.jpg
END:VEVENT
BEGIN:VEVENT
DTSTART;TZID=America/Los_Angeles:20260222T140000
DTEND;TZID=America/Los_Angeles:20260222T163000
DTSTAMP:20260425T074020
CREATED:20260212T204611Z
LAST-MODIFIED:20260212T204803Z
UID:10015842-1771768800-1771777800@ladera.org
SUMMARY:Teatro Visión Performance: No llegamos aquí solos
DESCRIPTION:Join Reverend Evelyn and members of our congregation on Sunday\, February 22 for a performance of No llegamos aquí solos by Yosimar Reyes\, Santa Clara County Poet Laureate\, directed by Rodrigo García\, with original music by Iván Flores of Discos Resaca. \nThis world premiere of the new play was created in collaboration with community members in East San José. The play follows Ignacio\, who interrupts his Mamá Doña’s 85th birthday to organize his neighbors in preparation for an ICE raid and learns a profound lesson about caring for community. \nRooted in stories from East San José\, this production blends poetry and community-based theater. After the performance\, stay for a discussion with the playwright and director about their creative process. Click here to purchase tickets. \nMexican Heritage Plaza\n1700 Alum Rock Ave.\nSan José\, CA 95116
URL:https://ladera.org/event/teatro-vision-performance-no-llegamos-aqui-solos/
LOCATION:Mexican Heritage Plaza Theater\, 1700 Alum Rock Ave\, San José\, CA\, 95116\, United States
CATEGORIES:Find Connection
ATTACH;FMTTYPE=image/png:https://ladera.org/wp-content/uploads/2026/02/Screenshot-2026-02-12-at-12.42.19-PM.png
ORGANIZER;CN="Ladera Church":MAILTO:church@ladera.org
END:VEVENT
BEGIN:VEVENT
DTSTART;TZID=America/Los_Angeles:20260222T173000
DTEND;TZID=America/Los_Angeles:20260222T213000
DTSTAMP:20260425T074020
CREATED:20251104T170042Z
LAST-MODIFIED:20260303T170423Z
UID:10015126-1771781400-1771795800@ladera.org
SUMMARY:Stanford Quads
DESCRIPTION:Modern square dancing is a recreation enjoyed by people of all ages in the United States and around the world.  We dance the Plus program utilizing All Position Dancing.  We often have an A2 or C1 star tip at the end of the evening.  All Plus dancers are welcome to join us for an evening of dancing.  Square dance attire is not needed.  Masks are optional. \n\nThe weekly schedule is:\n       Review: 6:00-6:30 pm\n\n\n\n\n\n\n\n\n\n       Class: 6:30-8:30 pm\n\n\n\n\n\n\n\n\n\n\n\n\n\n\n\n\n       Plus: 8:30-9:00 pm\n\n\n\n\n\n\n\n\n\n\n\n\n\n\n\n\n\n       Star tips: 9:00-9:30 pm \n\n\n\n\n\n\n\n\n\n\nThe cost is $10 per session.  We start a beginner’s class every fall in October.
URL:https://ladera.org/event/stanford-quads-2-2-2-2-2-2-2-2/2026-02-22/
LOCATION:LCC: Peabody Hall\, 3300 Alpine Road\, Portola Valley\, CA\, 94028
CATEGORIES:Facility Use,Find Connection
ATTACH;FMTTYPE=image/jpeg:https://ladera.org/wp-content/uploads/2022/10/squre-dancing.jpeg
END:VEVENT
BEGIN:VEVENT
DTSTART;TZID=America/Los_Angeles:20260223T190000
DTEND;TZID=America/Los_Angeles:20260223T210000
DTSTAMP:20260425T074020
CREATED:20221005T213350Z
LAST-MODIFIED:20240108T165955Z
UID:10000924-1771873200-1771880400@ladera.org
SUMMARY:AA
DESCRIPTION:
URL:https://ladera.org/event/aa/2026-02-23/
LOCATION:LCC: Peabody Hall\, 3300 Alpine Road\, Portola Valley\, CA\, 94028
CATEGORIES:Find Connection,Look Deeper
ORGANIZER;CN="Ladera Church":MAILTO:church@ladera.org
END:VEVENT
BEGIN:VEVENT
DTSTART;TZID=America/Los_Angeles:20260226T193000
DTEND;TZID=America/Los_Angeles:20260226T210000
DTSTAMP:20260425T074020
CREATED:20250403T171119Z
LAST-MODIFIED:20260422T062849Z
UID:10012875-1772134200-1772139600@ladera.org
SUMMARY:LCC Choir Rehearsal
DESCRIPTION:Ladera Community Church weekly choir rehearsal.
URL:https://ladera.org/event/lcc-choir-rehearsal-6/2026-02-26/
LOCATION:LCC: Sanctuary\, 3300 Alpine Road\, Portola Valley\, CA\, 94028\, United States
CATEGORIES:Find Connection
ATTACH;FMTTYPE=image/jpeg:https://ladera.org/wp-content/uploads/2023/03/Choir-Rehearsal.jpg
ORGANIZER;CN="Ladera Church":MAILTO:church@ladera.org
END:VEVENT
BEGIN:VEVENT
DTSTART;TZID=America/Los_Angeles:20260301T093000
DTEND;TZID=America/Los_Angeles:20260301T103000
DTSTAMP:20260425T074020
CREATED:20241023T195434Z
LAST-MODIFIED:20260319T162123Z
UID:10000566-1772357400-1772361000@ladera.org
SUMMARY:Worship Service
DESCRIPTION:Worship is the heart of our community life. Sunday worship begins at 9:30 a.m. in the sanctuary and online via Zoom. All ages are invited. LCC worship is a joyful celebration of God’s presence among us. We find inspiration\, renewal\, and refreshment through song and silence\, prayer\, and reflection. We seek to integrate the arts – music\, drama\, and visual – to enrich the worship experience. Worship continues in the many ways we seek\, serve\, and grow in the world. \n\nWe serve communion on the first Sunday of every month. All are welcome to the table!\n\n  \nJoin us on Zoom \nID: 829 2023 8953\nPasscode: Sunday
URL:https://ladera.org/event/weekly-worship-service-2-2-2-5-2-2-2/2026-03-01/
LOCATION:LCC: Sanctuary\, 3300 Alpine Road\, Portola Valley\, CA\, 94028\, United States
CATEGORIES:Find Connection,Look Deeper,Quiet the Noise
ATTACH;FMTTYPE=image/jpeg:https://ladera.org/wp-content/uploads/2024/10/unnamed-11.jpg
END:VEVENT
BEGIN:VEVENT
DTSTART;TZID=America/Los_Angeles:20260301T173000
DTEND;TZID=America/Los_Angeles:20260301T213000
DTSTAMP:20260425T074020
CREATED:20251104T170042Z
LAST-MODIFIED:20260303T170423Z
UID:10015470-1772386200-1772400600@ladera.org
SUMMARY:Stanford Quads
DESCRIPTION:Modern square dancing is a recreation enjoyed by people of all ages in the United States and around the world.  We dance the Plus program utilizing All Position Dancing.  We often have an A2 or C1 star tip at the end of the evening.  All Plus dancers are welcome to join us for an evening of dancing.  Square dance attire is not needed.  Masks are optional. \n\nThe weekly schedule is:\n       Review: 6:00-6:30 pm\n\n\n\n\n\n\n\n\n\n       Class: 6:30-8:30 pm\n\n\n\n\n\n\n\n\n\n\n\n\n\n\n\n\n       Plus: 8:30-9:00 pm\n\n\n\n\n\n\n\n\n\n\n\n\n\n\n\n\n\n       Star tips: 9:00-9:30 pm \n\n\n\n\n\n\n\n\n\n\nThe cost is $10 per session.  We start a beginner’s class every fall in October.
URL:https://ladera.org/event/stanford-quads-2-2-2-2-2-2-2-2/2026-03-01/
LOCATION:LCC: Peabody Hall\, 3300 Alpine Road\, Portola Valley\, CA\, 94028
CATEGORIES:Facility Use,Find Connection
ATTACH;FMTTYPE=image/jpeg:https://ladera.org/wp-content/uploads/2022/10/squre-dancing.jpeg
END:VEVENT
BEGIN:VEVENT
DTSTART;TZID=America/Los_Angeles:20260302T190000
DTEND;TZID=America/Los_Angeles:20260302T210000
DTSTAMP:20260425T074020
CREATED:20221005T213350Z
LAST-MODIFIED:20240108T165955Z
UID:10000925-1772478000-1772485200@ladera.org
SUMMARY:AA
DESCRIPTION:
URL:https://ladera.org/event/aa/2026-03-02/
LOCATION:LCC: Peabody Hall\, 3300 Alpine Road\, Portola Valley\, CA\, 94028
CATEGORIES:Find Connection,Look Deeper
ORGANIZER;CN="Ladera Church":MAILTO:church@ladera.org
END:VEVENT
BEGIN:VEVENT
DTSTART;TZID=America/Los_Angeles:20260304T130000
DTEND;TZID=America/Los_Angeles:20260304T134500
DTSTAMP:20260425T074020
CREATED:20251029T203807Z
LAST-MODIFIED:20251125T190402Z
UID:10015056-1772629200-1772631900@ladera.org
SUMMARY:Community Support & Meditation
DESCRIPTION:Join in community for fellowship time to enjoy snacks and conversation after the community support program.
URL:https://ladera.org/event/community-support-program-fellowship-time/2026-03-04/
LOCATION:LCC: Peabody Hall\, 3300 Alpine Road\, Portola Valley\, CA\, 94028
CATEGORIES:Find Connection
ATTACH;FMTTYPE=image/jpeg:https://ladera.org/wp-content/uploads/2025/06/Community-Support-Program-16-x-6-in.jpg
ORGANIZER;CN="Ladera Church":MAILTO:church@ladera.org
END:VEVENT
BEGIN:VEVENT
DTSTART;TZID=America/Los_Angeles:20260305T180000
DTEND;TZID=America/Los_Angeles:20260305T190000
DTSTAMP:20260425T074020
CREATED:20260120T191931Z
LAST-MODIFIED:20260120T191931Z
UID:10015824-1772733600-1772737200@ladera.org
SUMMARY:Lenten Soup Supper
DESCRIPTION:Join us for our Lenten Soup Suppers\, held every other Thursday during the season of Lent. Gather for a simple meal of soup and bread\, enjoy good conversation\, and connect with our community in a warm\, welcoming setting. \nEveryone is welcome—come to share a dish or simply enjoy the fellowship.
URL:https://ladera.org/event/lenten-soup-supper-5/2026-03-05/
LOCATION:Ladera Church\, 3300 Alpine Road\, Portola Valley\, CA\, 94028\, United States
CATEGORIES:Find Connection
ATTACH;FMTTYPE=image/png:https://ladera.org/wp-content/uploads/2026/01/Lenten-soup-supper-banner.png
ORGANIZER;CN="Ladera Church":MAILTO:church@ladera.org
END:VEVENT
BEGIN:VEVENT
DTSTART;TZID=America/Los_Angeles:20260305T193000
DTEND;TZID=America/Los_Angeles:20260305T210000
DTSTAMP:20260425T074020
CREATED:20250403T171119Z
LAST-MODIFIED:20260422T062849Z
UID:10012876-1772739000-1772744400@ladera.org
SUMMARY:LCC Choir Rehearsal
DESCRIPTION:Ladera Community Church weekly choir rehearsal.
URL:https://ladera.org/event/lcc-choir-rehearsal-6/2026-03-05/
LOCATION:LCC: Sanctuary\, 3300 Alpine Road\, Portola Valley\, CA\, 94028\, United States
CATEGORIES:Find Connection
ATTACH;FMTTYPE=image/jpeg:https://ladera.org/wp-content/uploads/2023/03/Choir-Rehearsal.jpg
ORGANIZER;CN="Ladera Church":MAILTO:church@ladera.org
END:VEVENT
BEGIN:VEVENT
DTSTART;TZID=America/Los_Angeles:20260308T093000
DTEND;TZID=America/Los_Angeles:20260308T103000
DTSTAMP:20260425T074020
CREATED:20241023T195434Z
LAST-MODIFIED:20260319T162123Z
UID:10000567-1772962200-1772965800@ladera.org
SUMMARY:Worship Service
DESCRIPTION:Worship is the heart of our community life. Sunday worship begins at 9:30 a.m. in the sanctuary and online via Zoom. All ages are invited. LCC worship is a joyful celebration of God’s presence among us. We find inspiration\, renewal\, and refreshment through song and silence\, prayer\, and reflection. We seek to integrate the arts – music\, drama\, and visual – to enrich the worship experience. Worship continues in the many ways we seek\, serve\, and grow in the world. \n\nWe serve communion on the first Sunday of every month. All are welcome to the table!\n\n  \nJoin us on Zoom \nID: 829 2023 8953\nPasscode: Sunday
URL:https://ladera.org/event/weekly-worship-service-2-2-2-5-2-2-2/2026-03-08/
LOCATION:LCC: Sanctuary\, 3300 Alpine Road\, Portola Valley\, CA\, 94028\, United States
CATEGORIES:Find Connection,Look Deeper,Quiet the Noise
ATTACH;FMTTYPE=image/jpeg:https://ladera.org/wp-content/uploads/2024/10/unnamed-11.jpg
END:VEVENT
BEGIN:VEVENT
DTSTART;TZID=America/Los_Angeles:20260308T140000
DTEND;TZID=America/Los_Angeles:20260308T160000
DTSTAMP:20260425T074020
CREATED:20260127T152630Z
LAST-MODIFIED:20260127T152630Z
UID:10015833-1772978400-1772985600@ladera.org
SUMMARY:Wine Tasting - Everyday Reds
DESCRIPTION:Wine tasting events are LCC are fun\, educational and social. This is our third year hosting wine tasting events at the church. In the past\, we have focused on different wine regions around the world. This year we want to focus on your favorite wines. Come and join us for a fun afternoon of great fellowship and good wine. \nWe can’t always open that delicious\, 10-year-old bottle of Cabernet or Brunello every night. What red wines do you enjoy with your steak or pasta? Do you like a red blend\, a pinot noir or a different varietal? Share your favorite bottle of inexpensive red wine with us. \nJoin Us! If you would like to attend\, please bring either a bottle of wine or snacks to share with the group. Please RSVP a week before the event so we know how many people are coming. \nAll events are at Ladera Community Church.
URL:https://ladera.org/event/wine-tasting-everyday-reds/
LOCATION:Ladera Church\, 3300 Alpine Road\, Portola Valley\, CA\, 94028\, United States
CATEGORIES:Find Connection
ATTACH;FMTTYPE=image/jpeg:https://ladera.org/wp-content/uploads/2026/01/Red-wine.jpg
ORGANIZER;CN="Ladera Church":MAILTO:church@ladera.org
END:VEVENT
END:VCALENDAR