BEGIN:VCALENDAR
VERSION:2.0
PRODID:-//Ladera Community Church - ECPv6.15.20//NONSGML v1.0//EN
CALSCALE:GREGORIAN
METHOD:PUBLISH
X-ORIGINAL-URL:https://ladera.org
X-WR-CALDESC:Events for Ladera Community Church
REFRESH-INTERVAL;VALUE=DURATION:PT1H
X-Robots-Tag:noindex
X-PUBLISHED-TTL:PT1H
BEGIN:VTIMEZONE
TZID:America/Los_Angeles
BEGIN:DAYLIGHT
TZOFFSETFROM:-0800
TZOFFSETTO:-0700
TZNAME:PDT
DTSTART:20250309T100000
END:DAYLIGHT
BEGIN:STANDARD
TZOFFSETFROM:-0700
TZOFFSETTO:-0800
TZNAME:PST
DTSTART:20251102T090000
END:STANDARD
BEGIN:DAYLIGHT
TZOFFSETFROM:-0800
TZOFFSETTO:-0700
TZNAME:PDT
DTSTART:20260308T100000
END:DAYLIGHT
BEGIN:STANDARD
TZOFFSETFROM:-0700
TZOFFSETTO:-0800
TZNAME:PST
DTSTART:20261101T090000
END:STANDARD
BEGIN:DAYLIGHT
TZOFFSETFROM:-0800
TZOFFSETTO:-0700
TZNAME:PDT
DTSTART:20270314T100000
END:DAYLIGHT
BEGIN:STANDARD
TZOFFSETFROM:-0700
TZOFFSETTO:-0800
TZNAME:PST
DTSTART:20271107T090000
END:STANDARD
END:VTIMEZONE
BEGIN:VEVENT
DTSTART;TZID=America/Los_Angeles:20260601T190000
DTEND;TZID=America/Los_Angeles:20260601T210000
DTSTAMP:20260425T033318
CREATED:20221005T213350Z
LAST-MODIFIED:20240108T165955Z
UID:10000938-1780340400-1780347600@ladera.org
SUMMARY:AA
DESCRIPTION:
URL:https://ladera.org/event/aa/2026-06-01/
LOCATION:LCC: Peabody Hall\, 3300 Alpine Road\, Portola Valley\, CA\, 94028
CATEGORIES:Find Connection,Look Deeper
ORGANIZER;CN="Ladera Church":MAILTO:church@ladera.org
END:VEVENT
BEGIN:VEVENT
DTSTART;TZID=America/Los_Angeles:20260603T130000
DTEND;TZID=America/Los_Angeles:20260603T134500
DTSTAMP:20260425T033318
CREATED:20251029T203807Z
LAST-MODIFIED:20251125T190402Z
UID:10015059-1780491600-1780494300@ladera.org
SUMMARY:Community Support & Meditation
DESCRIPTION:Join in community for fellowship time to enjoy snacks and conversation after the community support program.
URL:https://ladera.org/event/community-support-program-fellowship-time/2026-06-03/
LOCATION:LCC: Peabody Hall\, 3300 Alpine Road\, Portola Valley\, CA\, 94028
CATEGORIES:Find Connection
ATTACH;FMTTYPE=image/jpeg:https://ladera.org/wp-content/uploads/2025/06/Community-Support-Program-16-x-6-in.jpg
ORGANIZER;CN="Ladera Church":MAILTO:church@ladera.org
END:VEVENT
BEGIN:VEVENT
DTSTART;TZID=America/Los_Angeles:20260604T193000
DTEND;TZID=America/Los_Angeles:20260604T210000
DTSTAMP:20260425T033318
CREATED:20250403T171119Z
LAST-MODIFIED:20260422T062849Z
UID:10012889-1780601400-1780606800@ladera.org
SUMMARY:LCC Choir Rehearsal
DESCRIPTION:Ladera Community Church weekly choir rehearsal.
URL:https://ladera.org/event/lcc-choir-rehearsal-6/2026-06-04/
LOCATION:LCC: Sanctuary\, 3300 Alpine Road\, Portola Valley\, CA\, 94028\, United States
CATEGORIES:Find Connection
ATTACH;FMTTYPE=image/jpeg:https://ladera.org/wp-content/uploads/2023/03/Choir-Rehearsal.jpg
ORGANIZER;CN="Ladera Church":MAILTO:church@ladera.org
END:VEVENT
BEGIN:VEVENT
DTSTART;TZID=America/Los_Angeles:20260607T093000
DTEND;TZID=America/Los_Angeles:20260607T103000
DTSTAMP:20260425T033318
CREATED:20241023T195434Z
LAST-MODIFIED:20260319T162123Z
UID:10000580-1780824600-1780828200@ladera.org
SUMMARY:Worship Service
DESCRIPTION:Worship is the heart of our community life. Sunday worship begins at 9:30 a.m. in the sanctuary and online via Zoom. All ages are invited. LCC worship is a joyful celebration of God’s presence among us. We find inspiration\, renewal\, and refreshment through song and silence\, prayer\, and reflection. We seek to integrate the arts – music\, drama\, and visual – to enrich the worship experience. Worship continues in the many ways we seek\, serve\, and grow in the world. \n\nWe serve communion on the first Sunday of every month. All are welcome to the table!\n\n  \nJoin us on Zoom \nID: 829 2023 8953\nPasscode: Sunday
URL:https://ladera.org/event/weekly-worship-service-2-2-2-5-2-2-2/2026-06-07/
LOCATION:LCC: Sanctuary\, 3300 Alpine Road\, Portola Valley\, CA\, 94028\, United States
CATEGORIES:Find Connection,Look Deeper,Quiet the Noise
ATTACH;FMTTYPE=image/jpeg:https://ladera.org/wp-content/uploads/2024/10/unnamed-11.jpg
END:VEVENT
BEGIN:VEVENT
DTSTART;TZID=America/Los_Angeles:20260607T180000
DTEND;TZID=America/Los_Angeles:20260607T213000
DTSTAMP:20260425T033318
CREATED:20260425T014540Z
LAST-MODIFIED:20260425T014542Z
UID:10015977-1780855200-1780867800@ladera.org
SUMMARY:Stanford Quads
DESCRIPTION:Modern square dancing is a recreation enjoyed by people of all ages in the United States and around the world.  We dance the Plus program utilizing All Position Dancing.  We often have an A2 or C1 star tip at the end of the evening.  All Plus dancers are welcome to join us for an evening of dancing.  Square dance attire is not needed.  Masks are optional. \n\nThe weekly schedule is:\n\n\n\n\n\n\n\n\n\n       Class: 6:30-8:30 pm\n\n\n\n\n\n\n\n\n\n\n\n\n\n\n\n\n       Plus: 8:30-9:00 pm\n\n\n\n\n\n\n\n\n\n\n\n\n\n\n\n\n\n       Star tips: 9:00-9:30 pm \n\n\n\n\n\n\n\n\n\n\nThe cost is $10 per session.  We start a beginner’s class every fall in October.
URL:https://ladera.org/event/stanford-quads-2-2-2-2-2-2-2-2-2/2026-06-07/
LOCATION:LCC: Peabody Hall\, 3300 Alpine Road\, Portola Valley\, CA\, 94028
CATEGORIES:Facility Use,Find Connection
ATTACH;FMTTYPE=image/jpeg:https://ladera.org/wp-content/uploads/2022/10/squre-dancing.jpeg
END:VEVENT
BEGIN:VEVENT
DTSTART;TZID=America/Los_Angeles:20260608T190000
DTEND;TZID=America/Los_Angeles:20260608T210000
DTSTAMP:20260425T033318
CREATED:20221005T213350Z
LAST-MODIFIED:20240108T165955Z
UID:10000939-1780945200-1780952400@ladera.org
SUMMARY:AA
DESCRIPTION:
URL:https://ladera.org/event/aa/2026-06-08/
LOCATION:LCC: Peabody Hall\, 3300 Alpine Road\, Portola Valley\, CA\, 94028
CATEGORIES:Find Connection,Look Deeper
ORGANIZER;CN="Ladera Church":MAILTO:church@ladera.org
END:VEVENT
BEGIN:VEVENT
DTSTART;TZID=America/Los_Angeles:20260614T093000
DTEND;TZID=America/Los_Angeles:20260614T103000
DTSTAMP:20260425T033318
CREATED:20241023T195434Z
LAST-MODIFIED:20260319T162123Z
UID:10000581-1781429400-1781433000@ladera.org
SUMMARY:Worship Service
DESCRIPTION:Worship is the heart of our community life. Sunday worship begins at 9:30 a.m. in the sanctuary and online via Zoom. All ages are invited. LCC worship is a joyful celebration of God’s presence among us. We find inspiration\, renewal\, and refreshment through song and silence\, prayer\, and reflection. We seek to integrate the arts – music\, drama\, and visual – to enrich the worship experience. Worship continues in the many ways we seek\, serve\, and grow in the world. \n\nWe serve communion on the first Sunday of every month. All are welcome to the table!\n\n  \nJoin us on Zoom \nID: 829 2023 8953\nPasscode: Sunday
URL:https://ladera.org/event/weekly-worship-service-2-2-2-5-2-2-2/2026-06-14/
LOCATION:LCC: Sanctuary\, 3300 Alpine Road\, Portola Valley\, CA\, 94028\, United States
CATEGORIES:Find Connection,Look Deeper,Quiet the Noise
ATTACH;FMTTYPE=image/jpeg:https://ladera.org/wp-content/uploads/2024/10/unnamed-11.jpg
END:VEVENT
BEGIN:VEVENT
DTSTART;TZID=America/Los_Angeles:20260614T180000
DTEND;TZID=America/Los_Angeles:20260614T213000
DTSTAMP:20260425T033318
CREATED:20260425T014540Z
LAST-MODIFIED:20260425T014542Z
UID:10015978-1781460000-1781472600@ladera.org
SUMMARY:Stanford Quads
DESCRIPTION:Modern square dancing is a recreation enjoyed by people of all ages in the United States and around the world.  We dance the Plus program utilizing All Position Dancing.  We often have an A2 or C1 star tip at the end of the evening.  All Plus dancers are welcome to join us for an evening of dancing.  Square dance attire is not needed.  Masks are optional. \n\nThe weekly schedule is:\n\n\n\n\n\n\n\n\n\n       Class: 6:30-8:30 pm\n\n\n\n\n\n\n\n\n\n\n\n\n\n\n\n\n       Plus: 8:30-9:00 pm\n\n\n\n\n\n\n\n\n\n\n\n\n\n\n\n\n\n       Star tips: 9:00-9:30 pm \n\n\n\n\n\n\n\n\n\n\nThe cost is $10 per session.  We start a beginner’s class every fall in October.
URL:https://ladera.org/event/stanford-quads-2-2-2-2-2-2-2-2-2/2026-06-14/
LOCATION:LCC: Peabody Hall\, 3300 Alpine Road\, Portola Valley\, CA\, 94028
CATEGORIES:Facility Use,Find Connection
ATTACH;FMTTYPE=image/jpeg:https://ladera.org/wp-content/uploads/2022/10/squre-dancing.jpeg
END:VEVENT
BEGIN:VEVENT
DTSTART;TZID=America/Los_Angeles:20260615T190000
DTEND;TZID=America/Los_Angeles:20260615T210000
DTSTAMP:20260425T033318
CREATED:20221005T213350Z
LAST-MODIFIED:20240108T165955Z
UID:10000940-1781550000-1781557200@ladera.org
SUMMARY:AA
DESCRIPTION:
URL:https://ladera.org/event/aa/2026-06-15/
LOCATION:LCC: Peabody Hall\, 3300 Alpine Road\, Portola Valley\, CA\, 94028
CATEGORIES:Find Connection,Look Deeper
ORGANIZER;CN="Ladera Church":MAILTO:church@ladera.org
END:VEVENT
BEGIN:VEVENT
DTSTART;TZID=America/Los_Angeles:20260617T130000
DTEND;TZID=America/Los_Angeles:20260617T134500
DTSTAMP:20260425T033318
CREATED:20251029T203933Z
LAST-MODIFIED:20251125T184241Z
UID:10014999-1781701200-1781703900@ladera.org
SUMMARY:Community Support & Meditation
DESCRIPTION:Join in community for fellowship time to enjoy snacks and conversation after the community support program.
URL:https://ladera.org/event/community-support-program-fellowship-time-2/2026-06-17/
LOCATION:LCC: Peabody Hall\, 3300 Alpine Road\, Portola Valley\, CA\, 94028
CATEGORIES:Find Connection
ATTACH;FMTTYPE=image/jpeg:https://ladera.org/wp-content/uploads/2025/06/Community-Support-Program-16-x-6-in.jpg
ORGANIZER;CN="Ladera Church":MAILTO:church@ladera.org
END:VEVENT
BEGIN:VEVENT
DTSTART;TZID=America/Los_Angeles:20260621T093000
DTEND;TZID=America/Los_Angeles:20260621T103000
DTSTAMP:20260425T033318
CREATED:20241023T195434Z
LAST-MODIFIED:20260319T162123Z
UID:10000582-1782034200-1782037800@ladera.org
SUMMARY:Worship Service
DESCRIPTION:Worship is the heart of our community life. Sunday worship begins at 9:30 a.m. in the sanctuary and online via Zoom. All ages are invited. LCC worship is a joyful celebration of God’s presence among us. We find inspiration\, renewal\, and refreshment through song and silence\, prayer\, and reflection. We seek to integrate the arts – music\, drama\, and visual – to enrich the worship experience. Worship continues in the many ways we seek\, serve\, and grow in the world. \n\nWe serve communion on the first Sunday of every month. All are welcome to the table!\n\n  \nJoin us on Zoom \nID: 829 2023 8953\nPasscode: Sunday
URL:https://ladera.org/event/weekly-worship-service-2-2-2-5-2-2-2/2026-06-21/
LOCATION:LCC: Sanctuary\, 3300 Alpine Road\, Portola Valley\, CA\, 94028\, United States
CATEGORIES:Find Connection,Look Deeper,Quiet the Noise
ATTACH;FMTTYPE=image/jpeg:https://ladera.org/wp-content/uploads/2024/10/unnamed-11.jpg
END:VEVENT
BEGIN:VEVENT
DTSTART;TZID=America/Los_Angeles:20260621T180000
DTEND;TZID=America/Los_Angeles:20260621T213000
DTSTAMP:20260425T033318
CREATED:20260425T014540Z
LAST-MODIFIED:20260425T014542Z
UID:10015979-1782064800-1782077400@ladera.org
SUMMARY:Stanford Quads
DESCRIPTION:Modern square dancing is a recreation enjoyed by people of all ages in the United States and around the world.  We dance the Plus program utilizing All Position Dancing.  We often have an A2 or C1 star tip at the end of the evening.  All Plus dancers are welcome to join us for an evening of dancing.  Square dance attire is not needed.  Masks are optional. \n\nThe weekly schedule is:\n\n\n\n\n\n\n\n\n\n       Class: 6:30-8:30 pm\n\n\n\n\n\n\n\n\n\n\n\n\n\n\n\n\n       Plus: 8:30-9:00 pm\n\n\n\n\n\n\n\n\n\n\n\n\n\n\n\n\n\n       Star tips: 9:00-9:30 pm \n\n\n\n\n\n\n\n\n\n\nThe cost is $10 per session.  We start a beginner’s class every fall in October.
URL:https://ladera.org/event/stanford-quads-2-2-2-2-2-2-2-2-2/2026-06-21/
LOCATION:LCC: Peabody Hall\, 3300 Alpine Road\, Portola Valley\, CA\, 94028
CATEGORIES:Facility Use,Find Connection
ATTACH;FMTTYPE=image/jpeg:https://ladera.org/wp-content/uploads/2022/10/squre-dancing.jpeg
END:VEVENT
BEGIN:VEVENT
DTSTART;TZID=America/Los_Angeles:20260622T190000
DTEND;TZID=America/Los_Angeles:20260622T210000
DTSTAMP:20260425T033318
CREATED:20221005T213350Z
LAST-MODIFIED:20240108T165955Z
UID:10000941-1782154800-1782162000@ladera.org
SUMMARY:AA
DESCRIPTION:
URL:https://ladera.org/event/aa/2026-06-22/
LOCATION:LCC: Peabody Hall\, 3300 Alpine Road\, Portola Valley\, CA\, 94028
CATEGORIES:Find Connection,Look Deeper
ORGANIZER;CN="Ladera Church":MAILTO:church@ladera.org
END:VEVENT
BEGIN:VEVENT
DTSTART;TZID=America/Los_Angeles:20260628T093000
DTEND;TZID=America/Los_Angeles:20260628T103000
DTSTAMP:20260425T033318
CREATED:20241023T195434Z
LAST-MODIFIED:20260319T162123Z
UID:10000583-1782639000-1782642600@ladera.org
SUMMARY:Worship Service
DESCRIPTION:Worship is the heart of our community life. Sunday worship begins at 9:30 a.m. in the sanctuary and online via Zoom. All ages are invited. LCC worship is a joyful celebration of God’s presence among us. We find inspiration\, renewal\, and refreshment through song and silence\, prayer\, and reflection. We seek to integrate the arts – music\, drama\, and visual – to enrich the worship experience. Worship continues in the many ways we seek\, serve\, and grow in the world. \n\nWe serve communion on the first Sunday of every month. All are welcome to the table!\n\n  \nJoin us on Zoom \nID: 829 2023 8953\nPasscode: Sunday
URL:https://ladera.org/event/weekly-worship-service-2-2-2-5-2-2-2/2026-06-28/
LOCATION:LCC: Sanctuary\, 3300 Alpine Road\, Portola Valley\, CA\, 94028\, United States
CATEGORIES:Find Connection,Look Deeper,Quiet the Noise
ATTACH;FMTTYPE=image/jpeg:https://ladera.org/wp-content/uploads/2024/10/unnamed-11.jpg
END:VEVENT
BEGIN:VEVENT
DTSTART;TZID=America/Los_Angeles:20260628T180000
DTEND;TZID=America/Los_Angeles:20260628T213000
DTSTAMP:20260425T033318
CREATED:20260425T014540Z
LAST-MODIFIED:20260425T014542Z
UID:10015980-1782669600-1782682200@ladera.org
SUMMARY:Stanford Quads
DESCRIPTION:Modern square dancing is a recreation enjoyed by people of all ages in the United States and around the world.  We dance the Plus program utilizing All Position Dancing.  We often have an A2 or C1 star tip at the end of the evening.  All Plus dancers are welcome to join us for an evening of dancing.  Square dance attire is not needed.  Masks are optional. \n\nThe weekly schedule is:\n\n\n\n\n\n\n\n\n\n       Class: 6:30-8:30 pm\n\n\n\n\n\n\n\n\n\n\n\n\n\n\n\n\n       Plus: 8:30-9:00 pm\n\n\n\n\n\n\n\n\n\n\n\n\n\n\n\n\n\n       Star tips: 9:00-9:30 pm \n\n\n\n\n\n\n\n\n\n\nThe cost is $10 per session.  We start a beginner’s class every fall in October.
URL:https://ladera.org/event/stanford-quads-2-2-2-2-2-2-2-2-2/2026-06-28/
LOCATION:LCC: Peabody Hall\, 3300 Alpine Road\, Portola Valley\, CA\, 94028
CATEGORIES:Facility Use,Find Connection
ATTACH;FMTTYPE=image/jpeg:https://ladera.org/wp-content/uploads/2022/10/squre-dancing.jpeg
END:VEVENT
BEGIN:VEVENT
DTSTART;TZID=America/Los_Angeles:20260629T190000
DTEND;TZID=America/Los_Angeles:20260629T210000
DTSTAMP:20260425T033318
CREATED:20221005T213350Z
LAST-MODIFIED:20240108T165955Z
UID:10000942-1782759600-1782766800@ladera.org
SUMMARY:AA
DESCRIPTION:
URL:https://ladera.org/event/aa/2026-06-29/
LOCATION:LCC: Peabody Hall\, 3300 Alpine Road\, Portola Valley\, CA\, 94028
CATEGORIES:Find Connection,Look Deeper
ORGANIZER;CN="Ladera Church":MAILTO:church@ladera.org
END:VEVENT
BEGIN:VEVENT
DTSTART;TZID=America/Los_Angeles:20260701T130000
DTEND;TZID=America/Los_Angeles:20260701T134500
DTSTAMP:20260425T033318
CREATED:20251029T203807Z
LAST-MODIFIED:20251125T190402Z
UID:10015060-1782910800-1782913500@ladera.org
SUMMARY:Community Support & Meditation
DESCRIPTION:Join in community for fellowship time to enjoy snacks and conversation after the community support program.
URL:https://ladera.org/event/community-support-program-fellowship-time/2026-07-01/
LOCATION:LCC: Peabody Hall\, 3300 Alpine Road\, Portola Valley\, CA\, 94028
CATEGORIES:Find Connection
ATTACH;FMTTYPE=image/jpeg:https://ladera.org/wp-content/uploads/2025/06/Community-Support-Program-16-x-6-in.jpg
ORGANIZER;CN="Ladera Church":MAILTO:church@ladera.org
END:VEVENT
BEGIN:VEVENT
DTSTART;TZID=America/Los_Angeles:20260705T093000
DTEND;TZID=America/Los_Angeles:20260705T103000
DTSTAMP:20260425T033318
CREATED:20241023T195434Z
LAST-MODIFIED:20260319T162123Z
UID:10000584-1783243800-1783247400@ladera.org
SUMMARY:Worship Service
DESCRIPTION:Worship is the heart of our community life. Sunday worship begins at 9:30 a.m. in the sanctuary and online via Zoom. All ages are invited. LCC worship is a joyful celebration of God’s presence among us. We find inspiration\, renewal\, and refreshment through song and silence\, prayer\, and reflection. We seek to integrate the arts – music\, drama\, and visual – to enrich the worship experience. Worship continues in the many ways we seek\, serve\, and grow in the world. \n\nWe serve communion on the first Sunday of every month. All are welcome to the table!\n\n  \nJoin us on Zoom \nID: 829 2023 8953\nPasscode: Sunday
URL:https://ladera.org/event/weekly-worship-service-2-2-2-5-2-2-2/2026-07-05/
LOCATION:LCC: Sanctuary\, 3300 Alpine Road\, Portola Valley\, CA\, 94028\, United States
CATEGORIES:Find Connection,Look Deeper,Quiet the Noise
ATTACH;FMTTYPE=image/jpeg:https://ladera.org/wp-content/uploads/2024/10/unnamed-11.jpg
END:VEVENT
BEGIN:VEVENT
DTSTART;TZID=America/Los_Angeles:20260706T190000
DTEND;TZID=America/Los_Angeles:20260706T210000
DTSTAMP:20260425T033318
CREATED:20221005T213350Z
LAST-MODIFIED:20240108T165955Z
UID:10000943-1783364400-1783371600@ladera.org
SUMMARY:AA
DESCRIPTION:
URL:https://ladera.org/event/aa/2026-07-06/
LOCATION:LCC: Peabody Hall\, 3300 Alpine Road\, Portola Valley\, CA\, 94028
CATEGORIES:Find Connection,Look Deeper
ORGANIZER;CN="Ladera Church":MAILTO:church@ladera.org
END:VEVENT
BEGIN:VEVENT
DTSTART;TZID=America/Los_Angeles:20260712T093000
DTEND;TZID=America/Los_Angeles:20260712T103000
DTSTAMP:20260425T033318
CREATED:20241023T195434Z
LAST-MODIFIED:20260319T162123Z
UID:10000585-1783848600-1783852200@ladera.org
SUMMARY:Worship Service
DESCRIPTION:Worship is the heart of our community life. Sunday worship begins at 9:30 a.m. in the sanctuary and online via Zoom. All ages are invited. LCC worship is a joyful celebration of God’s presence among us. We find inspiration\, renewal\, and refreshment through song and silence\, prayer\, and reflection. We seek to integrate the arts – music\, drama\, and visual – to enrich the worship experience. Worship continues in the many ways we seek\, serve\, and grow in the world. \n\nWe serve communion on the first Sunday of every month. All are welcome to the table!\n\n  \nJoin us on Zoom \nID: 829 2023 8953\nPasscode: Sunday
URL:https://ladera.org/event/weekly-worship-service-2-2-2-5-2-2-2/2026-07-12/
LOCATION:LCC: Sanctuary\, 3300 Alpine Road\, Portola Valley\, CA\, 94028\, United States
CATEGORIES:Find Connection,Look Deeper,Quiet the Noise
ATTACH;FMTTYPE=image/jpeg:https://ladera.org/wp-content/uploads/2024/10/unnamed-11.jpg
END:VEVENT
BEGIN:VEVENT
DTSTART;TZID=America/Los_Angeles:20260712T180000
DTEND;TZID=America/Los_Angeles:20260712T213000
DTSTAMP:20260425T033318
CREATED:20260425T014540Z
LAST-MODIFIED:20260425T014542Z
UID:10015981-1783879200-1783891800@ladera.org
SUMMARY:Stanford Quads
DESCRIPTION:Modern square dancing is a recreation enjoyed by people of all ages in the United States and around the world.  We dance the Plus program utilizing All Position Dancing.  We often have an A2 or C1 star tip at the end of the evening.  All Plus dancers are welcome to join us for an evening of dancing.  Square dance attire is not needed.  Masks are optional. \n\nThe weekly schedule is:\n\n\n\n\n\n\n\n\n\n       Class: 6:30-8:30 pm\n\n\n\n\n\n\n\n\n\n\n\n\n\n\n\n\n       Plus: 8:30-9:00 pm\n\n\n\n\n\n\n\n\n\n\n\n\n\n\n\n\n\n       Star tips: 9:00-9:30 pm \n\n\n\n\n\n\n\n\n\n\nThe cost is $10 per session.  We start a beginner’s class every fall in October.
URL:https://ladera.org/event/stanford-quads-2-2-2-2-2-2-2-2-2/2026-07-12/
LOCATION:LCC: Peabody Hall\, 3300 Alpine Road\, Portola Valley\, CA\, 94028
CATEGORIES:Facility Use,Find Connection
ATTACH;FMTTYPE=image/jpeg:https://ladera.org/wp-content/uploads/2022/10/squre-dancing.jpeg
END:VEVENT
BEGIN:VEVENT
DTSTART;TZID=America/Los_Angeles:20260713T190000
DTEND;TZID=America/Los_Angeles:20260713T210000
DTSTAMP:20260425T033318
CREATED:20221005T213350Z
LAST-MODIFIED:20240108T165955Z
UID:10000944-1783969200-1783976400@ladera.org
SUMMARY:AA
DESCRIPTION:
URL:https://ladera.org/event/aa/2026-07-13/
LOCATION:LCC: Peabody Hall\, 3300 Alpine Road\, Portola Valley\, CA\, 94028
CATEGORIES:Find Connection,Look Deeper
ORGANIZER;CN="Ladera Church":MAILTO:church@ladera.org
END:VEVENT
BEGIN:VEVENT
DTSTART;TZID=America/Los_Angeles:20260715T130000
DTEND;TZID=America/Los_Angeles:20260715T134500
DTSTAMP:20260425T033318
CREATED:20251029T203933Z
LAST-MODIFIED:20251125T184241Z
UID:10015000-1784120400-1784123100@ladera.org
SUMMARY:Community Support & Meditation
DESCRIPTION:Join in community for fellowship time to enjoy snacks and conversation after the community support program.
URL:https://ladera.org/event/community-support-program-fellowship-time-2/2026-07-15/
LOCATION:LCC: Peabody Hall\, 3300 Alpine Road\, Portola Valley\, CA\, 94028
CATEGORIES:Find Connection
ATTACH;FMTTYPE=image/jpeg:https://ladera.org/wp-content/uploads/2025/06/Community-Support-Program-16-x-6-in.jpg
ORGANIZER;CN="Ladera Church":MAILTO:church@ladera.org
END:VEVENT
BEGIN:VEVENT
DTSTART;TZID=America/Los_Angeles:20260719T093000
DTEND;TZID=America/Los_Angeles:20260719T103000
DTSTAMP:20260425T033318
CREATED:20241023T195434Z
LAST-MODIFIED:20260319T162123Z
UID:10000586-1784453400-1784457000@ladera.org
SUMMARY:Worship Service
DESCRIPTION:Worship is the heart of our community life. Sunday worship begins at 9:30 a.m. in the sanctuary and online via Zoom. All ages are invited. LCC worship is a joyful celebration of God’s presence among us. We find inspiration\, renewal\, and refreshment through song and silence\, prayer\, and reflection. We seek to integrate the arts – music\, drama\, and visual – to enrich the worship experience. Worship continues in the many ways we seek\, serve\, and grow in the world. \n\nWe serve communion on the first Sunday of every month. All are welcome to the table!\n\n  \nJoin us on Zoom \nID: 829 2023 8953\nPasscode: Sunday
URL:https://ladera.org/event/weekly-worship-service-2-2-2-5-2-2-2/2026-07-19/
LOCATION:LCC: Sanctuary\, 3300 Alpine Road\, Portola Valley\, CA\, 94028\, United States
CATEGORIES:Find Connection,Look Deeper,Quiet the Noise
ATTACH;FMTTYPE=image/jpeg:https://ladera.org/wp-content/uploads/2024/10/unnamed-11.jpg
END:VEVENT
BEGIN:VEVENT
DTSTART;TZID=America/Los_Angeles:20260719T180000
DTEND;TZID=America/Los_Angeles:20260719T213000
DTSTAMP:20260425T033318
CREATED:20260425T014540Z
LAST-MODIFIED:20260425T014542Z
UID:10015982-1784484000-1784496600@ladera.org
SUMMARY:Stanford Quads
DESCRIPTION:Modern square dancing is a recreation enjoyed by people of all ages in the United States and around the world.  We dance the Plus program utilizing All Position Dancing.  We often have an A2 or C1 star tip at the end of the evening.  All Plus dancers are welcome to join us for an evening of dancing.  Square dance attire is not needed.  Masks are optional. \n\nThe weekly schedule is:\n\n\n\n\n\n\n\n\n\n       Class: 6:30-8:30 pm\n\n\n\n\n\n\n\n\n\n\n\n\n\n\n\n\n       Plus: 8:30-9:00 pm\n\n\n\n\n\n\n\n\n\n\n\n\n\n\n\n\n\n       Star tips: 9:00-9:30 pm \n\n\n\n\n\n\n\n\n\n\nThe cost is $10 per session.  We start a beginner’s class every fall in October.
URL:https://ladera.org/event/stanford-quads-2-2-2-2-2-2-2-2-2/2026-07-19/
LOCATION:LCC: Peabody Hall\, 3300 Alpine Road\, Portola Valley\, CA\, 94028
CATEGORIES:Facility Use,Find Connection
ATTACH;FMTTYPE=image/jpeg:https://ladera.org/wp-content/uploads/2022/10/squre-dancing.jpeg
END:VEVENT
BEGIN:VEVENT
DTSTART;TZID=America/Los_Angeles:20260720T190000
DTEND;TZID=America/Los_Angeles:20260720T210000
DTSTAMP:20260425T033318
CREATED:20221005T213350Z
LAST-MODIFIED:20240108T165955Z
UID:10000945-1784574000-1784581200@ladera.org
SUMMARY:AA
DESCRIPTION:
URL:https://ladera.org/event/aa/2026-07-20/
LOCATION:LCC: Peabody Hall\, 3300 Alpine Road\, Portola Valley\, CA\, 94028
CATEGORIES:Find Connection,Look Deeper
ORGANIZER;CN="Ladera Church":MAILTO:church@ladera.org
END:VEVENT
BEGIN:VEVENT
DTSTART;TZID=America/Los_Angeles:20260726T093000
DTEND;TZID=America/Los_Angeles:20260726T103000
DTSTAMP:20260425T033318
CREATED:20241023T195434Z
LAST-MODIFIED:20260319T162123Z
UID:10000587-1785058200-1785061800@ladera.org
SUMMARY:Worship Service
DESCRIPTION:Worship is the heart of our community life. Sunday worship begins at 9:30 a.m. in the sanctuary and online via Zoom. All ages are invited. LCC worship is a joyful celebration of God’s presence among us. We find inspiration\, renewal\, and refreshment through song and silence\, prayer\, and reflection. We seek to integrate the arts – music\, drama\, and visual – to enrich the worship experience. Worship continues in the many ways we seek\, serve\, and grow in the world. \n\nWe serve communion on the first Sunday of every month. All are welcome to the table!\n\n  \nJoin us on Zoom \nID: 829 2023 8953\nPasscode: Sunday
URL:https://ladera.org/event/weekly-worship-service-2-2-2-5-2-2-2/2026-07-26/
LOCATION:LCC: Sanctuary\, 3300 Alpine Road\, Portola Valley\, CA\, 94028\, United States
CATEGORIES:Find Connection,Look Deeper,Quiet the Noise
ATTACH;FMTTYPE=image/jpeg:https://ladera.org/wp-content/uploads/2024/10/unnamed-11.jpg
END:VEVENT
BEGIN:VEVENT
DTSTART;TZID=America/Los_Angeles:20260726T180000
DTEND;TZID=America/Los_Angeles:20260726T213000
DTSTAMP:20260425T033318
CREATED:20260425T014540Z
LAST-MODIFIED:20260425T014542Z
UID:10015983-1785088800-1785101400@ladera.org
SUMMARY:Stanford Quads
DESCRIPTION:Modern square dancing is a recreation enjoyed by people of all ages in the United States and around the world.  We dance the Plus program utilizing All Position Dancing.  We often have an A2 or C1 star tip at the end of the evening.  All Plus dancers are welcome to join us for an evening of dancing.  Square dance attire is not needed.  Masks are optional. \n\nThe weekly schedule is:\n\n\n\n\n\n\n\n\n\n       Class: 6:30-8:30 pm\n\n\n\n\n\n\n\n\n\n\n\n\n\n\n\n\n       Plus: 8:30-9:00 pm\n\n\n\n\n\n\n\n\n\n\n\n\n\n\n\n\n\n       Star tips: 9:00-9:30 pm \n\n\n\n\n\n\n\n\n\n\nThe cost is $10 per session.  We start a beginner’s class every fall in October.
URL:https://ladera.org/event/stanford-quads-2-2-2-2-2-2-2-2-2/2026-07-26/
LOCATION:LCC: Peabody Hall\, 3300 Alpine Road\, Portola Valley\, CA\, 94028
CATEGORIES:Facility Use,Find Connection
ATTACH;FMTTYPE=image/jpeg:https://ladera.org/wp-content/uploads/2022/10/squre-dancing.jpeg
END:VEVENT
BEGIN:VEVENT
DTSTART;TZID=America/Los_Angeles:20260727T190000
DTEND;TZID=America/Los_Angeles:20260727T210000
DTSTAMP:20260425T033318
CREATED:20221005T213350Z
LAST-MODIFIED:20240108T165955Z
UID:10000946-1785178800-1785186000@ladera.org
SUMMARY:AA
DESCRIPTION:
URL:https://ladera.org/event/aa/2026-07-27/
LOCATION:LCC: Peabody Hall\, 3300 Alpine Road\, Portola Valley\, CA\, 94028
CATEGORIES:Find Connection,Look Deeper
ORGANIZER;CN="Ladera Church":MAILTO:church@ladera.org
END:VEVENT
BEGIN:VEVENT
DTSTART;TZID=America/Los_Angeles:20260802T093000
DTEND;TZID=America/Los_Angeles:20260802T103000
DTSTAMP:20260425T033318
CREATED:20241023T195434Z
LAST-MODIFIED:20260319T162123Z
UID:10000588-1785663000-1785666600@ladera.org
SUMMARY:Worship Service
DESCRIPTION:Worship is the heart of our community life. Sunday worship begins at 9:30 a.m. in the sanctuary and online via Zoom. All ages are invited. LCC worship is a joyful celebration of God’s presence among us. We find inspiration\, renewal\, and refreshment through song and silence\, prayer\, and reflection. We seek to integrate the arts – music\, drama\, and visual – to enrich the worship experience. Worship continues in the many ways we seek\, serve\, and grow in the world. \n\nWe serve communion on the first Sunday of every month. All are welcome to the table!\n\n  \nJoin us on Zoom \nID: 829 2023 8953\nPasscode: Sunday
URL:https://ladera.org/event/weekly-worship-service-2-2-2-5-2-2-2/2026-08-02/
LOCATION:LCC: Sanctuary\, 3300 Alpine Road\, Portola Valley\, CA\, 94028\, United States
CATEGORIES:Find Connection,Look Deeper,Quiet the Noise
ATTACH;FMTTYPE=image/jpeg:https://ladera.org/wp-content/uploads/2024/10/unnamed-11.jpg
END:VEVENT
END:VCALENDAR