BEGIN:VCALENDAR
VERSION:2.0
PRODID:-//Ladera Community Church - ECPv6.15.20//NONSGML v1.0//EN
CALSCALE:GREGORIAN
METHOD:PUBLISH
X-WR-CALNAME:Ladera Community Church
X-ORIGINAL-URL:https://ladera.org
X-WR-CALDESC:Events for Ladera Community Church
REFRESH-INTERVAL;VALUE=DURATION:PT1H
X-Robots-Tag:noindex
X-PUBLISHED-TTL:PT1H
BEGIN:VTIMEZONE
TZID:America/Los_Angeles
BEGIN:DAYLIGHT
TZOFFSETFROM:-0800
TZOFFSETTO:-0700
TZNAME:PDT
DTSTART:20240310T100000
END:DAYLIGHT
BEGIN:STANDARD
TZOFFSETFROM:-0700
TZOFFSETTO:-0800
TZNAME:PST
DTSTART:20241103T090000
END:STANDARD
BEGIN:DAYLIGHT
TZOFFSETFROM:-0800
TZOFFSETTO:-0700
TZNAME:PDT
DTSTART:20250309T100000
END:DAYLIGHT
BEGIN:STANDARD
TZOFFSETFROM:-0700
TZOFFSETTO:-0800
TZNAME:PST
DTSTART:20251102T090000
END:STANDARD
BEGIN:DAYLIGHT
TZOFFSETFROM:-0800
TZOFFSETTO:-0700
TZNAME:PDT
DTSTART:20260308T100000
END:DAYLIGHT
BEGIN:STANDARD
TZOFFSETFROM:-0700
TZOFFSETTO:-0800
TZNAME:PST
DTSTART:20261101T090000
END:STANDARD
END:VTIMEZONE
BEGIN:VEVENT
DTSTART;TZID=America/Los_Angeles:20250601T093000
DTEND;TZID=America/Los_Angeles:20250601T103000
DTSTAMP:20260425T204108
CREATED:20241023T195434Z
LAST-MODIFIED:20260319T162123Z
UID:10000527-1748770200-1748773800@ladera.org
SUMMARY:Worship Service
DESCRIPTION:Worship is the heart of our community life. Sunday worship begins at 9:30 a.m. in the sanctuary and online via Zoom. All ages are invited. LCC worship is a joyful celebration of God’s presence among us. We find inspiration\, renewal\, and refreshment through song and silence\, prayer\, and reflection. We seek to integrate the arts – music\, drama\, and visual – to enrich the worship experience. Worship continues in the many ways we seek\, serve\, and grow in the world. \n\nWe serve communion on the first Sunday of every month. All are welcome to the table!\n\n  \nJoin us on Zoom \nID: 829 2023 8953\nPasscode: Sunday
URL:https://ladera.org/event/weekly-worship-service-2-2-2-5-2-2-2/2025-06-01/
LOCATION:LCC: Sanctuary\, 3300 Alpine Road\, Portola Valley\, CA\, 94028\, United States
CATEGORIES:Find Connection,Look Deeper,Quiet the Noise
ATTACH;FMTTYPE=image/jpeg:https://ladera.org/wp-content/uploads/2024/10/unnamed-11.jpg
END:VEVENT
BEGIN:VEVENT
DTSTART;TZID=America/Los_Angeles:20250602T190000
DTEND;TZID=America/Los_Angeles:20250602T210000
DTSTAMP:20260425T204108
CREATED:20221005T213350Z
LAST-MODIFIED:20240108T165955Z
UID:10000886-1748890800-1748898000@ladera.org
SUMMARY:AA
DESCRIPTION:
URL:https://ladera.org/event/aa/2025-06-02/
LOCATION:LCC: Peabody Hall\, 3300 Alpine Road\, Portola Valley\, CA\, 94028
CATEGORIES:Find Connection,Look Deeper
ORGANIZER;CN="Ladera Church":MAILTO:church@ladera.org
END:VEVENT
BEGIN:VEVENT
DTSTART;TZID=America/Los_Angeles:20250608T093000
DTEND;TZID=America/Los_Angeles:20250608T103000
DTSTAMP:20260425T204108
CREATED:20241023T195434Z
LAST-MODIFIED:20260319T162123Z
UID:10000528-1749375000-1749378600@ladera.org
SUMMARY:Worship Service
DESCRIPTION:Worship is the heart of our community life. Sunday worship begins at 9:30 a.m. in the sanctuary and online via Zoom. All ages are invited. LCC worship is a joyful celebration of God’s presence among us. We find inspiration\, renewal\, and refreshment through song and silence\, prayer\, and reflection. We seek to integrate the arts – music\, drama\, and visual – to enrich the worship experience. Worship continues in the many ways we seek\, serve\, and grow in the world. \n\nWe serve communion on the first Sunday of every month. All are welcome to the table!\n\n  \nJoin us on Zoom \nID: 829 2023 8953\nPasscode: Sunday
URL:https://ladera.org/event/weekly-worship-service-2-2-2-5-2-2-2/2025-06-08/
LOCATION:LCC: Sanctuary\, 3300 Alpine Road\, Portola Valley\, CA\, 94028\, United States
CATEGORIES:Find Connection,Look Deeper,Quiet the Noise
ATTACH;FMTTYPE=image/jpeg:https://ladera.org/wp-content/uploads/2024/10/unnamed-11.jpg
END:VEVENT
BEGIN:VEVENT
DTSTART;TZID=America/Los_Angeles:20250609T190000
DTEND;TZID=America/Los_Angeles:20250609T210000
DTSTAMP:20260425T204108
CREATED:20221005T213350Z
LAST-MODIFIED:20240108T165955Z
UID:10000887-1749495600-1749502800@ladera.org
SUMMARY:AA
DESCRIPTION:
URL:https://ladera.org/event/aa/2025-06-09/
LOCATION:LCC: Peabody Hall\, 3300 Alpine Road\, Portola Valley\, CA\, 94028
CATEGORIES:Find Connection,Look Deeper
ORGANIZER;CN="Ladera Church":MAILTO:church@ladera.org
END:VEVENT
BEGIN:VEVENT
DTSTART;TZID=America/Los_Angeles:20250616T190000
DTEND;TZID=America/Los_Angeles:20250616T210000
DTSTAMP:20260425T204108
CREATED:20221005T213350Z
LAST-MODIFIED:20240108T165955Z
UID:10000888-1750100400-1750107600@ladera.org
SUMMARY:AA
DESCRIPTION:
URL:https://ladera.org/event/aa/2025-06-16/
LOCATION:LCC: Peabody Hall\, 3300 Alpine Road\, Portola Valley\, CA\, 94028
CATEGORIES:Find Connection,Look Deeper
ORGANIZER;CN="Ladera Church":MAILTO:church@ladera.org
END:VEVENT
BEGIN:VEVENT
DTSTART;TZID=America/Los_Angeles:20250622T093000
DTEND;TZID=America/Los_Angeles:20250622T103000
DTSTAMP:20260425T204108
CREATED:20241023T195434Z
LAST-MODIFIED:20260319T162123Z
UID:10000530-1750584600-1750588200@ladera.org
SUMMARY:Worship Service
DESCRIPTION:Worship is the heart of our community life. Sunday worship begins at 9:30 a.m. in the sanctuary and online via Zoom. All ages are invited. LCC worship is a joyful celebration of God’s presence among us. We find inspiration\, renewal\, and refreshment through song and silence\, prayer\, and reflection. We seek to integrate the arts – music\, drama\, and visual – to enrich the worship experience. Worship continues in the many ways we seek\, serve\, and grow in the world. \n\nWe serve communion on the first Sunday of every month. All are welcome to the table!\n\n  \nJoin us on Zoom \nID: 829 2023 8953\nPasscode: Sunday
URL:https://ladera.org/event/weekly-worship-service-2-2-2-5-2-2-2/2025-06-22/
LOCATION:LCC: Sanctuary\, 3300 Alpine Road\, Portola Valley\, CA\, 94028\, United States
CATEGORIES:Find Connection,Look Deeper,Quiet the Noise
ATTACH;FMTTYPE=image/jpeg:https://ladera.org/wp-content/uploads/2024/10/unnamed-11.jpg
END:VEVENT
BEGIN:VEVENT
DTSTART;TZID=America/Los_Angeles:20250623T190000
DTEND;TZID=America/Los_Angeles:20250623T210000
DTSTAMP:20260425T204108
CREATED:20221005T213350Z
LAST-MODIFIED:20240108T165955Z
UID:10000889-1750705200-1750712400@ladera.org
SUMMARY:AA
DESCRIPTION:
URL:https://ladera.org/event/aa/2025-06-23/
LOCATION:LCC: Peabody Hall\, 3300 Alpine Road\, Portola Valley\, CA\, 94028
CATEGORIES:Find Connection,Look Deeper
ORGANIZER;CN="Ladera Church":MAILTO:church@ladera.org
END:VEVENT
BEGIN:VEVENT
DTSTART;TZID=America/Los_Angeles:20250629T093000
DTEND;TZID=America/Los_Angeles:20250629T103000
DTSTAMP:20260425T204108
CREATED:20241023T195434Z
LAST-MODIFIED:20260319T162123Z
UID:10000531-1751189400-1751193000@ladera.org
SUMMARY:Worship Service
DESCRIPTION:Worship is the heart of our community life. Sunday worship begins at 9:30 a.m. in the sanctuary and online via Zoom. All ages are invited. LCC worship is a joyful celebration of God’s presence among us. We find inspiration\, renewal\, and refreshment through song and silence\, prayer\, and reflection. We seek to integrate the arts – music\, drama\, and visual – to enrich the worship experience. Worship continues in the many ways we seek\, serve\, and grow in the world. \n\nWe serve communion on the first Sunday of every month. All are welcome to the table!\n\n  \nJoin us on Zoom \nID: 829 2023 8953\nPasscode: Sunday
URL:https://ladera.org/event/weekly-worship-service-2-2-2-5-2-2-2/2025-06-29/
LOCATION:LCC: Sanctuary\, 3300 Alpine Road\, Portola Valley\, CA\, 94028\, United States
CATEGORIES:Find Connection,Look Deeper,Quiet the Noise
ATTACH;FMTTYPE=image/jpeg:https://ladera.org/wp-content/uploads/2024/10/unnamed-11.jpg
END:VEVENT
BEGIN:VEVENT
DTSTART;TZID=America/Los_Angeles:20250630T190000
DTEND;TZID=America/Los_Angeles:20250630T210000
DTSTAMP:20260425T204108
CREATED:20221005T213350Z
LAST-MODIFIED:20240108T165955Z
UID:10000890-1751310000-1751317200@ladera.org
SUMMARY:AA
DESCRIPTION:
URL:https://ladera.org/event/aa/2025-06-30/
LOCATION:LCC: Peabody Hall\, 3300 Alpine Road\, Portola Valley\, CA\, 94028
CATEGORIES:Find Connection,Look Deeper
ORGANIZER;CN="Ladera Church":MAILTO:church@ladera.org
END:VEVENT
END:VCALENDAR