BEGIN:VCALENDAR
VERSION:2.0
PRODID:-//Ladera Community Church - ECPv6.15.20//NONSGML v1.0//EN
CALSCALE:GREGORIAN
METHOD:PUBLISH
X-WR-CALNAME:Ladera Community Church
X-ORIGINAL-URL:https://ladera.org
X-WR-CALDESC:Events for Ladera Community Church
REFRESH-INTERVAL;VALUE=DURATION:PT1H
X-Robots-Tag:noindex
X-PUBLISHED-TTL:PT1H
BEGIN:VTIMEZONE
TZID:America/Los_Angeles
BEGIN:DAYLIGHT
TZOFFSETFROM:-0800
TZOFFSETTO:-0700
TZNAME:PDT
DTSTART:20240310T100000
END:DAYLIGHT
BEGIN:STANDARD
TZOFFSETFROM:-0700
TZOFFSETTO:-0800
TZNAME:PST
DTSTART:20241103T090000
END:STANDARD
BEGIN:DAYLIGHT
TZOFFSETFROM:-0800
TZOFFSETTO:-0700
TZNAME:PDT
DTSTART:20250309T100000
END:DAYLIGHT
BEGIN:STANDARD
TZOFFSETFROM:-0700
TZOFFSETTO:-0800
TZNAME:PST
DTSTART:20251102T090000
END:STANDARD
BEGIN:DAYLIGHT
TZOFFSETFROM:-0800
TZOFFSETTO:-0700
TZNAME:PDT
DTSTART:20260308T100000
END:DAYLIGHT
BEGIN:STANDARD
TZOFFSETFROM:-0700
TZOFFSETTO:-0800
TZNAME:PST
DTSTART:20261101T090000
END:STANDARD
END:VTIMEZONE
BEGIN:VEVENT
DTSTART;TZID=America/Los_Angeles:20251224T170000
DTEND;TZID=America/Los_Angeles:20251224T180000
DTSTAMP:20260425T044823
CREATED:20251202T031403Z
LAST-MODIFIED:20251204T174827Z
UID:10014980-1766595600-1766599200@ladera.org
SUMMARY:Christmas Eve Service & Potluck
DESCRIPTION:Don’t miss out on a special celebration where we honor the birth of Jesus and what it means for us: a birth of the Divine Spirit within\, and all the hope\, joy\, life\, and love that is in us and among us. We will hold a potluck in Peabody hall after the service. Join us for a potluck in Peabody Hall after the Christmas Eve service! Please RSVP for the potluck and let us know what you plan to bring. Click here to RSVP/sign up for a dish.
URL:https://ladera.org/event/christmas-eve-service-2-2-2/
LOCATION:Ladera Church\, 3300 Alpine Road\, Portola Valley\, CA\, 94028\, United States
CATEGORIES:Look Deeper
ATTACH;FMTTYPE=image/jpeg:https://ladera.org/wp-content/uploads/2022/11/Christmas-Eve-Service.jpg
ORGANIZER;CN="Ladera Church":MAILTO:church@ladera.org
END:VEVENT
END:VCALENDAR