BEGIN:VCALENDAR
VERSION:2.0
PRODID:-//Ladera Community Church - ECPv6.15.20//NONSGML v1.0//EN
CALSCALE:GREGORIAN
METHOD:PUBLISH
X-ORIGINAL-URL:https://ladera.org
X-WR-CALDESC:Events for Ladera Community Church
REFRESH-INTERVAL;VALUE=DURATION:PT1H
X-Robots-Tag:noindex
X-PUBLISHED-TTL:PT1H
BEGIN:VTIMEZONE
TZID:America/Los_Angeles
BEGIN:DAYLIGHT
TZOFFSETFROM:-0800
TZOFFSETTO:-0700
TZNAME:PDT
DTSTART:20240310T100000
END:DAYLIGHT
BEGIN:STANDARD
TZOFFSETFROM:-0700
TZOFFSETTO:-0800
TZNAME:PST
DTSTART:20241103T090000
END:STANDARD
BEGIN:DAYLIGHT
TZOFFSETFROM:-0800
TZOFFSETTO:-0700
TZNAME:PDT
DTSTART:20250309T100000
END:DAYLIGHT
BEGIN:STANDARD
TZOFFSETFROM:-0700
TZOFFSETTO:-0800
TZNAME:PST
DTSTART:20251102T090000
END:STANDARD
BEGIN:DAYLIGHT
TZOFFSETFROM:-0800
TZOFFSETTO:-0700
TZNAME:PDT
DTSTART:20260308T100000
END:DAYLIGHT
BEGIN:STANDARD
TZOFFSETFROM:-0700
TZOFFSETTO:-0800
TZNAME:PST
DTSTART:20261101T090000
END:STANDARD
END:VTIMEZONE
BEGIN:VEVENT
DTSTART;VALUE=DATE:20250701
DTEND;VALUE=DATE:20250801
DTSTAMP:20260425T131942
CREATED:20250527T162058Z
LAST-MODIFIED:20250527T162058Z
UID:10013766-1751328000-1754006399@ladera.org
SUMMARY:Ecumenical Hunger Program (EHP) Food Drive
DESCRIPTION:Summertime and the livin’ is not easy! Food needs soar during the summer when donations decrease and the school lunch programs cease. Now is the time for us to support Ecumenical Hunger Program food give-away.  For the month of July we will be collecting funds for EHP.  Write a check to LCC with “Food Drive” in the memo line and drop it by the office or in the offering plate on Sunday\, or go online at ladera.org/give/. Thank you for sharing the bounty! \nSubmitted by Mission & Service
URL:https://ladera.org/event/ecumenical-hunger-program-ehp-food-drive/
LOCATION:Ladera Church\, 3300 Alpine Road\, Portola Valley\, CA\, 94028\, United States
CATEGORIES:Make a Difference
ATTACH;FMTTYPE=image/jpeg:https://ladera.org/wp-content/uploads/2025/05/EHP.jpg
ORGANIZER;CN="Ladera Church":MAILTO:church@ladera.org
END:VEVENT
BEGIN:VEVENT
DTSTART;TZID=America/Los_Angeles:20250709T160000
DTEND;TZID=America/Los_Angeles:20250709T173000
DTSTAMP:20260425T131942
CREATED:20250707T155814Z
LAST-MODIFIED:20250707T155816Z
UID:10012169-1752076800-1752082200@ladera.org
SUMMARY:Social Justice Meeting
DESCRIPTION:Join Zoom Meeting \nMeeting ID: 835 0702 6497 \nPasscode: 465378 \n🙂
URL:https://ladera.org/event/social-justice-meeting-2-2-2-2-2/
LOCATION:Online – Zoom
CATEGORIES:Make a Difference
ATTACH;FMTTYPE=image/jpeg:https://ladera.org/wp-content/uploads/2022/10/social-justice-e1666131952585.jpg
ORGANIZER;CN="Ladera Church":MAILTO:church@ladera.org
END:VEVENT
END:VCALENDAR