BEGIN:VCALENDAR
VERSION:2.0
PRODID:-//Ladera Community Church - ECPv6.15.20//NONSGML v1.0//EN
CALSCALE:GREGORIAN
METHOD:PUBLISH
X-WR-CALNAME:Ladera Community Church
X-ORIGINAL-URL:https://ladera.org
X-WR-CALDESC:Events for Ladera Community Church
REFRESH-INTERVAL;VALUE=DURATION:PT1H
X-Robots-Tag:noindex
X-PUBLISHED-TTL:PT1H
BEGIN:VTIMEZONE
TZID:America/Los_Angeles
BEGIN:DAYLIGHT
TZOFFSETFROM:-0800
TZOFFSETTO:-0700
TZNAME:PDT
DTSTART:20280312T100000
END:DAYLIGHT
BEGIN:STANDARD
TZOFFSETFROM:-0700
TZOFFSETTO:-0800
TZNAME:PST
DTSTART:20281105T090000
END:STANDARD
BEGIN:DAYLIGHT
TZOFFSETFROM:-0800
TZOFFSETTO:-0700
TZNAME:PDT
DTSTART:20290311T100000
END:DAYLIGHT
BEGIN:STANDARD
TZOFFSETFROM:-0700
TZOFFSETTO:-0800
TZNAME:PST
DTSTART:20291104T090000
END:STANDARD
BEGIN:DAYLIGHT
TZOFFSETFROM:-0800
TZOFFSETTO:-0700
TZNAME:PDT
DTSTART:20300310T100000
END:DAYLIGHT
BEGIN:STANDARD
TZOFFSETFROM:-0700
TZOFFSETTO:-0800
TZNAME:PST
DTSTART:20301103T090000
END:STANDARD
BEGIN:DAYLIGHT
TZOFFSETFROM:-0800
TZOFFSETTO:-0700
TZNAME:PDT
DTSTART:20310309T100000
END:DAYLIGHT
BEGIN:STANDARD
TZOFFSETFROM:-0700
TZOFFSETTO:-0800
TZNAME:PST
DTSTART:20311102T090000
END:STANDARD
END:VTIMEZONE
BEGIN:VEVENT
DTSTART;TZID=America/Los_Angeles:20290704T193000
DTEND;TZID=America/Los_Angeles:20290704T203000
DTSTAMP:20260425T162142
CREATED:20230125T000721Z
LAST-MODIFIED:20251006T185737Z
UID:10012136-1877887800-1877891400@ladera.org
SUMMARY:Affordable Housing Task Force
DESCRIPTION:To download and import the events into an iCalendar (.ics) calendar\, click here.
URL:https://ladera.org/event/affordable-housing-task-force/2029-07-04/
LOCATION:Online – Zoom
CATEGORIES:Make a Difference
ATTACH;FMTTYPE=image/jpeg:https://ladera.org/wp-content/uploads/2022/10/affordable-housing_hands.jpg
ORGANIZER;CN="Ladera Church":MAILTO:church@ladera.org
END:VEVENT
BEGIN:VEVENT
DTSTART;TZID=America/Los_Angeles:20290711T163000
DTEND;TZID=America/Los_Angeles:20290711T174500
DTSTAMP:20260425T162142
CREATED:20250910T165754Z
LAST-MODIFIED:20260310T155721Z
UID:10015911-1878481800-1878486300@ladera.org
SUMMARY:Social Justice Meeting
DESCRIPTION:
URL:https://ladera.org/event/social-justice-meeting-2-2-2-2-4/2029-07-11/
LOCATION:Online – Zoom
CATEGORIES:Make a Difference
ATTACH;FMTTYPE=image/jpeg:https://ladera.org/wp-content/uploads/2022/10/social-justice-e1666131952585.jpg
ORGANIZER;CN="Ladera Church":MAILTO:church@ladera.org
END:VEVENT
BEGIN:VEVENT
DTSTART;TZID=America/Los_Angeles:20290801T193000
DTEND;TZID=America/Los_Angeles:20290801T203000
DTSTAMP:20260425T162142
CREATED:20230125T000721Z
LAST-MODIFIED:20251006T185737Z
UID:10012137-1880307000-1880310600@ladera.org
SUMMARY:Affordable Housing Task Force
DESCRIPTION:To download and import the events into an iCalendar (.ics) calendar\, click here.
URL:https://ladera.org/event/affordable-housing-task-force/2029-08-01/
LOCATION:Online – Zoom
CATEGORIES:Make a Difference
ATTACH;FMTTYPE=image/jpeg:https://ladera.org/wp-content/uploads/2022/10/affordable-housing_hands.jpg
ORGANIZER;CN="Ladera Church":MAILTO:church@ladera.org
END:VEVENT
BEGIN:VEVENT
DTSTART;TZID=America/Los_Angeles:20290805T103000
DTEND;TZID=America/Los_Angeles:20290805T110000
DTSTAMP:20260425T162142
CREATED:20250604T235702Z
LAST-MODIFIED:20260325T211925Z
UID:10014323-1880620200-1880622000@ladera.org
SUMMARY:Pastoral Relations Committee Meeting
DESCRIPTION:Pastoral Relations Committee Meeting occur the first Sunday of each month in room 6.
URL:https://ladera.org/event/pastoral-relations-committee-meeting-3-2/2029-08-05/
LOCATION:LCC: Fireside Room\, 3300 Alpine Road\, Portola Valley\, CA\, 94028\, United States
CATEGORIES:Make a Difference
ATTACH;FMTTYPE=image/jpeg:https://ladera.org/wp-content/uploads/2025/03/Pastoral-Relations-Committee.jpg
ORGANIZER;CN="Ladera Church":MAILTO:church@ladera.org
END:VEVENT
BEGIN:VEVENT
DTSTART;TZID=America/Los_Angeles:20290808T163000
DTEND;TZID=America/Los_Angeles:20290808T174500
DTSTAMP:20260425T162142
CREATED:20250910T165754Z
LAST-MODIFIED:20260310T155721Z
UID:10015912-1880901000-1880905500@ladera.org
SUMMARY:Social Justice Meeting
DESCRIPTION:
URL:https://ladera.org/event/social-justice-meeting-2-2-2-2-4/2029-08-08/
LOCATION:Online – Zoom
CATEGORIES:Make a Difference
ATTACH;FMTTYPE=image/jpeg:https://ladera.org/wp-content/uploads/2022/10/social-justice-e1666131952585.jpg
ORGANIZER;CN="Ladera Church":MAILTO:church@ladera.org
END:VEVENT
BEGIN:VEVENT
DTSTART;TZID=America/Los_Angeles:20290902T103000
DTEND;TZID=America/Los_Angeles:20290902T110000
DTSTAMP:20260425T162142
CREATED:20250604T235702Z
LAST-MODIFIED:20260325T211925Z
UID:10014324-1883039400-1883041200@ladera.org
SUMMARY:Pastoral Relations Committee Meeting
DESCRIPTION:Pastoral Relations Committee Meeting occur the first Sunday of each month in room 6.
URL:https://ladera.org/event/pastoral-relations-committee-meeting-3-2/2029-09-02/
LOCATION:LCC: Fireside Room\, 3300 Alpine Road\, Portola Valley\, CA\, 94028\, United States
CATEGORIES:Make a Difference
ATTACH;FMTTYPE=image/jpeg:https://ladera.org/wp-content/uploads/2025/03/Pastoral-Relations-Committee.jpg
ORGANIZER;CN="Ladera Church":MAILTO:church@ladera.org
END:VEVENT
BEGIN:VEVENT
DTSTART;TZID=America/Los_Angeles:20290905T193000
DTEND;TZID=America/Los_Angeles:20290905T203000
DTSTAMP:20260425T162142
CREATED:20230125T000721Z
LAST-MODIFIED:20251006T185737Z
UID:10012138-1883331000-1883334600@ladera.org
SUMMARY:Affordable Housing Task Force
DESCRIPTION:To download and import the events into an iCalendar (.ics) calendar\, click here.
URL:https://ladera.org/event/affordable-housing-task-force/2029-09-05/
LOCATION:Online – Zoom
CATEGORIES:Make a Difference
ATTACH;FMTTYPE=image/jpeg:https://ladera.org/wp-content/uploads/2022/10/affordable-housing_hands.jpg
ORGANIZER;CN="Ladera Church":MAILTO:church@ladera.org
END:VEVENT
BEGIN:VEVENT
DTSTART;TZID=America/Los_Angeles:20290912T163000
DTEND;TZID=America/Los_Angeles:20290912T174500
DTSTAMP:20260425T162142
CREATED:20250910T165754Z
LAST-MODIFIED:20260310T155721Z
UID:10015913-1883925000-1883929500@ladera.org
SUMMARY:Social Justice Meeting
DESCRIPTION:
URL:https://ladera.org/event/social-justice-meeting-2-2-2-2-4/2029-09-12/
LOCATION:Online – Zoom
CATEGORIES:Make a Difference
ATTACH;FMTTYPE=image/jpeg:https://ladera.org/wp-content/uploads/2022/10/social-justice-e1666131952585.jpg
ORGANIZER;CN="Ladera Church":MAILTO:church@ladera.org
END:VEVENT
BEGIN:VEVENT
DTSTART;TZID=America/Los_Angeles:20291003T193000
DTEND;TZID=America/Los_Angeles:20291003T203000
DTSTAMP:20260425T162142
CREATED:20230125T000721Z
LAST-MODIFIED:20251006T185737Z
UID:10013776-1885750200-1885753800@ladera.org
SUMMARY:Affordable Housing Task Force
DESCRIPTION:To download and import the events into an iCalendar (.ics) calendar\, click here.
URL:https://ladera.org/event/affordable-housing-task-force/2029-10-03/
LOCATION:Online – Zoom
CATEGORIES:Make a Difference
ATTACH;FMTTYPE=image/jpeg:https://ladera.org/wp-content/uploads/2022/10/affordable-housing_hands.jpg
ORGANIZER;CN="Ladera Church":MAILTO:church@ladera.org
END:VEVENT
BEGIN:VEVENT
DTSTART;TZID=America/Los_Angeles:20291007T103000
DTEND;TZID=America/Los_Angeles:20291007T110000
DTSTAMP:20260425T162143
CREATED:20250604T235702Z
LAST-MODIFIED:20260325T211925Z
UID:10014325-1886063400-1886065200@ladera.org
SUMMARY:Pastoral Relations Committee Meeting
DESCRIPTION:Pastoral Relations Committee Meeting occur the first Sunday of each month in room 6.
URL:https://ladera.org/event/pastoral-relations-committee-meeting-3-2/2029-10-07/
LOCATION:LCC: Fireside Room\, 3300 Alpine Road\, Portola Valley\, CA\, 94028\, United States
CATEGORIES:Make a Difference
ATTACH;FMTTYPE=image/jpeg:https://ladera.org/wp-content/uploads/2025/03/Pastoral-Relations-Committee.jpg
ORGANIZER;CN="Ladera Church":MAILTO:church@ladera.org
END:VEVENT
BEGIN:VEVENT
DTSTART;TZID=America/Los_Angeles:20291010T163000
DTEND;TZID=America/Los_Angeles:20291010T174500
DTSTAMP:20260425T162143
CREATED:20250910T165754Z
LAST-MODIFIED:20260310T155721Z
UID:10015914-1886344200-1886348700@ladera.org
SUMMARY:Social Justice Meeting
DESCRIPTION:
URL:https://ladera.org/event/social-justice-meeting-2-2-2-2-4/2029-10-10/
LOCATION:Online – Zoom
CATEGORIES:Make a Difference
ATTACH;FMTTYPE=image/jpeg:https://ladera.org/wp-content/uploads/2022/10/social-justice-e1666131952585.jpg
ORGANIZER;CN="Ladera Church":MAILTO:church@ladera.org
END:VEVENT
BEGIN:VEVENT
DTSTART;TZID=America/Los_Angeles:20291104T103000
DTEND;TZID=America/Los_Angeles:20291104T110000
DTSTAMP:20260425T162143
CREATED:20250604T235702Z
LAST-MODIFIED:20260325T211925Z
UID:10014326-1888482600-1888484400@ladera.org
SUMMARY:Pastoral Relations Committee Meeting
DESCRIPTION:Pastoral Relations Committee Meeting occur the first Sunday of each month in room 6.
URL:https://ladera.org/event/pastoral-relations-committee-meeting-3-2/2029-11-04/
LOCATION:LCC: Fireside Room\, 3300 Alpine Road\, Portola Valley\, CA\, 94028\, United States
CATEGORIES:Make a Difference
ATTACH;FMTTYPE=image/jpeg:https://ladera.org/wp-content/uploads/2025/03/Pastoral-Relations-Committee.jpg
ORGANIZER;CN="Ladera Church":MAILTO:church@ladera.org
END:VEVENT
BEGIN:VEVENT
DTSTART;TZID=America/Los_Angeles:20291107T193000
DTEND;TZID=America/Los_Angeles:20291107T203000
DTSTAMP:20260425T162143
CREATED:20230125T000721Z
LAST-MODIFIED:20251006T185737Z
UID:10013777-1888774200-1888777800@ladera.org
SUMMARY:Affordable Housing Task Force
DESCRIPTION:To download and import the events into an iCalendar (.ics) calendar\, click here.
URL:https://ladera.org/event/affordable-housing-task-force/2029-11-07/
LOCATION:Online – Zoom
CATEGORIES:Make a Difference
ATTACH;FMTTYPE=image/jpeg:https://ladera.org/wp-content/uploads/2022/10/affordable-housing_hands.jpg
ORGANIZER;CN="Ladera Church":MAILTO:church@ladera.org
END:VEVENT
BEGIN:VEVENT
DTSTART;TZID=America/Los_Angeles:20291114T163000
DTEND;TZID=America/Los_Angeles:20291114T174500
DTSTAMP:20260425T162143
CREATED:20250910T165754Z
LAST-MODIFIED:20260310T155721Z
UID:10015915-1889368200-1889372700@ladera.org
SUMMARY:Social Justice Meeting
DESCRIPTION:
URL:https://ladera.org/event/social-justice-meeting-2-2-2-2-4/2029-11-14/
LOCATION:Online – Zoom
CATEGORIES:Make a Difference
ATTACH;FMTTYPE=image/jpeg:https://ladera.org/wp-content/uploads/2022/10/social-justice-e1666131952585.jpg
ORGANIZER;CN="Ladera Church":MAILTO:church@ladera.org
END:VEVENT
BEGIN:VEVENT
DTSTART;TZID=America/Los_Angeles:20291202T103000
DTEND;TZID=America/Los_Angeles:20291202T110000
DTSTAMP:20260425T162143
CREATED:20250604T235702Z
LAST-MODIFIED:20260325T211925Z
UID:10014327-1890901800-1890903600@ladera.org
SUMMARY:Pastoral Relations Committee Meeting
DESCRIPTION:Pastoral Relations Committee Meeting occur the first Sunday of each month in room 6.
URL:https://ladera.org/event/pastoral-relations-committee-meeting-3-2/2029-12-02/
LOCATION:LCC: Fireside Room\, 3300 Alpine Road\, Portola Valley\, CA\, 94028\, United States
CATEGORIES:Make a Difference
ATTACH;FMTTYPE=image/jpeg:https://ladera.org/wp-content/uploads/2025/03/Pastoral-Relations-Committee.jpg
ORGANIZER;CN="Ladera Church":MAILTO:church@ladera.org
END:VEVENT
BEGIN:VEVENT
DTSTART;TZID=America/Los_Angeles:20291205T193000
DTEND;TZID=America/Los_Angeles:20291205T203000
DTSTAMP:20260425T162143
CREATED:20230125T000721Z
LAST-MODIFIED:20251006T185737Z
UID:10013778-1891193400-1891197000@ladera.org
SUMMARY:Affordable Housing Task Force
DESCRIPTION:To download and import the events into an iCalendar (.ics) calendar\, click here.
URL:https://ladera.org/event/affordable-housing-task-force/2029-12-05/
LOCATION:Online – Zoom
CATEGORIES:Make a Difference
ATTACH;FMTTYPE=image/jpeg:https://ladera.org/wp-content/uploads/2022/10/affordable-housing_hands.jpg
ORGANIZER;CN="Ladera Church":MAILTO:church@ladera.org
END:VEVENT
BEGIN:VEVENT
DTSTART;TZID=America/Los_Angeles:20291212T163000
DTEND;TZID=America/Los_Angeles:20291212T174500
DTSTAMP:20260425T162143
CREATED:20250910T165754Z
LAST-MODIFIED:20260310T155721Z
UID:10015916-1891787400-1891791900@ladera.org
SUMMARY:Social Justice Meeting
DESCRIPTION:
URL:https://ladera.org/event/social-justice-meeting-2-2-2-2-4/2029-12-12/
LOCATION:Online – Zoom
CATEGORIES:Make a Difference
ATTACH;FMTTYPE=image/jpeg:https://ladera.org/wp-content/uploads/2022/10/social-justice-e1666131952585.jpg
ORGANIZER;CN="Ladera Church":MAILTO:church@ladera.org
END:VEVENT
BEGIN:VEVENT
DTSTART;TZID=America/Los_Angeles:20300102T193000
DTEND;TZID=America/Los_Angeles:20300102T203000
DTSTAMP:20260425T162143
CREATED:20230125T000721Z
LAST-MODIFIED:20251006T185737Z
UID:10013779-1893612600-1893616200@ladera.org
SUMMARY:Affordable Housing Task Force
DESCRIPTION:To download and import the events into an iCalendar (.ics) calendar\, click here.
URL:https://ladera.org/event/affordable-housing-task-force/2030-01-02/
LOCATION:Online – Zoom
CATEGORIES:Make a Difference
ATTACH;FMTTYPE=image/jpeg:https://ladera.org/wp-content/uploads/2022/10/affordable-housing_hands.jpg
ORGANIZER;CN="Ladera Church":MAILTO:church@ladera.org
END:VEVENT
BEGIN:VEVENT
DTSTART;TZID=America/Los_Angeles:20300106T103000
DTEND;TZID=America/Los_Angeles:20300106T110000
DTSTAMP:20260425T162143
CREATED:20250604T235702Z
LAST-MODIFIED:20260325T211925Z
UID:10014328-1893925800-1893927600@ladera.org
SUMMARY:Pastoral Relations Committee Meeting
DESCRIPTION:Pastoral Relations Committee Meeting occur the first Sunday of each month in room 6.
URL:https://ladera.org/event/pastoral-relations-committee-meeting-3-2/2030-01-06/
LOCATION:LCC: Fireside Room\, 3300 Alpine Road\, Portola Valley\, CA\, 94028\, United States
CATEGORIES:Make a Difference
ATTACH;FMTTYPE=image/jpeg:https://ladera.org/wp-content/uploads/2025/03/Pastoral-Relations-Committee.jpg
ORGANIZER;CN="Ladera Church":MAILTO:church@ladera.org
END:VEVENT
BEGIN:VEVENT
DTSTART;TZID=America/Los_Angeles:20300109T163000
DTEND;TZID=America/Los_Angeles:20300109T174500
DTSTAMP:20260425T162143
CREATED:20250910T165754Z
LAST-MODIFIED:20260310T155721Z
UID:10015917-1894206600-1894211100@ladera.org
SUMMARY:Social Justice Meeting
DESCRIPTION:
URL:https://ladera.org/event/social-justice-meeting-2-2-2-2-4/2030-01-09/
LOCATION:Online – Zoom
CATEGORIES:Make a Difference
ATTACH;FMTTYPE=image/jpeg:https://ladera.org/wp-content/uploads/2022/10/social-justice-e1666131952585.jpg
ORGANIZER;CN="Ladera Church":MAILTO:church@ladera.org
END:VEVENT
BEGIN:VEVENT
DTSTART;TZID=America/Los_Angeles:20300203T103000
DTEND;TZID=America/Los_Angeles:20300203T110000
DTSTAMP:20260425T162143
CREATED:20250604T235702Z
LAST-MODIFIED:20260325T211925Z
UID:10014329-1896345000-1896346800@ladera.org
SUMMARY:Pastoral Relations Committee Meeting
DESCRIPTION:Pastoral Relations Committee Meeting occur the first Sunday of each month in room 6.
URL:https://ladera.org/event/pastoral-relations-committee-meeting-3-2/2030-02-03/
LOCATION:LCC: Fireside Room\, 3300 Alpine Road\, Portola Valley\, CA\, 94028\, United States
CATEGORIES:Make a Difference
ATTACH;FMTTYPE=image/jpeg:https://ladera.org/wp-content/uploads/2025/03/Pastoral-Relations-Committee.jpg
ORGANIZER;CN="Ladera Church":MAILTO:church@ladera.org
END:VEVENT
BEGIN:VEVENT
DTSTART;TZID=America/Los_Angeles:20300206T193000
DTEND;TZID=America/Los_Angeles:20300206T203000
DTSTAMP:20260425T162143
CREATED:20230125T000721Z
LAST-MODIFIED:20251006T185737Z
UID:10013780-1896636600-1896640200@ladera.org
SUMMARY:Affordable Housing Task Force
DESCRIPTION:To download and import the events into an iCalendar (.ics) calendar\, click here.
URL:https://ladera.org/event/affordable-housing-task-force/2030-02-06/
LOCATION:Online – Zoom
CATEGORIES:Make a Difference
ATTACH;FMTTYPE=image/jpeg:https://ladera.org/wp-content/uploads/2022/10/affordable-housing_hands.jpg
ORGANIZER;CN="Ladera Church":MAILTO:church@ladera.org
END:VEVENT
BEGIN:VEVENT
DTSTART;TZID=America/Los_Angeles:20300213T163000
DTEND;TZID=America/Los_Angeles:20300213T174500
DTSTAMP:20260425T162143
CREATED:20250910T165754Z
LAST-MODIFIED:20260310T155721Z
UID:10015918-1897230600-1897235100@ladera.org
SUMMARY:Social Justice Meeting
DESCRIPTION:
URL:https://ladera.org/event/social-justice-meeting-2-2-2-2-4/2030-02-13/
LOCATION:Online – Zoom
CATEGORIES:Make a Difference
ATTACH;FMTTYPE=image/jpeg:https://ladera.org/wp-content/uploads/2022/10/social-justice-e1666131952585.jpg
ORGANIZER;CN="Ladera Church":MAILTO:church@ladera.org
END:VEVENT
BEGIN:VEVENT
DTSTART;TZID=America/Los_Angeles:20300303T103000
DTEND;TZID=America/Los_Angeles:20300303T110000
DTSTAMP:20260425T162143
CREATED:20250604T235702Z
LAST-MODIFIED:20260325T211925Z
UID:10014330-1898764200-1898766000@ladera.org
SUMMARY:Pastoral Relations Committee Meeting
DESCRIPTION:Pastoral Relations Committee Meeting occur the first Sunday of each month in room 6.
URL:https://ladera.org/event/pastoral-relations-committee-meeting-3-2/2030-03-03/
LOCATION:LCC: Fireside Room\, 3300 Alpine Road\, Portola Valley\, CA\, 94028\, United States
CATEGORIES:Make a Difference
ATTACH;FMTTYPE=image/jpeg:https://ladera.org/wp-content/uploads/2025/03/Pastoral-Relations-Committee.jpg
ORGANIZER;CN="Ladera Church":MAILTO:church@ladera.org
END:VEVENT
BEGIN:VEVENT
DTSTART;TZID=America/Los_Angeles:20300306T193000
DTEND;TZID=America/Los_Angeles:20300306T203000
DTSTAMP:20260425T162143
CREATED:20230125T000721Z
LAST-MODIFIED:20251006T185737Z
UID:10013781-1899055800-1899059400@ladera.org
SUMMARY:Affordable Housing Task Force
DESCRIPTION:To download and import the events into an iCalendar (.ics) calendar\, click here.
URL:https://ladera.org/event/affordable-housing-task-force/2030-03-06/
LOCATION:Online – Zoom
CATEGORIES:Make a Difference
ATTACH;FMTTYPE=image/jpeg:https://ladera.org/wp-content/uploads/2022/10/affordable-housing_hands.jpg
ORGANIZER;CN="Ladera Church":MAILTO:church@ladera.org
END:VEVENT
BEGIN:VEVENT
DTSTART;TZID=America/Los_Angeles:20300313T163000
DTEND;TZID=America/Los_Angeles:20300313T174500
DTSTAMP:20260425T162143
CREATED:20250910T165754Z
LAST-MODIFIED:20260310T155721Z
UID:10015919-1899649800-1899654300@ladera.org
SUMMARY:Social Justice Meeting
DESCRIPTION:
URL:https://ladera.org/event/social-justice-meeting-2-2-2-2-4/2030-03-13/
LOCATION:Online – Zoom
CATEGORIES:Make a Difference
ATTACH;FMTTYPE=image/jpeg:https://ladera.org/wp-content/uploads/2022/10/social-justice-e1666131952585.jpg
ORGANIZER;CN="Ladera Church":MAILTO:church@ladera.org
END:VEVENT
BEGIN:VEVENT
DTSTART;TZID=America/Los_Angeles:20300403T193000
DTEND;TZID=America/Los_Angeles:20300403T203000
DTSTAMP:20260425T162143
CREATED:20230125T000721Z
LAST-MODIFIED:20251006T185737Z
UID:10013782-1901475000-1901478600@ladera.org
SUMMARY:Affordable Housing Task Force
DESCRIPTION:To download and import the events into an iCalendar (.ics) calendar\, click here.
URL:https://ladera.org/event/affordable-housing-task-force/2030-04-03/
LOCATION:Online – Zoom
CATEGORIES:Make a Difference
ATTACH;FMTTYPE=image/jpeg:https://ladera.org/wp-content/uploads/2022/10/affordable-housing_hands.jpg
ORGANIZER;CN="Ladera Church":MAILTO:church@ladera.org
END:VEVENT
BEGIN:VEVENT
DTSTART;TZID=America/Los_Angeles:20300407T103000
DTEND;TZID=America/Los_Angeles:20300407T110000
DTSTAMP:20260425T162143
CREATED:20250604T235702Z
LAST-MODIFIED:20260325T211925Z
UID:10014331-1901788200-1901790000@ladera.org
SUMMARY:Pastoral Relations Committee Meeting
DESCRIPTION:Pastoral Relations Committee Meeting occur the first Sunday of each month in room 6.
URL:https://ladera.org/event/pastoral-relations-committee-meeting-3-2/2030-04-07/
LOCATION:LCC: Fireside Room\, 3300 Alpine Road\, Portola Valley\, CA\, 94028\, United States
CATEGORIES:Make a Difference
ATTACH;FMTTYPE=image/jpeg:https://ladera.org/wp-content/uploads/2025/03/Pastoral-Relations-Committee.jpg
ORGANIZER;CN="Ladera Church":MAILTO:church@ladera.org
END:VEVENT
BEGIN:VEVENT
DTSTART;TZID=America/Los_Angeles:20300410T163000
DTEND;TZID=America/Los_Angeles:20300410T174500
DTSTAMP:20260425T162143
CREATED:20250910T165754Z
LAST-MODIFIED:20260310T155721Z
UID:10015920-1902069000-1902073500@ladera.org
SUMMARY:Social Justice Meeting
DESCRIPTION:
URL:https://ladera.org/event/social-justice-meeting-2-2-2-2-4/2030-04-10/
LOCATION:Online – Zoom
CATEGORIES:Make a Difference
ATTACH;FMTTYPE=image/jpeg:https://ladera.org/wp-content/uploads/2022/10/social-justice-e1666131952585.jpg
ORGANIZER;CN="Ladera Church":MAILTO:church@ladera.org
END:VEVENT
BEGIN:VEVENT
DTSTART;TZID=America/Los_Angeles:20300501T193000
DTEND;TZID=America/Los_Angeles:20300501T203000
DTSTAMP:20260425T162143
CREATED:20230125T000721Z
LAST-MODIFIED:20251006T185737Z
UID:10013783-1903894200-1903897800@ladera.org
SUMMARY:Affordable Housing Task Force
DESCRIPTION:To download and import the events into an iCalendar (.ics) calendar\, click here.
URL:https://ladera.org/event/affordable-housing-task-force/2030-05-01/
LOCATION:Online – Zoom
CATEGORIES:Make a Difference
ATTACH;FMTTYPE=image/jpeg:https://ladera.org/wp-content/uploads/2022/10/affordable-housing_hands.jpg
ORGANIZER;CN="Ladera Church":MAILTO:church@ladera.org
END:VEVENT
END:VCALENDAR