BEGIN:VCALENDAR
VERSION:2.0
PRODID:-//Ladera Community Church - ECPv6.15.20//NONSGML v1.0//EN
CALSCALE:GREGORIAN
METHOD:PUBLISH
X-ORIGINAL-URL:https://ladera.org
X-WR-CALDESC:Events for Ladera Community Church
REFRESH-INTERVAL;VALUE=DURATION:PT1H
X-Robots-Tag:noindex
X-PUBLISHED-TTL:PT1H
BEGIN:VTIMEZONE
TZID:America/Los_Angeles
BEGIN:DAYLIGHT
TZOFFSETFROM:-0800
TZOFFSETTO:-0700
TZNAME:PDT
DTSTART:20240310T100000
END:DAYLIGHT
BEGIN:STANDARD
TZOFFSETFROM:-0700
TZOFFSETTO:-0800
TZNAME:PST
DTSTART:20241103T090000
END:STANDARD
BEGIN:DAYLIGHT
TZOFFSETFROM:-0800
TZOFFSETTO:-0700
TZNAME:PDT
DTSTART:20250309T100000
END:DAYLIGHT
BEGIN:STANDARD
TZOFFSETFROM:-0700
TZOFFSETTO:-0800
TZNAME:PST
DTSTART:20251102T090000
END:STANDARD
BEGIN:DAYLIGHT
TZOFFSETFROM:-0800
TZOFFSETTO:-0700
TZNAME:PDT
DTSTART:20260308T100000
END:DAYLIGHT
BEGIN:STANDARD
TZOFFSETFROM:-0700
TZOFFSETTO:-0800
TZNAME:PST
DTSTART:20261101T090000
END:STANDARD
END:VTIMEZONE
BEGIN:VEVENT
DTSTART;VALUE=DATE:20251201
DTEND;VALUE=DATE:20251222
DTSTAMP:20260424T131526
CREATED:20251122T023934Z
LAST-MODIFIED:20251201T223915Z
UID:10015719-1764547200-1766361599@ladera.org
SUMMARY:Ecumenical Hunger Program (EHP) Adopt-a-Family
DESCRIPTION:This holiday season Ladera Community Church is sponsoring one family through East Palo Alto’s Ecumenical Hunger Family Share Program. The Bay Area has one of the highest costs of living in the nation and coupled with inflation\, EHP families are struggling and facing a bleak holiday season. Every family deserves hope and joy this holiday season\, and together\, we can help make that happen. Our church has a long standing tradition of supporting families in need at the holidays and your generous support again this year is greatly appreciated. \nThis year\, we will try out a virtual “giving tree” option. If you are short on time to shop for specific items requested\, you may make a financial donation here. Gift cards for stores such as Target\, Safeway\, Walmart\, Trader Joes\, Grocery Outlet\, and Costco may also be dropped off at the church office. Look for the gift wrapped donation box in the office. \nThe deadline for delivering physical gifts and gift cards is Thursday\, December 18th. The deadline for online monetary donations is Monday\, December 22nd. Please contact Susan Nicholls with any questions. \n-Mission and Service Team
URL:https://ladera.org/event/ecumenical-hunger-program-ehp-adopt-a-family/
LOCATION:Ladera Church\, 3300 Alpine Road\, Portola Valley\, CA\, 94028\, United States
CATEGORIES:Make a Difference
ATTACH;FMTTYPE=image/jpeg:https://ladera.org/wp-content/uploads/2025/05/EHP.jpg
ORGANIZER;CN="Ladera Church":MAILTO:church@ladera.org
END:VEVENT
BEGIN:VEVENT
DTSTART;VALUE=DATE:20251106
DTEND;VALUE=DATE:20251124
DTSTAMP:20260424T131526
CREATED:20251106T204326Z
LAST-MODIFIED:20251113T180641Z
UID:10015429-1762387200-1763942399@ladera.org
SUMMARY:Second Harvest Food Drive
DESCRIPTION:Helping Our Neighbors During the CalFresh Benefit Delays \nMany families in our community are facing unexpected hardship due to the ongoing federal shutdown. As of November 1\, an estimated 168\,000 neighbors in Santa Clara and San Mateo Counties are experiencing delayed CalFresh (SNAP) benefits\, making it difficult for many families to access the food they need. \nLadera Community Church will be collecting donations to support local families affected by this disruption. Together\, we can help ensure our neighbors continue to have food on the table. \nHow You Can Help: \n\nGive online to support food purchases and direct assistance ( ladera.org/give → “Special Programs” → write “Second Harvest Food Drive” in the notes section)\nCheck: write a check to Ladera Community Church with “Second Harvest Food Drive” in the memo\nShare this flyer with friends\, neighbors\, and community groups\n\nTogether\, we can help our neighbors through this challenging time \nStanding with our neighbors through the shutdown: Second Harvest will continue to support families during the government shutdown by providing free\, nutritious groceries and ready-to-eat meals to those in need. Serving approximately 500\,000 people every month across 900 food pickup sites\, Second Harvest of Silicon Valley operates at an impressive scale!
URL:https://ladera.org/event/second-harvest-food-drive/
LOCATION:Ladera Church\, 3300 Alpine Road\, Portola Valley\, CA\, 94028\, United States
CATEGORIES:Make a Difference
ATTACH;FMTTYPE=image/jpeg:https://ladera.org/wp-content/uploads/2025/11/Second-Harvest-Food-Drive-weekly-update-1.jpg
ORGANIZER;CN="Ladera Church":MAILTO:church@ladera.org
END:VEVENT
BEGIN:VEVENT
DTSTART;TZID=America/Los_Angeles:20251105T193000
DTEND;TZID=America/Los_Angeles:20251105T203000
DTSTAMP:20260424T131526
CREATED:20230125T000721Z
LAST-MODIFIED:20251006T185737Z
UID:10005981-1762371000-1762374600@ladera.org
SUMMARY:Affordable Housing Task Force
DESCRIPTION:To download and import the events into an iCalendar (.ics) calendar\, click here.
URL:https://ladera.org/event/affordable-housing-task-force/2025-11-05/
LOCATION:Online – Zoom
CATEGORIES:Make a Difference
ATTACH;FMTTYPE=image/jpeg:https://ladera.org/wp-content/uploads/2022/10/affordable-housing_hands.jpg
ORGANIZER;CN="Ladera Church":MAILTO:church@ladera.org
END:VEVENT
BEGIN:VEVENT
DTSTART;TZID=America/Los_Angeles:20251102T110000
DTEND;TZID=America/Los_Angeles:20251102T120000
DTSTAMP:20260424T131526
CREATED:20251006T185300Z
LAST-MODIFIED:20251008T183652Z
UID:10014458-1762081200-1762084800@ladera.org
SUMMARY:Second Hour: Presentation on our Affordable Housing Plans: Follow-up Discussion
DESCRIPTION:Let’s continue the conversation about our Affordable Housing plans with Habitat for Humanity. This discussion is a follow-up for those who missed the second hour that occurred on Sunday\, October 19\, or for those who have follow-up questions.
URL:https://ladera.org/event/second-hour-presentation-on-our-affordable-housing-plans-follow-up-discussion/
LOCATION:LCC: Sanctuary\, 3300 Alpine Road\, Portola Valley\, CA\, 94028\, United States
CATEGORIES:Make a Difference
ATTACH;FMTTYPE=image/jpeg:https://ladera.org/wp-content/uploads/2025/04/AHTF-Weekly-Update-image.jpg
ORGANIZER;CN="Ladera Church":MAILTO:church@ladera.org
END:VEVENT
BEGIN:VEVENT
DTSTART;TZID=America/Los_Angeles:20251102T103000
DTEND;TZID=America/Los_Angeles:20251102T110000
DTSTAMP:20260424T131526
CREATED:20250604T235702Z
LAST-MODIFIED:20260325T211925Z
UID:10014278-1762079400-1762081200@ladera.org
SUMMARY:Pastoral Relations Committee Meeting
DESCRIPTION:Pastoral Relations Committee Meeting occur the first Sunday of each month in room 6.
URL:https://ladera.org/event/pastoral-relations-committee-meeting-3-2/2025-11-02/
LOCATION:LCC: Fireside Room\, 3300 Alpine Road\, Portola Valley\, CA\, 94028\, United States
CATEGORIES:Make a Difference
ATTACH;FMTTYPE=image/jpeg:https://ladera.org/wp-content/uploads/2025/03/Pastoral-Relations-Committee.jpg
ORGANIZER;CN="Ladera Church":MAILTO:church@ladera.org
END:VEVENT
BEGIN:VEVENT
DTSTART;TZID=America/Los_Angeles:20251019T110000
DTEND;TZID=America/Los_Angeles:20251019T120000
DTSTAMP:20260424T131526
CREATED:20250807T181507Z
LAST-MODIFIED:20251008T194608Z
UID:10014252-1760871600-1760875200@ladera.org
SUMMARY:Second Hour: Presentation on our Affordable Housing Plans
DESCRIPTION:Join us to learn about our church’s plans for affordable housing! This session will include a presentation followed by a Q&A. \nIf you aren’t able to attend this second hour\, an additional follow-up second hour is scheduled for Sunday\, November 2.
URL:https://ladera.org/event/second-hour-presentation-on-our-affordable-housing-plans/
LOCATION:LCC: Sanctuary\, 3300 Alpine Road\, Portola Valley\, CA\, 94028\, United States
CATEGORIES:Make a Difference
ATTACH;FMTTYPE=image/jpeg:https://ladera.org/wp-content/uploads/2025/04/AHTF-Weekly-Update-image.jpg
ORGANIZER;CN="Ladera Church":MAILTO:church@ladera.org
END:VEVENT
BEGIN:VEVENT
DTSTART;TZID=America/Los_Angeles:20251015T193000
DTEND;TZID=America/Los_Angeles:20251015T210000
DTSTAMP:20260424T131526
CREATED:20230125T000721Z
LAST-MODIFIED:20251006T185737Z
UID:10014459-1760556600-1760562000@ladera.org
SUMMARY:Affordable Housing Task Force
DESCRIPTION:To download and import the events into an iCalendar (.ics) calendar\, click here.
URL:https://ladera.org/event/affordable-housing-task-force/2025-10-15/
LOCATION:Online – Zoom
CATEGORIES:Make a Difference
ATTACH;FMTTYPE=image/jpeg:https://ladera.org/wp-content/uploads/2022/10/affordable-housing_hands.jpg
ORGANIZER;CN="Ladera Church":MAILTO:church@ladera.org
END:VEVENT
BEGIN:VEVENT
DTSTART;TZID=America/Los_Angeles:20251005T103000
DTEND;TZID=America/Los_Angeles:20251005T110000
DTSTAMP:20260424T131526
CREATED:20250604T235702Z
LAST-MODIFIED:20260325T211925Z
UID:10014277-1759660200-1759662000@ladera.org
SUMMARY:Pastoral Relations Committee Meeting
DESCRIPTION:Pastoral Relations Committee Meeting occur the first Sunday of each month in room 6.
URL:https://ladera.org/event/pastoral-relations-committee-meeting-3-2/2025-10-05/
LOCATION:LCC: Fireside Room\, 3300 Alpine Road\, Portola Valley\, CA\, 94028\, United States
CATEGORIES:Make a Difference
ATTACH;FMTTYPE=image/jpeg:https://ladera.org/wp-content/uploads/2025/03/Pastoral-Relations-Committee.jpg
ORGANIZER;CN="Ladera Church":MAILTO:church@ladera.org
END:VEVENT
BEGIN:VEVENT
DTSTART;TZID=America/Los_Angeles:20251001T193000
DTEND;TZID=America/Los_Angeles:20251001T203000
DTSTAMP:20260424T131526
CREATED:20230125T000721Z
LAST-MODIFIED:20251006T185737Z
UID:10005980-1759347000-1759350600@ladera.org
SUMMARY:Affordable Housing Task Force
DESCRIPTION:To download and import the events into an iCalendar (.ics) calendar\, click here.
URL:https://ladera.org/event/affordable-housing-task-force/2025-10-01/
LOCATION:Online – Zoom
CATEGORIES:Make a Difference
ATTACH;FMTTYPE=image/jpeg:https://ladera.org/wp-content/uploads/2022/10/affordable-housing_hands.jpg
ORGANIZER;CN="Ladera Church":MAILTO:church@ladera.org
END:VEVENT
BEGIN:VEVENT
DTSTART;TZID=America/Los_Angeles:20250914T103000
DTEND;TZID=America/Los_Angeles:20250914T110000
DTSTAMP:20260424T131526
CREATED:20250604T235702Z
LAST-MODIFIED:20260325T211925Z
UID:10014341-1757845800-1757847600@ladera.org
SUMMARY:Pastoral Relations Committee Meeting
DESCRIPTION:Pastoral Relations Committee Meeting occur the first Sunday of each month in room 6.
URL:https://ladera.org/event/pastoral-relations-committee-meeting-3-2/2025-09-14/
LOCATION:LCC: Fireside Room\, 3300 Alpine Road\, Portola Valley\, CA\, 94028\, United States
CATEGORIES:Make a Difference
ATTACH;FMTTYPE=image/jpeg:https://ladera.org/wp-content/uploads/2025/03/Pastoral-Relations-Committee.jpg
ORGANIZER;CN="Ladera Church":MAILTO:church@ladera.org
END:VEVENT
BEGIN:VEVENT
DTSTART;TZID=America/Los_Angeles:20250910T163000
DTEND;TZID=America/Los_Angeles:20250910T174500
DTSTAMP:20260424T131526
CREATED:20250910T165754Z
LAST-MODIFIED:20260310T155721Z
UID:10015871-1757521800-1757526300@ladera.org
SUMMARY:Social Justice Meeting
DESCRIPTION:
URL:https://ladera.org/event/social-justice-meeting-2-2-2-2-4/2025-09-10/
LOCATION:Online – Zoom
CATEGORIES:Make a Difference
ATTACH;FMTTYPE=image/jpeg:https://ladera.org/wp-content/uploads/2022/10/social-justice-e1666131952585.jpg
ORGANIZER;CN="Ladera Church":MAILTO:church@ladera.org
END:VEVENT
BEGIN:VEVENT
DTSTART;TZID=America/Los_Angeles:20250906T100000
DTEND;TZID=America/Los_Angeles:20250906T120000
DTSTAMP:20260424T131526
CREATED:20250827T160135Z
LAST-MODIFIED:20250827T160135Z
UID:10014273-1757152800-1757160000@ladera.org
SUMMARY:Funding Our Future Team Meeting
DESCRIPTION:
URL:https://ladera.org/event/funding-our-future-team-meeting/
LOCATION:LCC: Room 6\, 3300 Alpine Road\, Portola Valley\, CA\, 94028\, United States
CATEGORIES:Make a Difference
ATTACH;FMTTYPE=image/jpeg:https://ladera.org/wp-content/uploads/2025/04/Facility-Upgrades-Banner-1.jpg
ORGANIZER;CN="Ladera Church":MAILTO:church@ladera.org
END:VEVENT
BEGIN:VEVENT
DTSTART;TZID=America/Los_Angeles:20250903T193000
DTEND;TZID=America/Los_Angeles:20250903T203000
DTSTAMP:20260424T131526
CREATED:20230125T000721Z
LAST-MODIFIED:20251006T185737Z
UID:10005979-1756927800-1756931400@ladera.org
SUMMARY:Affordable Housing Task Force
DESCRIPTION:To download and import the events into an iCalendar (.ics) calendar\, click here.
URL:https://ladera.org/event/affordable-housing-task-force/2025-09-03/
LOCATION:Online – Zoom
CATEGORIES:Make a Difference
ATTACH;FMTTYPE=image/jpeg:https://ladera.org/wp-content/uploads/2022/10/affordable-housing_hands.jpg
ORGANIZER;CN="Ladera Church":MAILTO:church@ladera.org
END:VEVENT
BEGIN:VEVENT
DTSTART;TZID=America/Los_Angeles:20250829T160000
DTEND;TZID=America/Los_Angeles:20250829T180000
DTSTAMP:20260424T131526
CREATED:20250829T163629Z
LAST-MODIFIED:20250829T163629Z
UID:10014336-1756483200-1756490400@ladera.org
SUMMARY:Construction Team Meeting
DESCRIPTION:
URL:https://ladera.org/event/construction-team-meeting-2/
LOCATION:LCC: Fireside Room\, 3300 Alpine Road\, Portola Valley\, CA\, 94028\, United States
CATEGORIES:Make a Difference
ORGANIZER;CN="Ladera Church":MAILTO:church@ladera.org
END:VEVENT
BEGIN:VEVENT
DTSTART;TZID=America/Los_Angeles:20250817T093000
DTEND;TZID=America/Los_Angeles:20250817T103000
DTSTAMP:20260424T131526
CREATED:20250808T165715Z
LAST-MODIFIED:20250808T165715Z
UID:10014255-1755423000-1755426600@ladera.org
SUMMARY:Sharing our Journey with Liz Mulford
DESCRIPTION:Sharing Our Journey Sunday: “Where is Justice?”\nReverend Evelyn interviews activist Liz Mulford on her social justice work. Join us as we reflect on justice\, solidarity\, and our shared journey toward equity.
URL:https://ladera.org/event/sharing-our-journey-with-liz-mulford/
LOCATION:LCC: Sanctuary\, 3300 Alpine Road\, Portola Valley\, CA\, 94028\, United States
CATEGORIES:Make a Difference
ORGANIZER;CN="Ladera Church":MAILTO:church@ladera.org
END:VEVENT
BEGIN:VEVENT
DTSTART;TZID=America/Los_Angeles:20250813T140000
DTEND;TZID=America/Los_Angeles:20250813T153000
DTSTAMP:20260424T131526
CREATED:20250808T160823Z
LAST-MODIFIED:20250808T160827Z
UID:10012170-1755093600-1755099000@ladera.org
SUMMARY:Social Justice Meeting
DESCRIPTION:Join Zoom Meeting \nMeeting ID: 835 0702 6497 \nPasscode: 465378
URL:https://ladera.org/event/social-justice-meeting-2-2-2-2-3/
LOCATION:Online – Zoom
CATEGORIES:Make a Difference
ATTACH;FMTTYPE=image/jpeg:https://ladera.org/wp-content/uploads/2022/10/social-justice-e1666131952585.jpg
ORGANIZER;CN="Ladera Church":MAILTO:church@ladera.org
END:VEVENT
BEGIN:VEVENT
DTSTART;TZID=America/Los_Angeles:20250806T193000
DTEND;TZID=America/Los_Angeles:20250806T203000
DTSTAMP:20260424T131526
CREATED:20230125T000721Z
LAST-MODIFIED:20251006T185737Z
UID:10005978-1754508600-1754512200@ladera.org
SUMMARY:Affordable Housing Task Force
DESCRIPTION:To download and import the events into an iCalendar (.ics) calendar\, click here.
URL:https://ladera.org/event/affordable-housing-task-force/2025-08-06/
LOCATION:Online – Zoom
CATEGORIES:Make a Difference
ATTACH;FMTTYPE=image/jpeg:https://ladera.org/wp-content/uploads/2022/10/affordable-housing_hands.jpg
ORGANIZER;CN="Ladera Church":MAILTO:church@ladera.org
END:VEVENT
BEGIN:VEVENT
DTSTART;TZID=America/Los_Angeles:20250803T103000
DTEND;TZID=America/Los_Angeles:20250803T110000
DTSTAMP:20260424T131526
CREATED:20250604T235702Z
LAST-MODIFIED:20260325T211925Z
UID:10014275-1754217000-1754218800@ladera.org
SUMMARY:Pastoral Relations Committee Meeting
DESCRIPTION:Pastoral Relations Committee Meeting occur the first Sunday of each month in room 6.
URL:https://ladera.org/event/pastoral-relations-committee-meeting-3-2/2025-08-03/
LOCATION:LCC: Fireside Room\, 3300 Alpine Road\, Portola Valley\, CA\, 94028\, United States
CATEGORIES:Make a Difference
ATTACH;FMTTYPE=image/jpeg:https://ladera.org/wp-content/uploads/2025/03/Pastoral-Relations-Committee.jpg
ORGANIZER;CN="Ladera Church":MAILTO:church@ladera.org
END:VEVENT
BEGIN:VEVENT
DTSTART;TZID=America/Los_Angeles:20250713T143000
DTEND;TZID=America/Los_Angeles:20250713T160000
DTSTAMP:20260424T131526
CREATED:20250709T155302Z
LAST-MODIFIED:20250709T155302Z
UID:10013943-1752417000-1752422400@ladera.org
SUMMARY:Affordable Housing Task Force Meeting
DESCRIPTION:
URL:https://ladera.org/event/affordable-housing-task-force-meeting-2/
LOCATION:Online – Zoom
CATEGORIES:Make a Difference
ATTACH;FMTTYPE=image/jpeg:https://ladera.org/wp-content/uploads/2022/10/affordable-housing_hands.jpg
ORGANIZER;CN="Ladera Church":MAILTO:church@ladera.org
END:VEVENT
BEGIN:VEVENT
DTSTART;TZID=America/Los_Angeles:20250709T160000
DTEND;TZID=America/Los_Angeles:20250709T173000
DTSTAMP:20260424T131526
CREATED:20250707T155814Z
LAST-MODIFIED:20250707T155816Z
UID:10012169-1752076800-1752082200@ladera.org
SUMMARY:Social Justice Meeting
DESCRIPTION:Join Zoom Meeting \nMeeting ID: 835 0702 6497 \nPasscode: 465378 \n🙂
URL:https://ladera.org/event/social-justice-meeting-2-2-2-2-2/
LOCATION:Online – Zoom
CATEGORIES:Make a Difference
ATTACH;FMTTYPE=image/jpeg:https://ladera.org/wp-content/uploads/2022/10/social-justice-e1666131952585.jpg
ORGANIZER;CN="Ladera Church":MAILTO:church@ladera.org
END:VEVENT
BEGIN:VEVENT
DTSTART;TZID=America/Los_Angeles:20250706T103000
DTEND;TZID=America/Los_Angeles:20250706T110000
DTSTAMP:20260424T131526
CREATED:20250604T235702Z
LAST-MODIFIED:20260325T211925Z
UID:10014274-1751797800-1751799600@ladera.org
SUMMARY:Pastoral Relations Committee Meeting
DESCRIPTION:Pastoral Relations Committee Meeting occur the first Sunday of each month in room 6.
URL:https://ladera.org/event/pastoral-relations-committee-meeting-3-2/2025-07-06/
LOCATION:LCC: Fireside Room\, 3300 Alpine Road\, Portola Valley\, CA\, 94028\, United States
CATEGORIES:Make a Difference
ATTACH;FMTTYPE=image/jpeg:https://ladera.org/wp-content/uploads/2025/03/Pastoral-Relations-Committee.jpg
ORGANIZER;CN="Ladera Church":MAILTO:church@ladera.org
END:VEVENT
BEGIN:VEVENT
DTSTART;TZID=America/Los_Angeles:20250702T193000
DTEND;TZID=America/Los_Angeles:20250702T203000
DTSTAMP:20260424T131526
CREATED:20230125T000721Z
LAST-MODIFIED:20251006T185737Z
UID:10005977-1751484600-1751488200@ladera.org
SUMMARY:Affordable Housing Task Force
DESCRIPTION:To download and import the events into an iCalendar (.ics) calendar\, click here.
URL:https://ladera.org/event/affordable-housing-task-force/2025-07-02/
LOCATION:Online – Zoom
CATEGORIES:Make a Difference
ATTACH;FMTTYPE=image/jpeg:https://ladera.org/wp-content/uploads/2022/10/affordable-housing_hands.jpg
ORGANIZER;CN="Ladera Church":MAILTO:church@ladera.org
END:VEVENT
BEGIN:VEVENT
DTSTART;VALUE=DATE:20250701
DTEND;VALUE=DATE:20250801
DTSTAMP:20260424T131526
CREATED:20250527T162058Z
LAST-MODIFIED:20250527T162058Z
UID:10013766-1751328000-1754006399@ladera.org
SUMMARY:Ecumenical Hunger Program (EHP) Food Drive
DESCRIPTION:Summertime and the livin’ is not easy! Food needs soar during the summer when donations decrease and the school lunch programs cease. Now is the time for us to support Ecumenical Hunger Program food give-away.  For the month of July we will be collecting funds for EHP.  Write a check to LCC with “Food Drive” in the memo line and drop it by the office or in the offering plate on Sunday\, or go online at ladera.org/give/. Thank you for sharing the bounty! \nSubmitted by Mission & Service
URL:https://ladera.org/event/ecumenical-hunger-program-ehp-food-drive/
LOCATION:Ladera Church\, 3300 Alpine Road\, Portola Valley\, CA\, 94028\, United States
CATEGORIES:Make a Difference
ATTACH;FMTTYPE=image/jpeg:https://ladera.org/wp-content/uploads/2025/05/EHP.jpg
ORGANIZER;CN="Ladera Church":MAILTO:church@ladera.org
END:VEVENT
BEGIN:VEVENT
DTSTART;TZID=America/Los_Angeles:20250611T193000
DTEND;TZID=America/Los_Angeles:20250611T203000
DTSTAMP:20260424T131526
CREATED:20230125T000721Z
LAST-MODIFIED:20251006T185737Z
UID:10013775-1749670200-1749673800@ladera.org
SUMMARY:Affordable Housing Task Force
DESCRIPTION:To download and import the events into an iCalendar (.ics) calendar\, click here.
URL:https://ladera.org/event/affordable-housing-task-force/2025-06-11/
LOCATION:Online – Zoom
CATEGORIES:Make a Difference
ATTACH;FMTTYPE=image/jpeg:https://ladera.org/wp-content/uploads/2022/10/affordable-housing_hands.jpg
ORGANIZER;CN="Ladera Church":MAILTO:church@ladera.org
END:VEVENT
BEGIN:VEVENT
DTSTART;TZID=America/Los_Angeles:20250611T131500
DTEND;TZID=America/Los_Angeles:20250611T143000
DTSTAMP:20260424T131526
CREATED:20230816T195107Z
LAST-MODIFIED:20250331T163935Z
UID:10012168-1749647700-1749652200@ladera.org
SUMMARY:Social Justice Meeting
DESCRIPTION:Join Zoom Meeting \nMeeting ID: 835 0702 6497 \nPasscode: 465378
URL:https://ladera.org/event/social-justice-meeting-2-2-2-2/2025-06-11/
LOCATION:Online – Zoom
CATEGORIES:Make a Difference
ATTACH;FMTTYPE=image/jpeg:https://ladera.org/wp-content/uploads/2022/10/social-justice-e1666131952585.jpg
ORGANIZER;CN="Ladera Church":MAILTO:church@ladera.org
END:VEVENT
BEGIN:VEVENT
DTSTART;TZID=America/Los_Angeles:20250601T110000
DTEND;TZID=America/Los_Angeles:20250601T120000
DTSTAMP:20260424T131526
CREATED:20250326T193111Z
LAST-MODIFIED:20250326T193111Z
UID:10012780-1748775600-1748779200@ladera.org
SUMMARY:Pastoral Relations Committee Meeting
DESCRIPTION:Pastoral Relations Committee Meeting occur the first Sunday of each month in room 6.
URL:https://ladera.org/event/pastoral-relations-committee-meeting-3/2025-06-01/
LOCATION:LCC: Room 6\, 3300 Alpine Road\, Portola Valley\, CA\, 94028\, United States
CATEGORIES:Make a Difference
ATTACH;FMTTYPE=image/jpeg:https://ladera.org/wp-content/uploads/2025/03/Pastoral-Relations-Committee.jpg
ORGANIZER;CN="Ladera Church":MAILTO:church@ladera.org
END:VEVENT
BEGIN:VEVENT
DTSTART;TZID=America/Los_Angeles:20250514T131500
DTEND;TZID=America/Los_Angeles:20250514T143000
DTSTAMP:20260424T131526
CREATED:20230816T195107Z
LAST-MODIFIED:20250331T163935Z
UID:10012167-1747228500-1747233000@ladera.org
SUMMARY:Social Justice Meeting
DESCRIPTION:Join Zoom Meeting \nMeeting ID: 835 0702 6497 \nPasscode: 465378
URL:https://ladera.org/event/social-justice-meeting-2-2-2-2/2025-05-14/
LOCATION:Online – Zoom
CATEGORIES:Make a Difference
ATTACH;FMTTYPE=image/jpeg:https://ladera.org/wp-content/uploads/2022/10/social-justice-e1666131952585.jpg
ORGANIZER;CN="Ladera Church":MAILTO:church@ladera.org
END:VEVENT
BEGIN:VEVENT
DTSTART;TZID=America/Los_Angeles:20250507T193000
DTEND;TZID=America/Los_Angeles:20250507T203000
DTSTAMP:20260424T131526
CREATED:20230125T000721Z
LAST-MODIFIED:20251006T185737Z
UID:10005975-1746646200-1746649800@ladera.org
SUMMARY:Affordable Housing Task Force
DESCRIPTION:To download and import the events into an iCalendar (.ics) calendar\, click here.
URL:https://ladera.org/event/affordable-housing-task-force/2025-05-07/
LOCATION:Online – Zoom
CATEGORIES:Make a Difference
ATTACH;FMTTYPE=image/jpeg:https://ladera.org/wp-content/uploads/2022/10/affordable-housing_hands.jpg
ORGANIZER;CN="Ladera Church":MAILTO:church@ladera.org
END:VEVENT
BEGIN:VEVENT
DTSTART;TZID=America/Los_Angeles:20250504T110000
DTEND;TZID=America/Los_Angeles:20250504T120000
DTSTAMP:20260424T131526
CREATED:20250326T193111Z
LAST-MODIFIED:20250326T193111Z
UID:10012779-1746356400-1746360000@ladera.org
SUMMARY:Pastoral Relations Committee Meeting
DESCRIPTION:Pastoral Relations Committee Meeting occur the first Sunday of each month in room 6.
URL:https://ladera.org/event/pastoral-relations-committee-meeting-3/2025-05-04/
LOCATION:LCC: Room 6\, 3300 Alpine Road\, Portola Valley\, CA\, 94028\, United States
CATEGORIES:Make a Difference
ATTACH;FMTTYPE=image/jpeg:https://ladera.org/wp-content/uploads/2025/03/Pastoral-Relations-Committee.jpg
ORGANIZER;CN="Ladera Church":MAILTO:church@ladera.org
END:VEVENT
BEGIN:VEVENT
DTSTART;TZID=America/Los_Angeles:20250504T104500
DTEND;TZID=America/Los_Angeles:20250504T120000
DTSTAMP:20260424T131526
CREATED:20250403T165125Z
LAST-MODIFIED:20250404T224050Z
UID:10012848-1746355500-1746360000@ladera.org
SUMMARY:Site Plan Congregational Meeting & Vote
DESCRIPTION:Join us on May 4 for a Site Plan congregational meeting to vote on moving forward with the design phase of the proposed improvements at LCC. Your participation is important as we take the next steps in this process. We hope to see you there!
URL:https://ladera.org/event/congregational-meeting-vote/
LOCATION:LCC: Sanctuary\, 3300 Alpine Road\, Portola Valley\, CA\, 94028\, United States
CATEGORIES:Make a Difference
ATTACH;FMTTYPE=image/jpeg:https://ladera.org/wp-content/uploads/2025/04/Facility-Upgrades-Banner-1.jpg
ORGANIZER;CN="Ladera Church":MAILTO:church@ladera.org
END:VEVENT
END:VCALENDAR