BEGIN:VCALENDAR
VERSION:2.0
PRODID:-//Ladera Community Church - ECPv6.15.20//NONSGML v1.0//EN
CALSCALE:GREGORIAN
METHOD:PUBLISH
X-WR-CALNAME:Ladera Community Church
X-ORIGINAL-URL:https://ladera.org
X-WR-CALDESC:Events for Ladera Community Church
REFRESH-INTERVAL;VALUE=DURATION:PT1H
X-Robots-Tag:noindex
X-PUBLISHED-TTL:PT1H
BEGIN:VTIMEZONE
TZID:America/Los_Angeles
BEGIN:DAYLIGHT
TZOFFSETFROM:-0800
TZOFFSETTO:-0700
TZNAME:PDT
DTSTART:20250309T100000
END:DAYLIGHT
BEGIN:STANDARD
TZOFFSETFROM:-0700
TZOFFSETTO:-0800
TZNAME:PST
DTSTART:20251102T090000
END:STANDARD
BEGIN:DAYLIGHT
TZOFFSETFROM:-0800
TZOFFSETTO:-0700
TZNAME:PDT
DTSTART:20260308T100000
END:DAYLIGHT
BEGIN:STANDARD
TZOFFSETFROM:-0700
TZOFFSETTO:-0800
TZNAME:PST
DTSTART:20261101T090000
END:STANDARD
BEGIN:DAYLIGHT
TZOFFSETFROM:-0800
TZOFFSETTO:-0700
TZNAME:PDT
DTSTART:20270314T100000
END:DAYLIGHT
BEGIN:STANDARD
TZOFFSETFROM:-0700
TZOFFSETTO:-0800
TZNAME:PST
DTSTART:20271107T090000
END:STANDARD
BEGIN:DAYLIGHT
TZOFFSETFROM:-0800
TZOFFSETTO:-0700
TZNAME:PDT
DTSTART:20280312T100000
END:DAYLIGHT
BEGIN:STANDARD
TZOFFSETFROM:-0700
TZOFFSETTO:-0800
TZNAME:PST
DTSTART:20281105T090000
END:STANDARD
END:VTIMEZONE
BEGIN:VEVENT
DTSTART;TZID=America/Los_Angeles:20260506T193000
DTEND;TZID=America/Los_Angeles:20260506T203000
DTSTAMP:20260425T093725
CREATED:20230125T000721Z
LAST-MODIFIED:20251006T185737Z
UID:10005987-1778095800-1778099400@ladera.org
SUMMARY:Affordable Housing Task Force
DESCRIPTION:To download and import the events into an iCalendar (.ics) calendar\, click here.
URL:https://ladera.org/event/affordable-housing-task-force/2026-05-06/
LOCATION:Online – Zoom
CATEGORIES:Make a Difference
ATTACH;FMTTYPE=image/jpeg:https://ladera.org/wp-content/uploads/2022/10/affordable-housing_hands.jpg
ORGANIZER;CN="Ladera Church":MAILTO:church@ladera.org
END:VEVENT
BEGIN:VEVENT
DTSTART;TZID=America/Los_Angeles:20260513T163000
DTEND;TZID=America/Los_Angeles:20260513T174500
DTSTAMP:20260425T093725
CREATED:20250910T165754Z
LAST-MODIFIED:20260310T155721Z
UID:10015873-1778689800-1778694300@ladera.org
SUMMARY:Social Justice Meeting
DESCRIPTION:
URL:https://ladera.org/event/social-justice-meeting-2-2-2-2-4/2026-05-13/
LOCATION:Online – Zoom
CATEGORIES:Make a Difference
ATTACH;FMTTYPE=image/jpeg:https://ladera.org/wp-content/uploads/2022/10/social-justice-e1666131952585.jpg
ORGANIZER;CN="Ladera Church":MAILTO:church@ladera.org
END:VEVENT
BEGIN:VEVENT
DTSTART;TZID=America/Los_Angeles:20260603T193000
DTEND;TZID=America/Los_Angeles:20260603T203000
DTSTAMP:20260425T093725
CREATED:20230125T000721Z
LAST-MODIFIED:20251006T185737Z
UID:10005988-1780515000-1780518600@ladera.org
SUMMARY:Affordable Housing Task Force
DESCRIPTION:To download and import the events into an iCalendar (.ics) calendar\, click here.
URL:https://ladera.org/event/affordable-housing-task-force/2026-06-03/
LOCATION:Online – Zoom
CATEGORIES:Make a Difference
ATTACH;FMTTYPE=image/jpeg:https://ladera.org/wp-content/uploads/2022/10/affordable-housing_hands.jpg
ORGANIZER;CN="Ladera Church":MAILTO:church@ladera.org
END:VEVENT
BEGIN:VEVENT
DTSTART;TZID=America/Los_Angeles:20260607T103000
DTEND;TZID=America/Los_Angeles:20260607T110000
DTSTAMP:20260425T093725
CREATED:20250604T235702Z
LAST-MODIFIED:20260325T211925Z
UID:10014285-1780828200-1780830000@ladera.org
SUMMARY:Pastoral Relations Committee Meeting
DESCRIPTION:Pastoral Relations Committee Meeting occur the first Sunday of each month in room 6.
URL:https://ladera.org/event/pastoral-relations-committee-meeting-3-2/2026-06-07/
LOCATION:LCC: Fireside Room\, 3300 Alpine Road\, Portola Valley\, CA\, 94028\, United States
CATEGORIES:Make a Difference
ATTACH;FMTTYPE=image/jpeg:https://ladera.org/wp-content/uploads/2025/03/Pastoral-Relations-Committee.jpg
ORGANIZER;CN="Ladera Church":MAILTO:church@ladera.org
END:VEVENT
BEGIN:VEVENT
DTSTART;TZID=America/Los_Angeles:20260610T163000
DTEND;TZID=America/Los_Angeles:20260610T174500
DTSTAMP:20260425T093725
CREATED:20250910T165754Z
LAST-MODIFIED:20260310T155721Z
UID:10015874-1781109000-1781113500@ladera.org
SUMMARY:Social Justice Meeting
DESCRIPTION:
URL:https://ladera.org/event/social-justice-meeting-2-2-2-2-4/2026-06-10/
LOCATION:Online – Zoom
CATEGORIES:Make a Difference
ATTACH;FMTTYPE=image/jpeg:https://ladera.org/wp-content/uploads/2022/10/social-justice-e1666131952585.jpg
ORGANIZER;CN="Ladera Church":MAILTO:church@ladera.org
END:VEVENT
BEGIN:VEVENT
DTSTART;TZID=America/Los_Angeles:20260701T193000
DTEND;TZID=America/Los_Angeles:20260701T203000
DTSTAMP:20260425T093726
CREATED:20230125T000721Z
LAST-MODIFIED:20251006T185737Z
UID:10005989-1782934200-1782937800@ladera.org
SUMMARY:Affordable Housing Task Force
DESCRIPTION:To download and import the events into an iCalendar (.ics) calendar\, click here.
URL:https://ladera.org/event/affordable-housing-task-force/2026-07-01/
LOCATION:Online – Zoom
CATEGORIES:Make a Difference
ATTACH;FMTTYPE=image/jpeg:https://ladera.org/wp-content/uploads/2022/10/affordable-housing_hands.jpg
ORGANIZER;CN="Ladera Church":MAILTO:church@ladera.org
END:VEVENT
BEGIN:VEVENT
DTSTART;TZID=America/Los_Angeles:20260705T103000
DTEND;TZID=America/Los_Angeles:20260705T110000
DTSTAMP:20260425T093726
CREATED:20250604T235702Z
LAST-MODIFIED:20260325T211925Z
UID:10014286-1783247400-1783249200@ladera.org
SUMMARY:Pastoral Relations Committee Meeting
DESCRIPTION:Pastoral Relations Committee Meeting occur the first Sunday of each month in room 6.
URL:https://ladera.org/event/pastoral-relations-committee-meeting-3-2/2026-07-05/
LOCATION:LCC: Fireside Room\, 3300 Alpine Road\, Portola Valley\, CA\, 94028\, United States
CATEGORIES:Make a Difference
ATTACH;FMTTYPE=image/jpeg:https://ladera.org/wp-content/uploads/2025/03/Pastoral-Relations-Committee.jpg
ORGANIZER;CN="Ladera Church":MAILTO:church@ladera.org
END:VEVENT
BEGIN:VEVENT
DTSTART;TZID=America/Los_Angeles:20260708T163000
DTEND;TZID=America/Los_Angeles:20260708T174500
DTSTAMP:20260425T093726
CREATED:20250910T165754Z
LAST-MODIFIED:20260310T155721Z
UID:10015875-1783528200-1783532700@ladera.org
SUMMARY:Social Justice Meeting
DESCRIPTION:
URL:https://ladera.org/event/social-justice-meeting-2-2-2-2-4/2026-07-08/
LOCATION:Online – Zoom
CATEGORIES:Make a Difference
ATTACH;FMTTYPE=image/jpeg:https://ladera.org/wp-content/uploads/2022/10/social-justice-e1666131952585.jpg
ORGANIZER;CN="Ladera Church":MAILTO:church@ladera.org
END:VEVENT
BEGIN:VEVENT
DTSTART;TZID=America/Los_Angeles:20260802T103000
DTEND;TZID=America/Los_Angeles:20260802T110000
DTSTAMP:20260425T093726
CREATED:20250604T235702Z
LAST-MODIFIED:20260325T211925Z
UID:10014287-1785666600-1785668400@ladera.org
SUMMARY:Pastoral Relations Committee Meeting
DESCRIPTION:Pastoral Relations Committee Meeting occur the first Sunday of each month in room 6.
URL:https://ladera.org/event/pastoral-relations-committee-meeting-3-2/2026-08-02/
LOCATION:LCC: Fireside Room\, 3300 Alpine Road\, Portola Valley\, CA\, 94028\, United States
CATEGORIES:Make a Difference
ATTACH;FMTTYPE=image/jpeg:https://ladera.org/wp-content/uploads/2025/03/Pastoral-Relations-Committee.jpg
ORGANIZER;CN="Ladera Church":MAILTO:church@ladera.org
END:VEVENT
BEGIN:VEVENT
DTSTART;TZID=America/Los_Angeles:20260805T193000
DTEND;TZID=America/Los_Angeles:20260805T203000
DTSTAMP:20260425T093726
CREATED:20230125T000721Z
LAST-MODIFIED:20251006T185737Z
UID:10005990-1785958200-1785961800@ladera.org
SUMMARY:Affordable Housing Task Force
DESCRIPTION:To download and import the events into an iCalendar (.ics) calendar\, click here.
URL:https://ladera.org/event/affordable-housing-task-force/2026-08-05/
LOCATION:Online – Zoom
CATEGORIES:Make a Difference
ATTACH;FMTTYPE=image/jpeg:https://ladera.org/wp-content/uploads/2022/10/affordable-housing_hands.jpg
ORGANIZER;CN="Ladera Church":MAILTO:church@ladera.org
END:VEVENT
BEGIN:VEVENT
DTSTART;TZID=America/Los_Angeles:20260812T163000
DTEND;TZID=America/Los_Angeles:20260812T174500
DTSTAMP:20260425T093726
CREATED:20250910T165754Z
LAST-MODIFIED:20260310T155721Z
UID:10015876-1786552200-1786556700@ladera.org
SUMMARY:Social Justice Meeting
DESCRIPTION:
URL:https://ladera.org/event/social-justice-meeting-2-2-2-2-4/2026-08-12/
LOCATION:Online – Zoom
CATEGORIES:Make a Difference
ATTACH;FMTTYPE=image/jpeg:https://ladera.org/wp-content/uploads/2022/10/social-justice-e1666131952585.jpg
ORGANIZER;CN="Ladera Church":MAILTO:church@ladera.org
END:VEVENT
BEGIN:VEVENT
DTSTART;TZID=America/Los_Angeles:20260902T193000
DTEND;TZID=America/Los_Angeles:20260902T203000
DTSTAMP:20260425T093726
CREATED:20230125T000721Z
LAST-MODIFIED:20251006T185737Z
UID:10005991-1788377400-1788381000@ladera.org
SUMMARY:Affordable Housing Task Force
DESCRIPTION:To download and import the events into an iCalendar (.ics) calendar\, click here.
URL:https://ladera.org/event/affordable-housing-task-force/2026-09-02/
LOCATION:Online – Zoom
CATEGORIES:Make a Difference
ATTACH;FMTTYPE=image/jpeg:https://ladera.org/wp-content/uploads/2022/10/affordable-housing_hands.jpg
ORGANIZER;CN="Ladera Church":MAILTO:church@ladera.org
END:VEVENT
BEGIN:VEVENT
DTSTART;TZID=America/Los_Angeles:20260906T103000
DTEND;TZID=America/Los_Angeles:20260906T110000
DTSTAMP:20260425T093726
CREATED:20250604T235702Z
LAST-MODIFIED:20260325T211925Z
UID:10014288-1788690600-1788692400@ladera.org
SUMMARY:Pastoral Relations Committee Meeting
DESCRIPTION:Pastoral Relations Committee Meeting occur the first Sunday of each month in room 6.
URL:https://ladera.org/event/pastoral-relations-committee-meeting-3-2/2026-09-06/
LOCATION:LCC: Fireside Room\, 3300 Alpine Road\, Portola Valley\, CA\, 94028\, United States
CATEGORIES:Make a Difference
ATTACH;FMTTYPE=image/jpeg:https://ladera.org/wp-content/uploads/2025/03/Pastoral-Relations-Committee.jpg
ORGANIZER;CN="Ladera Church":MAILTO:church@ladera.org
END:VEVENT
BEGIN:VEVENT
DTSTART;TZID=America/Los_Angeles:20260909T163000
DTEND;TZID=America/Los_Angeles:20260909T174500
DTSTAMP:20260425T093726
CREATED:20250910T165754Z
LAST-MODIFIED:20260310T155721Z
UID:10015877-1788971400-1788975900@ladera.org
SUMMARY:Social Justice Meeting
DESCRIPTION:
URL:https://ladera.org/event/social-justice-meeting-2-2-2-2-4/2026-09-09/
LOCATION:Online – Zoom
CATEGORIES:Make a Difference
ATTACH;FMTTYPE=image/jpeg:https://ladera.org/wp-content/uploads/2022/10/social-justice-e1666131952585.jpg
ORGANIZER;CN="Ladera Church":MAILTO:church@ladera.org
END:VEVENT
BEGIN:VEVENT
DTSTART;TZID=America/Los_Angeles:20261004T103000
DTEND;TZID=America/Los_Angeles:20261004T110000
DTSTAMP:20260425T093726
CREATED:20250604T235702Z
LAST-MODIFIED:20260325T211925Z
UID:10014289-1791109800-1791111600@ladera.org
SUMMARY:Pastoral Relations Committee Meeting
DESCRIPTION:Pastoral Relations Committee Meeting occur the first Sunday of each month in room 6.
URL:https://ladera.org/event/pastoral-relations-committee-meeting-3-2/2026-10-04/
LOCATION:LCC: Fireside Room\, 3300 Alpine Road\, Portola Valley\, CA\, 94028\, United States
CATEGORIES:Make a Difference
ATTACH;FMTTYPE=image/jpeg:https://ladera.org/wp-content/uploads/2025/03/Pastoral-Relations-Committee.jpg
ORGANIZER;CN="Ladera Church":MAILTO:church@ladera.org
END:VEVENT
BEGIN:VEVENT
DTSTART;TZID=America/Los_Angeles:20261007T193000
DTEND;TZID=America/Los_Angeles:20261007T203000
DTSTAMP:20260425T093726
CREATED:20230125T000721Z
LAST-MODIFIED:20251006T185737Z
UID:10005992-1791401400-1791405000@ladera.org
SUMMARY:Affordable Housing Task Force
DESCRIPTION:To download and import the events into an iCalendar (.ics) calendar\, click here.
URL:https://ladera.org/event/affordable-housing-task-force/2026-10-07/
LOCATION:Online – Zoom
CATEGORIES:Make a Difference
ATTACH;FMTTYPE=image/jpeg:https://ladera.org/wp-content/uploads/2022/10/affordable-housing_hands.jpg
ORGANIZER;CN="Ladera Church":MAILTO:church@ladera.org
END:VEVENT
BEGIN:VEVENT
DTSTART;TZID=America/Los_Angeles:20261014T163000
DTEND;TZID=America/Los_Angeles:20261014T174500
DTSTAMP:20260425T093726
CREATED:20250910T165754Z
LAST-MODIFIED:20260310T155721Z
UID:10015878-1791995400-1791999900@ladera.org
SUMMARY:Social Justice Meeting
DESCRIPTION:
URL:https://ladera.org/event/social-justice-meeting-2-2-2-2-4/2026-10-14/
LOCATION:Online – Zoom
CATEGORIES:Make a Difference
ATTACH;FMTTYPE=image/jpeg:https://ladera.org/wp-content/uploads/2022/10/social-justice-e1666131952585.jpg
ORGANIZER;CN="Ladera Church":MAILTO:church@ladera.org
END:VEVENT
BEGIN:VEVENT
DTSTART;TZID=America/Los_Angeles:20261101T103000
DTEND;TZID=America/Los_Angeles:20261101T110000
DTSTAMP:20260425T093726
CREATED:20250604T235702Z
LAST-MODIFIED:20260325T211925Z
UID:10014290-1793529000-1793530800@ladera.org
SUMMARY:Pastoral Relations Committee Meeting
DESCRIPTION:Pastoral Relations Committee Meeting occur the first Sunday of each month in room 6.
URL:https://ladera.org/event/pastoral-relations-committee-meeting-3-2/2026-11-01/
LOCATION:LCC: Fireside Room\, 3300 Alpine Road\, Portola Valley\, CA\, 94028\, United States
CATEGORIES:Make a Difference
ATTACH;FMTTYPE=image/jpeg:https://ladera.org/wp-content/uploads/2025/03/Pastoral-Relations-Committee.jpg
ORGANIZER;CN="Ladera Church":MAILTO:church@ladera.org
END:VEVENT
BEGIN:VEVENT
DTSTART;TZID=America/Los_Angeles:20261104T193000
DTEND;TZID=America/Los_Angeles:20261104T203000
DTSTAMP:20260425T093726
CREATED:20230125T000721Z
LAST-MODIFIED:20251006T185737Z
UID:10005993-1793820600-1793824200@ladera.org
SUMMARY:Affordable Housing Task Force
DESCRIPTION:To download and import the events into an iCalendar (.ics) calendar\, click here.
URL:https://ladera.org/event/affordable-housing-task-force/2026-11-04/
LOCATION:Online – Zoom
CATEGORIES:Make a Difference
ATTACH;FMTTYPE=image/jpeg:https://ladera.org/wp-content/uploads/2022/10/affordable-housing_hands.jpg
ORGANIZER;CN="Ladera Church":MAILTO:church@ladera.org
END:VEVENT
BEGIN:VEVENT
DTSTART;TZID=America/Los_Angeles:20261111T163000
DTEND;TZID=America/Los_Angeles:20261111T174500
DTSTAMP:20260425T093726
CREATED:20250910T165754Z
LAST-MODIFIED:20260310T155721Z
UID:10015879-1794414600-1794419100@ladera.org
SUMMARY:Social Justice Meeting
DESCRIPTION:
URL:https://ladera.org/event/social-justice-meeting-2-2-2-2-4/2026-11-11/
LOCATION:Online – Zoom
CATEGORIES:Make a Difference
ATTACH;FMTTYPE=image/jpeg:https://ladera.org/wp-content/uploads/2022/10/social-justice-e1666131952585.jpg
ORGANIZER;CN="Ladera Church":MAILTO:church@ladera.org
END:VEVENT
BEGIN:VEVENT
DTSTART;TZID=America/Los_Angeles:20261202T193000
DTEND;TZID=America/Los_Angeles:20261202T203000
DTSTAMP:20260425T093726
CREATED:20230125T000721Z
LAST-MODIFIED:20251006T185737Z
UID:10005994-1796239800-1796243400@ladera.org
SUMMARY:Affordable Housing Task Force
DESCRIPTION:To download and import the events into an iCalendar (.ics) calendar\, click here.
URL:https://ladera.org/event/affordable-housing-task-force/2026-12-02/
LOCATION:Online – Zoom
CATEGORIES:Make a Difference
ATTACH;FMTTYPE=image/jpeg:https://ladera.org/wp-content/uploads/2022/10/affordable-housing_hands.jpg
ORGANIZER;CN="Ladera Church":MAILTO:church@ladera.org
END:VEVENT
BEGIN:VEVENT
DTSTART;TZID=America/Los_Angeles:20261206T103000
DTEND;TZID=America/Los_Angeles:20261206T110000
DTSTAMP:20260425T093726
CREATED:20250604T235702Z
LAST-MODIFIED:20260325T211925Z
UID:10014291-1796553000-1796554800@ladera.org
SUMMARY:Pastoral Relations Committee Meeting
DESCRIPTION:Pastoral Relations Committee Meeting occur the first Sunday of each month in room 6.
URL:https://ladera.org/event/pastoral-relations-committee-meeting-3-2/2026-12-06/
LOCATION:LCC: Fireside Room\, 3300 Alpine Road\, Portola Valley\, CA\, 94028\, United States
CATEGORIES:Make a Difference
ATTACH;FMTTYPE=image/jpeg:https://ladera.org/wp-content/uploads/2025/03/Pastoral-Relations-Committee.jpg
ORGANIZER;CN="Ladera Church":MAILTO:church@ladera.org
END:VEVENT
BEGIN:VEVENT
DTSTART;TZID=America/Los_Angeles:20261209T163000
DTEND;TZID=America/Los_Angeles:20261209T174500
DTSTAMP:20260425T093726
CREATED:20250910T165754Z
LAST-MODIFIED:20260310T155721Z
UID:10015880-1796833800-1796838300@ladera.org
SUMMARY:Social Justice Meeting
DESCRIPTION:
URL:https://ladera.org/event/social-justice-meeting-2-2-2-2-4/2026-12-09/
LOCATION:Online – Zoom
CATEGORIES:Make a Difference
ATTACH;FMTTYPE=image/jpeg:https://ladera.org/wp-content/uploads/2022/10/social-justice-e1666131952585.jpg
ORGANIZER;CN="Ladera Church":MAILTO:church@ladera.org
END:VEVENT
BEGIN:VEVENT
DTSTART;TZID=America/Los_Angeles:20270103T103000
DTEND;TZID=America/Los_Angeles:20270103T110000
DTSTAMP:20260425T093726
CREATED:20250604T235702Z
LAST-MODIFIED:20260325T211925Z
UID:10014292-1798972200-1798974000@ladera.org
SUMMARY:Pastoral Relations Committee Meeting
DESCRIPTION:Pastoral Relations Committee Meeting occur the first Sunday of each month in room 6.
URL:https://ladera.org/event/pastoral-relations-committee-meeting-3-2/2027-01-03/
LOCATION:LCC: Fireside Room\, 3300 Alpine Road\, Portola Valley\, CA\, 94028\, United States
CATEGORIES:Make a Difference
ATTACH;FMTTYPE=image/jpeg:https://ladera.org/wp-content/uploads/2025/03/Pastoral-Relations-Committee.jpg
ORGANIZER;CN="Ladera Church":MAILTO:church@ladera.org
END:VEVENT
BEGIN:VEVENT
DTSTART;TZID=America/Los_Angeles:20270106T193000
DTEND;TZID=America/Los_Angeles:20270106T203000
DTSTAMP:20260425T093726
CREATED:20230125T000721Z
LAST-MODIFIED:20251006T185737Z
UID:10005995-1799263800-1799267400@ladera.org
SUMMARY:Affordable Housing Task Force
DESCRIPTION:To download and import the events into an iCalendar (.ics) calendar\, click here.
URL:https://ladera.org/event/affordable-housing-task-force/2027-01-06/
LOCATION:Online – Zoom
CATEGORIES:Make a Difference
ATTACH;FMTTYPE=image/jpeg:https://ladera.org/wp-content/uploads/2022/10/affordable-housing_hands.jpg
ORGANIZER;CN="Ladera Church":MAILTO:church@ladera.org
END:VEVENT
BEGIN:VEVENT
DTSTART;TZID=America/Los_Angeles:20270113T163000
DTEND;TZID=America/Los_Angeles:20270113T174500
DTSTAMP:20260425T093726
CREATED:20250910T165754Z
LAST-MODIFIED:20260310T155721Z
UID:10015881-1799857800-1799862300@ladera.org
SUMMARY:Social Justice Meeting
DESCRIPTION:
URL:https://ladera.org/event/social-justice-meeting-2-2-2-2-4/2027-01-13/
LOCATION:Online – Zoom
CATEGORIES:Make a Difference
ATTACH;FMTTYPE=image/jpeg:https://ladera.org/wp-content/uploads/2022/10/social-justice-e1666131952585.jpg
ORGANIZER;CN="Ladera Church":MAILTO:church@ladera.org
END:VEVENT
BEGIN:VEVENT
DTSTART;TZID=America/Los_Angeles:20270203T193000
DTEND;TZID=America/Los_Angeles:20270203T203000
DTSTAMP:20260425T093726
CREATED:20230125T000721Z
LAST-MODIFIED:20251006T185737Z
UID:10005996-1801683000-1801686600@ladera.org
SUMMARY:Affordable Housing Task Force
DESCRIPTION:To download and import the events into an iCalendar (.ics) calendar\, click here.
URL:https://ladera.org/event/affordable-housing-task-force/2027-02-03/
LOCATION:Online – Zoom
CATEGORIES:Make a Difference
ATTACH;FMTTYPE=image/jpeg:https://ladera.org/wp-content/uploads/2022/10/affordable-housing_hands.jpg
ORGANIZER;CN="Ladera Church":MAILTO:church@ladera.org
END:VEVENT
BEGIN:VEVENT
DTSTART;TZID=America/Los_Angeles:20270207T103000
DTEND;TZID=America/Los_Angeles:20270207T110000
DTSTAMP:20260425T093726
CREATED:20250604T235702Z
LAST-MODIFIED:20260325T211925Z
UID:10014293-1801996200-1801998000@ladera.org
SUMMARY:Pastoral Relations Committee Meeting
DESCRIPTION:Pastoral Relations Committee Meeting occur the first Sunday of each month in room 6.
URL:https://ladera.org/event/pastoral-relations-committee-meeting-3-2/2027-02-07/
LOCATION:LCC: Fireside Room\, 3300 Alpine Road\, Portola Valley\, CA\, 94028\, United States
CATEGORIES:Make a Difference
ATTACH;FMTTYPE=image/jpeg:https://ladera.org/wp-content/uploads/2025/03/Pastoral-Relations-Committee.jpg
ORGANIZER;CN="Ladera Church":MAILTO:church@ladera.org
END:VEVENT
BEGIN:VEVENT
DTSTART;TZID=America/Los_Angeles:20270210T163000
DTEND;TZID=America/Los_Angeles:20270210T174500
DTSTAMP:20260425T093726
CREATED:20250910T165754Z
LAST-MODIFIED:20260310T155721Z
UID:10015882-1802277000-1802281500@ladera.org
SUMMARY:Social Justice Meeting
DESCRIPTION:
URL:https://ladera.org/event/social-justice-meeting-2-2-2-2-4/2027-02-10/
LOCATION:Online – Zoom
CATEGORIES:Make a Difference
ATTACH;FMTTYPE=image/jpeg:https://ladera.org/wp-content/uploads/2022/10/social-justice-e1666131952585.jpg
ORGANIZER;CN="Ladera Church":MAILTO:church@ladera.org
END:VEVENT
BEGIN:VEVENT
DTSTART;TZID=America/Los_Angeles:20270303T193000
DTEND;TZID=America/Los_Angeles:20270303T203000
DTSTAMP:20260425T093726
CREATED:20230125T000721Z
LAST-MODIFIED:20251006T185737Z
UID:10005997-1804102200-1804105800@ladera.org
SUMMARY:Affordable Housing Task Force
DESCRIPTION:To download and import the events into an iCalendar (.ics) calendar\, click here.
URL:https://ladera.org/event/affordable-housing-task-force/2027-03-03/
LOCATION:Online – Zoom
CATEGORIES:Make a Difference
ATTACH;FMTTYPE=image/jpeg:https://ladera.org/wp-content/uploads/2022/10/affordable-housing_hands.jpg
ORGANIZER;CN="Ladera Church":MAILTO:church@ladera.org
END:VEVENT
END:VCALENDAR