BEGIN:VCALENDAR
VERSION:2.0
PRODID:-//Ladera Community Church - ECPv6.15.20//NONSGML v1.0//EN
CALSCALE:GREGORIAN
METHOD:PUBLISH
X-ORIGINAL-URL:https://ladera.org
X-WR-CALDESC:Events for Ladera Community Church
REFRESH-INTERVAL;VALUE=DURATION:PT1H
X-Robots-Tag:noindex
X-PUBLISHED-TTL:PT1H
BEGIN:VTIMEZONE
TZID:America/Los_Angeles
BEGIN:DAYLIGHT
TZOFFSETFROM:-0800
TZOFFSETTO:-0700
TZNAME:PDT
DTSTART:20220313T100000
END:DAYLIGHT
BEGIN:STANDARD
TZOFFSETFROM:-0700
TZOFFSETTO:-0800
TZNAME:PST
DTSTART:20221106T090000
END:STANDARD
BEGIN:DAYLIGHT
TZOFFSETFROM:-0800
TZOFFSETTO:-0700
TZNAME:PDT
DTSTART:20230312T100000
END:DAYLIGHT
BEGIN:STANDARD
TZOFFSETFROM:-0700
TZOFFSETTO:-0800
TZNAME:PST
DTSTART:20231105T090000
END:STANDARD
BEGIN:DAYLIGHT
TZOFFSETFROM:-0800
TZOFFSETTO:-0700
TZNAME:PDT
DTSTART:20240310T100000
END:DAYLIGHT
BEGIN:STANDARD
TZOFFSETFROM:-0700
TZOFFSETTO:-0800
TZNAME:PST
DTSTART:20241103T090000
END:STANDARD
END:VTIMEZONE
BEGIN:VEVENT
DTSTART;TZID=America/Los_Angeles:20231101T193000
DTEND;TZID=America/Los_Angeles:20231101T203000
DTSTAMP:20260425T154503
CREATED:20230125T000721Z
LAST-MODIFIED:20251006T185737Z
UID:10005957-1698867000-1698870600@ladera.org
SUMMARY:Affordable Housing Task Force
DESCRIPTION:To download and import the events into an iCalendar (.ics) calendar\, click here.
URL:https://ladera.org/event/affordable-housing-task-force/2023-11-01/
LOCATION:Online – Zoom
CATEGORIES:Make a Difference
ATTACH;FMTTYPE=image/jpeg:https://ladera.org/wp-content/uploads/2022/10/affordable-housing_hands.jpg
ORGANIZER;CN="Ladera Church":MAILTO:church@ladera.org
END:VEVENT
BEGIN:VEVENT
DTSTART;TZID=America/Los_Angeles:20231011T131500
DTEND;TZID=America/Los_Angeles:20231011T143000
DTSTAMP:20260425T154503
CREATED:20230816T195107Z
LAST-MODIFIED:20250331T163935Z
UID:10012161-1697030100-1697034600@ladera.org
SUMMARY:Social Justice Meeting
DESCRIPTION:Join Zoom Meeting \nMeeting ID: 835 0702 6497 \nPasscode: 465378
URL:https://ladera.org/event/social-justice-meeting-2-2-2-2/2023-10-11/
LOCATION:Online – Zoom
CATEGORIES:Make a Difference
ATTACH;FMTTYPE=image/jpeg:https://ladera.org/wp-content/uploads/2022/10/social-justice-e1666131952585.jpg
ORGANIZER;CN="Ladera Church":MAILTO:church@ladera.org
END:VEVENT
BEGIN:VEVENT
DTSTART;TZID=America/Los_Angeles:20231004T193000
DTEND;TZID=America/Los_Angeles:20231004T203000
DTSTAMP:20260425T154503
CREATED:20230125T000721Z
LAST-MODIFIED:20251006T185737Z
UID:10005956-1696447800-1696451400@ladera.org
SUMMARY:Affordable Housing Task Force
DESCRIPTION:To download and import the events into an iCalendar (.ics) calendar\, click here.
URL:https://ladera.org/event/affordable-housing-task-force/2023-10-04/
LOCATION:Online – Zoom
CATEGORIES:Make a Difference
ATTACH;FMTTYPE=image/jpeg:https://ladera.org/wp-content/uploads/2022/10/affordable-housing_hands.jpg
ORGANIZER;CN="Ladera Church":MAILTO:church@ladera.org
END:VEVENT
BEGIN:VEVENT
DTSTART;TZID=America/Los_Angeles:20230915T150000
DTEND;TZID=America/Los_Angeles:20230915T170000
DTSTAMP:20260425T154504
CREATED:20230907T070057Z
LAST-MODIFIED:20230908T070751Z
UID:10009787-1694790000-1694797200@ladera.org
SUMMARY:Site Team Meeting
DESCRIPTION:Review CAW final report and the team’s recommendations for Council. \nMeet in Room 9.
URL:https://ladera.org/event/site-team-meeting-8/2023-09-15/
LOCATION:LCC: Room 9\, 3300 Alpine Road\, Portola Valley\, CA\, 94028
CATEGORIES:Make a Difference
ATTACH;FMTTYPE=image/jpeg:https://ladera.org/wp-content/uploads/2022/12/SiteTeam.jpg
ORGANIZER;CN="Ladera Church":MAILTO:church@ladera.org
END:VEVENT
BEGIN:VEVENT
DTSTART;TZID=America/Los_Angeles:20230913T143000
DTEND;TZID=America/Los_Angeles:20230913T154500
DTSTAMP:20260425T154504
CREATED:20230816T194904Z
LAST-MODIFIED:20230821T213252Z
UID:10009312-1694615400-1694619900@ladera.org
SUMMARY:Social Justice Meeting
DESCRIPTION:Join Zoom Meeting \nMeeting ID: 835 0702 6497 \nPasscode: 465378
URL:https://ladera.org/event/social-justice-meeting-2-2-2/
LOCATION:Online – Zoom
CATEGORIES:Make a Difference
ATTACH;FMTTYPE=image/jpeg:https://ladera.org/wp-content/uploads/2022/10/social-justice-e1666131952585.jpg
ORGANIZER;CN="Ladera Church":MAILTO:church@ladera.org
END:VEVENT
BEGIN:VEVENT
DTSTART;TZID=America/Los_Angeles:20230907T163000
DTEND;TZID=America/Los_Angeles:20230907T180000
DTSTAMP:20260425T154504
CREATED:20230907T070057Z
LAST-MODIFIED:20230908T070751Z
UID:10009788-1694104200-1694109600@ladera.org
SUMMARY:Site Team Meeting
DESCRIPTION:Review CAW final report and the team’s recommendations for Council. \nMeet in Room 9.
URL:https://ladera.org/event/site-team-meeting-8/2023-09-07/
LOCATION:LCC: Room 9\, 3300 Alpine Road\, Portola Valley\, CA\, 94028
CATEGORIES:Make a Difference
ATTACH;FMTTYPE=image/jpeg:https://ladera.org/wp-content/uploads/2022/12/SiteTeam.jpg
ORGANIZER;CN="Ladera Church":MAILTO:church@ladera.org
END:VEVENT
BEGIN:VEVENT
DTSTART;TZID=America/Los_Angeles:20230906T193000
DTEND;TZID=America/Los_Angeles:20230906T203000
DTSTAMP:20260425T154504
CREATED:20230125T000721Z
LAST-MODIFIED:20251006T185737Z
UID:10005955-1694028600-1694032200@ladera.org
SUMMARY:Affordable Housing Task Force
DESCRIPTION:To download and import the events into an iCalendar (.ics) calendar\, click here.
URL:https://ladera.org/event/affordable-housing-task-force/2023-09-06/
LOCATION:Online – Zoom
CATEGORIES:Make a Difference
ATTACH;FMTTYPE=image/jpeg:https://ladera.org/wp-content/uploads/2022/10/affordable-housing_hands.jpg
ORGANIZER;CN="Ladera Church":MAILTO:church@ladera.org
END:VEVENT
BEGIN:VEVENT
DTSTART;TZID=America/Los_Angeles:20230810T160000
DTEND;TZID=America/Los_Angeles:20230810T180000
DTSTAMP:20260425T154504
CREATED:20230726T070016Z
LAST-MODIFIED:20230726T070016Z
UID:10009380-1691683200-1691690400@ladera.org
SUMMARY:Site Team Meeting
DESCRIPTION:Review the draft of the final site master plan.
URL:https://ladera.org/event/site-team-meeting-7/
LOCATION:LCC: Room 9\, 3300 Alpine Road\, Portola Valley\, CA\, 94028
CATEGORIES:Make a Difference
ATTACH;FMTTYPE=image/jpeg:https://ladera.org/wp-content/uploads/2022/12/SiteTeam.jpg
ORGANIZER;CN="Ladera Church":MAILTO:church@ladera.org
END:VEVENT
BEGIN:VEVENT
DTSTART;TZID=America/Los_Angeles:20230809T143000
DTEND;TZID=America/Los_Angeles:20230809T154500
DTSTAMP:20260425T154504
CREATED:20230703T160340Z
LAST-MODIFIED:20230703T160342Z
UID:10007387-1691591400-1691595900@ladera.org
SUMMARY:Social Justice Meeting
DESCRIPTION:Join Zoom Meeting \nMeeting ID: 835 0702 6497 \nPasscode: 465378
URL:https://ladera.org/event/social-justice-meeting-2-2/
LOCATION:Online – Zoom
CATEGORIES:Make a Difference
ATTACH;FMTTYPE=image/jpeg:https://ladera.org/wp-content/uploads/2022/10/social-justice-e1666131952585.jpg
ORGANIZER;CN="Ladera Church":MAILTO:church@ladera.org
END:VEVENT
BEGIN:VEVENT
DTSTART;TZID=America/Los_Angeles:20230802T193000
DTEND;TZID=America/Los_Angeles:20230802T203000
DTSTAMP:20260425T154504
CREATED:20230125T000721Z
LAST-MODIFIED:20251006T185737Z
UID:10005954-1691004600-1691008200@ladera.org
SUMMARY:Affordable Housing Task Force
DESCRIPTION:To download and import the events into an iCalendar (.ics) calendar\, click here.
URL:https://ladera.org/event/affordable-housing-task-force/2023-08-02/
LOCATION:Online – Zoom
CATEGORIES:Make a Difference
ATTACH;FMTTYPE=image/jpeg:https://ladera.org/wp-content/uploads/2022/10/affordable-housing_hands.jpg
ORGANIZER;CN="Ladera Church":MAILTO:church@ladera.org
END:VEVENT
BEGIN:VEVENT
DTSTART;TZID=America/Los_Angeles:20230705T193000
DTEND;TZID=America/Los_Angeles:20230705T203000
DTSTAMP:20260425T154504
CREATED:20230125T000721Z
LAST-MODIFIED:20251006T185737Z
UID:10005953-1688585400-1688589000@ladera.org
SUMMARY:Affordable Housing Task Force
DESCRIPTION:To download and import the events into an iCalendar (.ics) calendar\, click here.
URL:https://ladera.org/event/affordable-housing-task-force/2023-07-05/
LOCATION:Online – Zoom
CATEGORIES:Make a Difference
ATTACH;FMTTYPE=image/jpeg:https://ladera.org/wp-content/uploads/2022/10/affordable-housing_hands.jpg
ORGANIZER;CN="Ladera Church":MAILTO:church@ladera.org
END:VEVENT
BEGIN:VEVENT
DTSTART;VALUE=DATE:20230701
DTEND;VALUE=DATE:20230725
DTSTAMP:20260425T154504
CREATED:20230626T162509Z
LAST-MODIFIED:20230629T212135Z
UID:10007449-1688169600-1690243199@ladera.org
SUMMARY:School Supplies Drive\, July 1-24
DESCRIPTION:Please join us in providing important school supplies for children in the Bay Area. We are once again partnering with Family Giving Tree\, a local non-profit that has been supplying backpacks for local kids in need for over 30 years! \nTo donate\, write a check to Ladera Community Church with “School Supply Drive” in the memo line ($40 fills one student’s backpack with essential school supplies). \nOr\, if you prefer to donate a full backpack or supplies for a backpack\, click here to see the supplies needed for each backpack. Thank you for your generosity! \n\n\nBlue bins will be placed in front of the church office for you to drop off supplies.
URL:https://ladera.org/event/school-supplies/
LOCATION:Ladera Church\, 3300 Alpine Road\, Portola Valley\, CA\, 94028\, United States
CATEGORIES:Make a Difference
ATTACH;FMTTYPE=image/jpeg:https://ladera.org/wp-content/uploads/2023/06/5e3cb6673e5e4.image_.jpg
ORGANIZER;CN="Ladera Church":MAILTO:church@ladera.org
END:VEVENT
BEGIN:VEVENT
DTSTART;TZID=America/Los_Angeles:20230622T170000
DTEND;TZID=America/Los_Angeles:20230622T180000
DTSTAMP:20260425T154504
CREATED:20230619T204211Z
LAST-MODIFIED:20230619T204211Z
UID:10007446-1687453200-1687456800@ladera.org
SUMMARY:Facilities Team Meeting
DESCRIPTION:Monthly Facilities Team meeting.
URL:https://ladera.org/event/facilities-team-meeting-2/
LOCATION:LCC: Room 9\, 3300 Alpine Road\, Portola Valley\, CA\, 94028
CATEGORIES:Make a Difference
ATTACH;FMTTYPE=image/jpeg:https://ladera.org/wp-content/uploads/2022/10/Facilities.jpg
ORGANIZER;CN="Ladera Church":MAILTO:church@ladera.org
END:VEVENT
BEGIN:VEVENT
DTSTART;TZID=America/Los_Angeles:20230621T143000
DTEND;TZID=America/Los_Angeles:20230621T154500
DTSTAMP:20260425T154504
CREATED:20230508T172203Z
LAST-MODIFIED:20230609T154945Z
UID:10007385-1687357800-1687362300@ladera.org
SUMMARY:Social Justice Meeting
DESCRIPTION:Join Zoom Meeting \nMeeting ID: 835 0702 6497 \nPasscode: 465378
URL:https://ladera.org/event/social-justice-meeting-2/
LOCATION:Online – Zoom
CATEGORIES:Make a Difference
ATTACH;FMTTYPE=image/jpeg:https://ladera.org/wp-content/uploads/2022/10/social-justice-e1666131952585.jpg
ORGANIZER;CN="Ladera Church":MAILTO:church@ladera.org
END:VEVENT
BEGIN:VEVENT
DTSTART;TZID=America/Los_Angeles:20230607T193000
DTEND;TZID=America/Los_Angeles:20230607T203000
DTSTAMP:20260425T154504
CREATED:20230125T000721Z
LAST-MODIFIED:20251006T185737Z
UID:10005952-1686166200-1686169800@ladera.org
SUMMARY:Affordable Housing Task Force
DESCRIPTION:To download and import the events into an iCalendar (.ics) calendar\, click here.
URL:https://ladera.org/event/affordable-housing-task-force/2023-06-07/
LOCATION:Online – Zoom
CATEGORIES:Make a Difference
ATTACH;FMTTYPE=image/jpeg:https://ladera.org/wp-content/uploads/2022/10/affordable-housing_hands.jpg
ORGANIZER;CN="Ladera Church":MAILTO:church@ladera.org
END:VEVENT
BEGIN:VEVENT
DTSTART;TZID=America/Los_Angeles:20230510T140000
DTEND;TZID=America/Los_Angeles:20230510T153000
DTSTAMP:20260425T154504
CREATED:20230508T171651Z
LAST-MODIFIED:20230508T171927Z
UID:10003174-1683727200-1683732600@ladera.org
SUMMARY:Social Justice Meeting
DESCRIPTION:Join Zoom Meeting \nMeeting ID: 835 0702 6497 \nPasscode: 465378
URL:https://ladera.org/event/social-justice-meeting-3/
LOCATION:Online – Zoom
CATEGORIES:Make a Difference
ATTACH;FMTTYPE=image/jpeg:https://ladera.org/wp-content/uploads/2022/10/social-justice-e1666131952585.jpg
ORGANIZER;CN="Ladera Church":MAILTO:church@ladera.org
END:VEVENT
BEGIN:VEVENT
DTSTART;TZID=America/Los_Angeles:20230503T193000
DTEND;TZID=America/Los_Angeles:20230503T203000
DTSTAMP:20260425T154504
CREATED:20230125T000721Z
LAST-MODIFIED:20251006T185737Z
UID:10005951-1683142200-1683145800@ladera.org
SUMMARY:Affordable Housing Task Force
DESCRIPTION:To download and import the events into an iCalendar (.ics) calendar\, click here.
URL:https://ladera.org/event/affordable-housing-task-force/2023-05-03/
LOCATION:Online – Zoom
CATEGORIES:Make a Difference
ATTACH;FMTTYPE=image/jpeg:https://ladera.org/wp-content/uploads/2022/10/affordable-housing_hands.jpg
ORGANIZER;CN="Ladera Church":MAILTO:church@ladera.org
END:VEVENT
BEGIN:VEVENT
DTSTART;TZID=America/Los_Angeles:20230429T100000
DTEND;TZID=America/Los_Angeles:20230429T120000
DTSTAMP:20260425T154504
CREATED:20230323T030350Z
LAST-MODIFIED:20230401T213521Z
UID:10007225-1682762400-1682769600@ladera.org
SUMMARY:Town Hall Gathering
DESCRIPTION:Congregational Town Hall Saturday\, April 29\, 10:00 a.m. to noon Your church council members invite you to a Town Hall gathering to explore the purpose and identity of LCC. Breakfast will be provided.
URL:https://ladera.org/event/townhall-gathering/
LOCATION:Ladera Church\, 3300 Alpine Road\, Portola Valley\, CA\, 94028\, United States
CATEGORIES:Make a Difference
ATTACH;FMTTYPE=image/jpeg:https://ladera.org/wp-content/uploads/2023/03/Townhall.jpg
ORGANIZER;CN="Ladera Church":MAILTO:church@ladera.org
END:VEVENT
BEGIN:VEVENT
DTSTART;TZID=America/Los_Angeles:20230426T163000
DTEND;TZID=America/Los_Angeles:20230426T180000
DTSTAMP:20260425T154504
CREATED:20230419T064739Z
LAST-MODIFIED:20230419T064926Z
UID:10007230-1682526600-1682532000@ladera.org
SUMMARY:Site Team Meeting
DESCRIPTION:Monthly Master Site Team Meeting in Room 9.
URL:https://ladera.org/event/site-team-meeting-6/
LOCATION:LCC: Room 9\, 3300 Alpine Road\, Portola Valley\, CA\, 94028
CATEGORIES:Make a Difference
ATTACH;FMTTYPE=image/jpeg:https://ladera.org/wp-content/uploads/2022/12/SiteTeam.jpg
ORGANIZER;CN="Ladera Church":MAILTO:church@ladera.org
END:VEVENT
BEGIN:VEVENT
DTSTART;TZID=America/Los_Angeles:20230423T104500
DTEND;TZID=America/Los_Angeles:20230423T114500
DTSTAMP:20260425T154504
CREATED:20230322T155213Z
LAST-MODIFIED:20230410T191327Z
UID:10007223-1682246700-1682250300@ladera.org
SUMMARY:2nd Hour - Putting Plastic in the Past?
DESCRIPTION:Come discover the wide world of super\, superior alternatives to plastics in our homes! Bottles\, storage containers\, bags\, films\, utensils\, takeout\, oh my\, oh my.  Join in a fun hour of discovery about what we can do right now in our lives.
URL:https://ladera.org/event/2nd-hour-putting-plastic-in-the-past/
LOCATION:Ladera Church\, 3300 Alpine Road\, Portola Valley\, CA\, 94028\, United States
CATEGORIES:Find Connection,Look Deeper,Make a Difference
ATTACH;FMTTYPE=image/jpeg:https://ladera.org/wp-content/uploads/2023/03/Second-Hour.jpg
ORGANIZER;CN="Ladera Church":MAILTO:church@ladera.org
END:VEVENT
BEGIN:VEVENT
DTSTART;TZID=America/Los_Angeles:20230423T093000
DTEND;TZID=America/Los_Angeles:20230423T103000
DTSTAMP:20260425T154504
CREATED:20230322T154934Z
LAST-MODIFIED:20230322T154934Z
UID:10007222-1682242200-1682245800@ladera.org
SUMMARY:Creation Care Sunday
DESCRIPTION:Join in on April 23 for a special Earth Day service on “Zombie Plastic”!\nPlastic is the living dead of consumer products. Even when we “recycle” it in the blue bin\, 90% of plastic ends up in landfills—or worse\, in oceans\, natural habits\, or toxic incinerators. We must stop zombie plastic from taking over the world…but how?\n\nJoin Matthew Vollrath and Linda Drey-Nightingale on April 23\, Creation Care Sunday\, for a special service on the plastic crisis and its solutions. Everything about plastic is a problem\, from production to human use to the pollution it creates after it’s thrown away. But with bold policy action and powerful consumer pressure\, we can make a plastic-free future a reality. Come to learn\, be inspired\, and start taking ACTION to stop the scourge of zombie plastic!
URL:https://ladera.org/event/creation-care-sunday/
LOCATION:Ladera Church\, 3300 Alpine Road\, Portola Valley\, CA\, 94028\, United States
CATEGORIES:Find Connection,Look Deeper,Make a Difference
ATTACH;FMTTYPE=image/jpeg:https://ladera.org/wp-content/uploads/2023/03/Earth-image.jpg
ORGANIZER;CN="Ladera Church":MAILTO:church@ladera.org
END:VEVENT
BEGIN:VEVENT
DTSTART;TZID=America/Los_Angeles:20230412T143000
DTEND;TZID=America/Los_Angeles:20230412T154500
DTSTAMP:20260425T154504
CREATED:20221018T220757Z
LAST-MODIFIED:20221109T185038Z
UID:10003173-1681309800-1681314300@ladera.org
SUMMARY:Social Justice Meeting
DESCRIPTION:Join Zoom Meeting \nMeeting ID: 835 0702 6497 \nPasscode: 465378
URL:https://ladera.org/event/social-justice-meeting/2023-04-12/
LOCATION:Online – Zoom
CATEGORIES:Make a Difference
ATTACH;FMTTYPE=image/jpeg:https://ladera.org/wp-content/uploads/2022/10/social-justice-e1666131952585.jpg
ORGANIZER;CN="Ladera Church":MAILTO:church@ladera.org
END:VEVENT
BEGIN:VEVENT
DTSTART;TZID=America/Los_Angeles:20230405T193000
DTEND;TZID=America/Los_Angeles:20230405T203000
DTSTAMP:20260425T154504
CREATED:20230125T000721Z
LAST-MODIFIED:20251006T185737Z
UID:10005950-1680723000-1680726600@ladera.org
SUMMARY:Affordable Housing Task Force
DESCRIPTION:To download and import the events into an iCalendar (.ics) calendar\, click here.
URL:https://ladera.org/event/affordable-housing-task-force/2023-04-05/
LOCATION:Online – Zoom
CATEGORIES:Make a Difference
ATTACH;FMTTYPE=image/jpeg:https://ladera.org/wp-content/uploads/2022/10/affordable-housing_hands.jpg
ORGANIZER;CN="Ladera Church":MAILTO:church@ladera.org
END:VEVENT
BEGIN:VEVENT
DTSTART;TZID=America/Los_Angeles:20230318T093000
DTEND;TZID=America/Los_Angeles:20230318T103000
DTSTAMP:20260425T154504
CREATED:20230316T233932Z
LAST-MODIFIED:20230320T073212Z
UID:10007221-1679131800-1679135400@ladera.org
SUMMARY:Facilities Team Meeting
DESCRIPTION:Monthly Facilities Team meeting.
URL:https://ladera.org/event/facilities-team-meeting/
LOCATION:LCC: Room 9\, 3300 Alpine Road\, Portola Valley\, CA\, 94028
CATEGORIES:Make a Difference
ATTACH;FMTTYPE=image/jpeg:https://ladera.org/wp-content/uploads/2022/10/Facilities.jpg
ORGANIZER;CN="Ladera Church":MAILTO:church@ladera.org
END:VEVENT
BEGIN:VEVENT
DTSTART;TZID=America/Los_Angeles:20230308T143000
DTEND;TZID=America/Los_Angeles:20230308T154500
DTSTAMP:20260425T154504
CREATED:20221018T220757Z
LAST-MODIFIED:20221109T185038Z
UID:10003172-1678285800-1678290300@ladera.org
SUMMARY:Social Justice Meeting
DESCRIPTION:Join Zoom Meeting \nMeeting ID: 835 0702 6497 \nPasscode: 465378
URL:https://ladera.org/event/social-justice-meeting/2023-03-08/
LOCATION:Online – Zoom
CATEGORIES:Make a Difference
ATTACH;FMTTYPE=image/jpeg:https://ladera.org/wp-content/uploads/2022/10/social-justice-e1666131952585.jpg
ORGANIZER;CN="Ladera Church":MAILTO:church@ladera.org
END:VEVENT
BEGIN:VEVENT
DTSTART;TZID=America/Los_Angeles:20230301T193000
DTEND;TZID=America/Los_Angeles:20230301T203000
DTSTAMP:20260425T154504
CREATED:20230125T000721Z
LAST-MODIFIED:20251006T185737Z
UID:10005949-1677699000-1677702600@ladera.org
SUMMARY:Affordable Housing Task Force
DESCRIPTION:To download and import the events into an iCalendar (.ics) calendar\, click here.
URL:https://ladera.org/event/affordable-housing-task-force/2023-03-01/
LOCATION:Online – Zoom
CATEGORIES:Make a Difference
ATTACH;FMTTYPE=image/jpeg:https://ladera.org/wp-content/uploads/2022/10/affordable-housing_hands.jpg
ORGANIZER;CN="Ladera Church":MAILTO:church@ladera.org
END:VEVENT
BEGIN:VEVENT
DTSTART;TZID=America/Los_Angeles:20230208T143000
DTEND;TZID=America/Los_Angeles:20230208T154500
DTSTAMP:20260425T154504
CREATED:20221018T220757Z
LAST-MODIFIED:20221109T185038Z
UID:10003171-1675866600-1675871100@ladera.org
SUMMARY:Social Justice Meeting
DESCRIPTION:Join Zoom Meeting \nMeeting ID: 835 0702 6497 \nPasscode: 465378
URL:https://ladera.org/event/social-justice-meeting/2023-02-08/
LOCATION:Online – Zoom
CATEGORIES:Make a Difference
ATTACH;FMTTYPE=image/jpeg:https://ladera.org/wp-content/uploads/2022/10/social-justice-e1666131952585.jpg
ORGANIZER;CN="Ladera Church":MAILTO:church@ladera.org
END:VEVENT
BEGIN:VEVENT
DTSTART;TZID=America/Los_Angeles:20230129T103000
DTEND;TZID=America/Los_Angeles:20230129T123000
DTSTAMP:20260425T154504
CREATED:20221201T183451Z
LAST-MODIFIED:20221201T183451Z
UID:10005110-1674988200-1674995400@ladera.org
SUMMARY:Annual Congregational Meeting & Brunch
DESCRIPTION:Please join us for our annual meeting to celebrate our accomplishments. The meeting will be in the sanctuary after the worship service. We hope you can stay afterwards for a shared meal.
URL:https://ladera.org/event/annual-congregational-meeting-brunch/
LOCATION:Ladera Church\, 3300 Alpine Road\, Portola Valley\, CA\, 94028\, United States
CATEGORIES:Find Connection,Make a Difference
ATTACH;FMTTYPE=image/jpeg:https://ladera.org/wp-content/uploads/2022/12/gavel.jpg
ORGANIZER;CN="Ladera Church":MAILTO:church@ladera.org
END:VEVENT
BEGIN:VEVENT
DTSTART;TZID=America/Los_Angeles:20230127T110000
DTEND;TZID=America/Los_Angeles:20230127T113000
DTSTAMP:20260425T154504
CREATED:20230128T025712Z
LAST-MODIFIED:20230128T025715Z
UID:10005762-1674817200-1674819000@ladera.org
SUMMARY:Maple Street: Make Sandwiches for Homeless
DESCRIPTION:Join us in supporting Maple Street Shelter\, a LifeMoves program that houses the homeless and veterans who are seeking employment and housing. Volunteers can sign-up to make 10 bagged lunches at home. After signing up you can shop for or use your own ingredients. Please deliver lunches to the LCC parking lot on the second Sunday of the month between 11:00 -11:30 a.m. For more information\, please contact Linda Drey-Nightingale\, dreynight@aol.com\, or Mike Smith\, mike650smith@gmail.com.
URL:https://ladera.org/event/maple-street-make-sandwiches-for-homeless-and-veterans-2/
LOCATION:Ladera Church\, 3300 Alpine Road\, Portola Valley\, CA\, 94028\, United States
CATEGORIES:Make a Difference
ATTACH;FMTTYPE=image/jpeg:https://ladera.org/wp-content/uploads/2022/09/Maple-Street_sandwich.jpg
END:VEVENT
BEGIN:VEVENT
DTSTART;TZID=America/Los_Angeles:20230122T103000
DTEND;TZID=America/Los_Angeles:20230122T123000
DTSTAMP:20260425T154504
CREATED:20221130T180332Z
LAST-MODIFIED:20221209T114105Z
UID:10005109-1674383400-1674390600@ladera.org
SUMMARY:Ladera Spring Celebration
DESCRIPTION:Sunday\, January 22\, 2023\, 10:30 a.m. \nPlease join us for a joint celebration with the Ladera Diversity\, Equity\, and Inclusion (DEI) committee! We will be celebrating Martin Luther King Jr. Day\, Persian New Year\, and Lunar New Year.
URL:https://ladera.org/event/ladera-spring-celebration/
LOCATION:Ladera Church\, 3300 Alpine Road\, Portola Valley\, CA\, 94028\, United States
CATEGORIES:Find Connection,Make a Difference
ATTACH;FMTTYPE=image/png:https://ladera.org/wp-content/uploads/2022/11/lunar-new-year-featured-1.png
ORGANIZER;CN="Ladera Church":MAILTO:church@ladera.org
END:VEVENT
END:VCALENDAR