BEGIN:VCALENDAR
VERSION:2.0
PRODID:-//Ladera Community Church - ECPv6.15.20//NONSGML v1.0//EN
CALSCALE:GREGORIAN
METHOD:PUBLISH
X-WR-CALNAME:Ladera Community Church
X-ORIGINAL-URL:https://ladera.org
X-WR-CALDESC:Events for Ladera Community Church
REFRESH-INTERVAL;VALUE=DURATION:PT1H
X-Robots-Tag:noindex
X-PUBLISHED-TTL:PT1H
BEGIN:VTIMEZONE
TZID:America/Los_Angeles
BEGIN:DAYLIGHT
TZOFFSETFROM:-0800
TZOFFSETTO:-0700
TZNAME:PDT
DTSTART:20240310T100000
END:DAYLIGHT
BEGIN:STANDARD
TZOFFSETFROM:-0700
TZOFFSETTO:-0800
TZNAME:PST
DTSTART:20241103T090000
END:STANDARD
BEGIN:DAYLIGHT
TZOFFSETFROM:-0800
TZOFFSETTO:-0700
TZNAME:PDT
DTSTART:20250309T100000
END:DAYLIGHT
BEGIN:STANDARD
TZOFFSETFROM:-0700
TZOFFSETTO:-0800
TZNAME:PST
DTSTART:20251102T090000
END:STANDARD
BEGIN:DAYLIGHT
TZOFFSETFROM:-0800
TZOFFSETTO:-0700
TZNAME:PDT
DTSTART:20260308T100000
END:DAYLIGHT
BEGIN:STANDARD
TZOFFSETFROM:-0700
TZOFFSETTO:-0800
TZNAME:PST
DTSTART:20261101T090000
END:STANDARD
END:VTIMEZONE
BEGIN:VEVENT
DTSTART;TZID=America/Los_Angeles:20251220T100000
DTEND;TZID=America/Los_Angeles:20251220T110000
DTSTAMP:20260425T061417
CREATED:20241023T200253Z
LAST-MODIFIED:20251204T174741Z
UID:10012155-1766224800-1766228400@ladera.org
SUMMARY:Blue Christmas Worship Service
DESCRIPTION:The holiday season isn’t always merry and bright for everyone. For some\, it can be a season of stress\, sadness\, and loneliness. A Blue Christmas Service is a quiet\, contemplative service for those who struggle to navigate the holidays. \nJoin us on Saturday\, December 20\, in the sanctuary for a Blue Christmas worship service and bring a poem to share. \n 
URL:https://ladera.org/event/blue-christmas-worship-service/
LOCATION:LCC: Sanctuary\, 3300 Alpine Road\, Portola Valley\, CA\, 94028\, United States
CATEGORIES:Look Deeper,Quiet the Noise
ATTACH;FMTTYPE=image/jpeg:https://ladera.org/wp-content/uploads/2024/10/Blue-Christmas-WP-featured-image-2048x1075-1.jpg
ORGANIZER;CN="Ladera Church":MAILTO:church@ladera.org
END:VEVENT
END:VCALENDAR