BEGIN:VCALENDAR
VERSION:2.0
PRODID:-//Ladera Community Church - ECPv6.15.20//NONSGML v1.0//EN
CALSCALE:GREGORIAN
METHOD:PUBLISH
X-WR-CALNAME:Ladera Community Church
X-ORIGINAL-URL:https://ladera.org
X-WR-CALDESC:Events for Ladera Community Church
REFRESH-INTERVAL;VALUE=DURATION:PT1H
X-Robots-Tag:noindex
X-PUBLISHED-TTL:PT1H
BEGIN:VTIMEZONE
TZID:America/Los_Angeles
BEGIN:DAYLIGHT
TZOFFSETFROM:-0800
TZOFFSETTO:-0700
TZNAME:PDT
DTSTART:20250309T100000
END:DAYLIGHT
BEGIN:STANDARD
TZOFFSETFROM:-0700
TZOFFSETTO:-0800
TZNAME:PST
DTSTART:20251102T090000
END:STANDARD
BEGIN:DAYLIGHT
TZOFFSETFROM:-0800
TZOFFSETTO:-0700
TZNAME:PDT
DTSTART:20260308T100000
END:DAYLIGHT
BEGIN:STANDARD
TZOFFSETFROM:-0700
TZOFFSETTO:-0800
TZNAME:PST
DTSTART:20261101T090000
END:STANDARD
BEGIN:DAYLIGHT
TZOFFSETFROM:-0800
TZOFFSETTO:-0700
TZNAME:PDT
DTSTART:20270314T100000
END:DAYLIGHT
BEGIN:STANDARD
TZOFFSETFROM:-0700
TZOFFSETTO:-0800
TZNAME:PST
DTSTART:20271107T090000
END:STANDARD
END:VTIMEZONE
BEGIN:VEVENT
DTSTART;TZID=America/Los_Angeles:20260721T193000
DTEND;TZID=America/Los_Angeles:20260721T210000
DTSTAMP:20260425T062720
CREATED:20241216T205524Z
LAST-MODIFIED:20250902T165338Z
UID:10010678-1784662200-1784667600@ladera.org
SUMMARY:Council Meeting
DESCRIPTION:
URL:https://ladera.org/event/council-meeting-4-2/2026-07-21/
LOCATION:Online – Zoom
ATTACH;FMTTYPE=image/jpeg:https://ladera.org/wp-content/uploads/2023/04/www.denarebeach.jpg
ORGANIZER;CN="Ladera Church":MAILTO:church@ladera.org
END:VEVENT
BEGIN:VEVENT
DTSTART;TZID=America/Los_Angeles:20260722T190000
DTEND;TZID=America/Los_Angeles:20260722T203000
DTSTAMP:20260425T062720
CREATED:20221017T070859Z
LAST-MODIFIED:20251102T014045Z
UID:10014927-1784746800-1784752200@ladera.org
SUMMARY:Peninsula Threshold Choir
DESCRIPTION:Peninsula Threshold Choir brings comfort and kindness through song to the bedsides of those at the thresholds of living and dying. The choir rehearses on the second and fourth Wednesdays of the month.
URL:https://ladera.org/event/peninsula-threshold-choir-2/2026-07-22/
LOCATION:LCC: Peabody Hall\, 3300 Alpine Road\, Portola Valley\, CA\, 94028
CATEGORIES:Facility Use
ATTACH;FMTTYPE=image/jpeg:https://ladera.org/wp-content/uploads/2022/10/PeninsulaThresholdChoir.jpg
END:VEVENT
BEGIN:VEVENT
DTSTART;TZID=America/Los_Angeles:20260726T093000
DTEND;TZID=America/Los_Angeles:20260726T103000
DTSTAMP:20260425T062720
CREATED:20241023T195434Z
LAST-MODIFIED:20260319T162123Z
UID:10000587-1785058200-1785061800@ladera.org
SUMMARY:Worship Service
DESCRIPTION:Worship is the heart of our community life. Sunday worship begins at 9:30 a.m. in the sanctuary and online via Zoom. All ages are invited. LCC worship is a joyful celebration of God’s presence among us. We find inspiration\, renewal\, and refreshment through song and silence\, prayer\, and reflection. We seek to integrate the arts – music\, drama\, and visual – to enrich the worship experience. Worship continues in the many ways we seek\, serve\, and grow in the world. \n\nWe serve communion on the first Sunday of every month. All are welcome to the table!\n\n  \nJoin us on Zoom \nID: 829 2023 8953\nPasscode: Sunday
URL:https://ladera.org/event/weekly-worship-service-2-2-2-5-2-2-2/2026-07-26/
LOCATION:LCC: Sanctuary\, 3300 Alpine Road\, Portola Valley\, CA\, 94028\, United States
CATEGORIES:Find Connection,Look Deeper,Quiet the Noise
ATTACH;FMTTYPE=image/jpeg:https://ladera.org/wp-content/uploads/2024/10/unnamed-11.jpg
END:VEVENT
BEGIN:VEVENT
DTSTART;TZID=America/Los_Angeles:20260726T123000
DTEND;TZID=America/Los_Angeles:20260726T150000
DTSTAMP:20260425T062720
CREATED:20230206T041415Z
LAST-MODIFIED:20240429T231837Z
UID:10006681-1785069000-1785078000@ladera.org
SUMMARY:Haumalu 'o Langi Worship Service
DESCRIPTION:Haumalu ‘o Langi Tongan congregation’s weekly Sunday service and Sunday school for the children.
URL:https://ladera.org/event/haumalu-o-langi-worship-service-2/2026-07-26/
LOCATION:Ladera Church\, 3300 Alpine Road\, Portola Valley\, CA\, 94028\, United States
CATEGORIES:Facility Use
ATTACH;FMTTYPE=image/jpeg:https://ladera.org/wp-content/uploads/2022/10/Tongan-Worship-Service.jpg
END:VEVENT
BEGIN:VEVENT
DTSTART;TZID=America/Los_Angeles:20260726T180000
DTEND;TZID=America/Los_Angeles:20260726T213000
DTSTAMP:20260425T062720
CREATED:20260425T014540Z
LAST-MODIFIED:20260425T014542Z
UID:10015983-1785088800-1785101400@ladera.org
SUMMARY:Stanford Quads
DESCRIPTION:Modern square dancing is a recreation enjoyed by people of all ages in the United States and around the world.  We dance the Plus program utilizing All Position Dancing.  We often have an A2 or C1 star tip at the end of the evening.  All Plus dancers are welcome to join us for an evening of dancing.  Square dance attire is not needed.  Masks are optional. \n\nThe weekly schedule is:\n\n\n\n\n\n\n\n\n\n       Class: 6:30-8:30 pm\n\n\n\n\n\n\n\n\n\n\n\n\n\n\n\n\n       Plus: 8:30-9:00 pm\n\n\n\n\n\n\n\n\n\n\n\n\n\n\n\n\n\n       Star tips: 9:00-9:30 pm \n\n\n\n\n\n\n\n\n\n\nThe cost is $10 per session.  We start a beginner’s class every fall in October.
URL:https://ladera.org/event/stanford-quads-2-2-2-2-2-2-2-2-2/2026-07-26/
LOCATION:LCC: Peabody Hall\, 3300 Alpine Road\, Portola Valley\, CA\, 94028
CATEGORIES:Facility Use,Find Connection
ATTACH;FMTTYPE=image/jpeg:https://ladera.org/wp-content/uploads/2022/10/squre-dancing.jpeg
END:VEVENT
BEGIN:VEVENT
DTSTART;TZID=America/Los_Angeles:20260727T190000
DTEND;TZID=America/Los_Angeles:20260727T210000
DTSTAMP:20260425T062720
CREATED:20221005T213350Z
LAST-MODIFIED:20240108T165955Z
UID:10000946-1785178800-1785186000@ladera.org
SUMMARY:AA
DESCRIPTION:
URL:https://ladera.org/event/aa/2026-07-27/
LOCATION:LCC: Peabody Hall\, 3300 Alpine Road\, Portola Valley\, CA\, 94028
CATEGORIES:Find Connection,Look Deeper
ORGANIZER;CN="Ladera Church":MAILTO:church@ladera.org
END:VEVENT
BEGIN:VEVENT
DTSTART;TZID=America/Los_Angeles:20260802T093000
DTEND;TZID=America/Los_Angeles:20260802T103000
DTSTAMP:20260425T062720
CREATED:20241023T195434Z
LAST-MODIFIED:20260319T162123Z
UID:10000588-1785663000-1785666600@ladera.org
SUMMARY:Worship Service
DESCRIPTION:Worship is the heart of our community life. Sunday worship begins at 9:30 a.m. in the sanctuary and online via Zoom. All ages are invited. LCC worship is a joyful celebration of God’s presence among us. We find inspiration\, renewal\, and refreshment through song and silence\, prayer\, and reflection. We seek to integrate the arts – music\, drama\, and visual – to enrich the worship experience. Worship continues in the many ways we seek\, serve\, and grow in the world. \n\nWe serve communion on the first Sunday of every month. All are welcome to the table!\n\n  \nJoin us on Zoom \nID: 829 2023 8953\nPasscode: Sunday
URL:https://ladera.org/event/weekly-worship-service-2-2-2-5-2-2-2/2026-08-02/
LOCATION:LCC: Sanctuary\, 3300 Alpine Road\, Portola Valley\, CA\, 94028\, United States
CATEGORIES:Find Connection,Look Deeper,Quiet the Noise
ATTACH;FMTTYPE=image/jpeg:https://ladera.org/wp-content/uploads/2024/10/unnamed-11.jpg
END:VEVENT
BEGIN:VEVENT
DTSTART;TZID=America/Los_Angeles:20260802T103000
DTEND;TZID=America/Los_Angeles:20260802T110000
DTSTAMP:20260425T062720
CREATED:20250604T235702Z
LAST-MODIFIED:20260325T211925Z
UID:10014287-1785666600-1785668400@ladera.org
SUMMARY:Pastoral Relations Committee Meeting
DESCRIPTION:Pastoral Relations Committee Meeting occur the first Sunday of each month in room 6.
URL:https://ladera.org/event/pastoral-relations-committee-meeting-3-2/2026-08-02/
LOCATION:LCC: Fireside Room\, 3300 Alpine Road\, Portola Valley\, CA\, 94028\, United States
CATEGORIES:Make a Difference
ATTACH;FMTTYPE=image/jpeg:https://ladera.org/wp-content/uploads/2025/03/Pastoral-Relations-Committee.jpg
ORGANIZER;CN="Ladera Church":MAILTO:church@ladera.org
END:VEVENT
BEGIN:VEVENT
DTSTART;TZID=America/Los_Angeles:20260802T180000
DTEND;TZID=America/Los_Angeles:20260802T213000
DTSTAMP:20260425T062720
CREATED:20260425T014540Z
LAST-MODIFIED:20260425T014542Z
UID:10015984-1785693600-1785706200@ladera.org
SUMMARY:Stanford Quads
DESCRIPTION:Modern square dancing is a recreation enjoyed by people of all ages in the United States and around the world.  We dance the Plus program utilizing All Position Dancing.  We often have an A2 or C1 star tip at the end of the evening.  All Plus dancers are welcome to join us for an evening of dancing.  Square dance attire is not needed.  Masks are optional. \n\nThe weekly schedule is:\n\n\n\n\n\n\n\n\n\n       Class: 6:30-8:30 pm\n\n\n\n\n\n\n\n\n\n\n\n\n\n\n\n\n       Plus: 8:30-9:00 pm\n\n\n\n\n\n\n\n\n\n\n\n\n\n\n\n\n\n       Star tips: 9:00-9:30 pm \n\n\n\n\n\n\n\n\n\n\nThe cost is $10 per session.  We start a beginner’s class every fall in October.
URL:https://ladera.org/event/stanford-quads-2-2-2-2-2-2-2-2-2/2026-08-02/
LOCATION:LCC: Peabody Hall\, 3300 Alpine Road\, Portola Valley\, CA\, 94028
CATEGORIES:Facility Use,Find Connection
ATTACH;FMTTYPE=image/jpeg:https://ladera.org/wp-content/uploads/2022/10/squre-dancing.jpeg
END:VEVENT
BEGIN:VEVENT
DTSTART;TZID=America/Los_Angeles:20260803T190000
DTEND;TZID=America/Los_Angeles:20260803T210000
DTSTAMP:20260425T062720
CREATED:20221005T213350Z
LAST-MODIFIED:20240108T165955Z
UID:10000947-1785783600-1785790800@ladera.org
SUMMARY:AA
DESCRIPTION:
URL:https://ladera.org/event/aa/2026-08-03/
LOCATION:LCC: Peabody Hall\, 3300 Alpine Road\, Portola Valley\, CA\, 94028
CATEGORIES:Find Connection,Look Deeper
ORGANIZER;CN="Ladera Church":MAILTO:church@ladera.org
END:VEVENT
BEGIN:VEVENT
DTSTART;TZID=America/Los_Angeles:20260805T130000
DTEND;TZID=America/Los_Angeles:20260805T134500
DTSTAMP:20260425T062720
CREATED:20251029T203807Z
LAST-MODIFIED:20251125T190402Z
UID:10015061-1785934800-1785937500@ladera.org
SUMMARY:Community Support & Meditation
DESCRIPTION:Join in community for fellowship time to enjoy snacks and conversation after the community support program.
URL:https://ladera.org/event/community-support-program-fellowship-time/2026-08-05/
LOCATION:LCC: Peabody Hall\, 3300 Alpine Road\, Portola Valley\, CA\, 94028
CATEGORIES:Find Connection
ATTACH;FMTTYPE=image/jpeg:https://ladera.org/wp-content/uploads/2025/06/Community-Support-Program-16-x-6-in.jpg
ORGANIZER;CN="Ladera Church":MAILTO:church@ladera.org
END:VEVENT
BEGIN:VEVENT
DTSTART;TZID=America/Los_Angeles:20260805T193000
DTEND;TZID=America/Los_Angeles:20260805T203000
DTSTAMP:20260425T062720
CREATED:20230125T000721Z
LAST-MODIFIED:20251006T185737Z
UID:10005990-1785958200-1785961800@ladera.org
SUMMARY:Affordable Housing Task Force
DESCRIPTION:To download and import the events into an iCalendar (.ics) calendar\, click here.
URL:https://ladera.org/event/affordable-housing-task-force/2026-08-05/
LOCATION:Online – Zoom
CATEGORIES:Make a Difference
ATTACH;FMTTYPE=image/jpeg:https://ladera.org/wp-content/uploads/2022/10/affordable-housing_hands.jpg
ORGANIZER;CN="Ladera Church":MAILTO:church@ladera.org
END:VEVENT
BEGIN:VEVENT
DTSTART;TZID=America/Los_Angeles:20260807T150000
DTEND;TZID=America/Los_Angeles:20260807T160000
DTSTAMP:20260425T062720
CREATED:20250317T140924Z
LAST-MODIFIED:20260421T173140Z
UID:10012721-1786114800-1786118400@ladera.org
SUMMARY:Share Your Joy Team Meeting
DESCRIPTION:Do you have a favorite activity you’d like to share at LCC? The Share Your Joy team can help you spread joy through activities like going to the opera\, playing table tennis\, reading for spiritual insights\, or cooking pancakes. To join the Share Your Joy team meeting or to submit an idea for an event\, email amy@ladera.org.
URL:https://ladera.org/event/share-your-joy-team-meeting-6/2026-08-07/
LOCATION:Ladera Church\, 3300 Alpine Road\, Portola Valley\, CA\, 94028\, United States
ATTACH;FMTTYPE=image/jpeg:https://ladera.org/wp-content/uploads/2024/01/Share-Your-Joy-e1721057609348.jpg
ORGANIZER;CN="Ladera Church":MAILTO:church@ladera.org
END:VEVENT
BEGIN:VEVENT
DTSTART;TZID=America/Los_Angeles:20260809T093000
DTEND;TZID=America/Los_Angeles:20260809T103000
DTSTAMP:20260425T062720
CREATED:20241023T195434Z
LAST-MODIFIED:20260319T162123Z
UID:10000589-1786267800-1786271400@ladera.org
SUMMARY:Worship Service
DESCRIPTION:Worship is the heart of our community life. Sunday worship begins at 9:30 a.m. in the sanctuary and online via Zoom. All ages are invited. LCC worship is a joyful celebration of God’s presence among us. We find inspiration\, renewal\, and refreshment through song and silence\, prayer\, and reflection. We seek to integrate the arts – music\, drama\, and visual – to enrich the worship experience. Worship continues in the many ways we seek\, serve\, and grow in the world. \n\nWe serve communion on the first Sunday of every month. All are welcome to the table!\n\n  \nJoin us on Zoom \nID: 829 2023 8953\nPasscode: Sunday
URL:https://ladera.org/event/weekly-worship-service-2-2-2-5-2-2-2/2026-08-09/
LOCATION:LCC: Sanctuary\, 3300 Alpine Road\, Portola Valley\, CA\, 94028\, United States
CATEGORIES:Find Connection,Look Deeper,Quiet the Noise
ATTACH;FMTTYPE=image/jpeg:https://ladera.org/wp-content/uploads/2024/10/unnamed-11.jpg
END:VEVENT
BEGIN:VEVENT
DTSTART;TZID=America/Los_Angeles:20260809T113000
DTEND;TZID=America/Los_Angeles:20260809T130000
DTSTAMP:20260425T062720
CREATED:20250106T211358Z
LAST-MODIFIED:20251123T000135Z
UID:10015727-1786275000-1786280400@ladera.org
SUMMARY:Navigation Center Lunch Serving
DESCRIPTION:LCC has a long-standing connection with LifeMoves\, especially through its monthly lunch service at the Redwood City Navigation Center. Each monthly visit is a chance to share food\, fellowship\, and compassion with those navigating challenging transitions. We’re assembling a team of 6-10 people to prepare and serve lunch at the new center\, which boasts a full commercial kitchen. We’ll meet at the Navigation Center at 11:30 a.m. You will find this hands-on activity rewarding! Please RSVP to amy@ladera.org to join us. \nTo learn more about the Navigation Center and its mission\, click here.\nNavigation Center: 275 Blomquist St\, Redwood City
URL:https://ladera.org/event/navigation-center-lunch-serving/2026-08-09/
LOCATION:Ladera Church\, 3300 Alpine Road\, Portola Valley\, CA\, 94028\, United States
ATTACH;FMTTYPE=image/png:https://ladera.org/wp-content/uploads/2025/01/Volunteer.png
ORGANIZER;CN="Ladera Church":MAILTO:church@ladera.org
END:VEVENT
BEGIN:VEVENT
DTSTART;TZID=America/Los_Angeles:20260809T123000
DTEND;TZID=America/Los_Angeles:20260809T150000
DTSTAMP:20260425T062720
CREATED:20230206T041415Z
LAST-MODIFIED:20240429T231837Z
UID:10006682-1786278600-1786287600@ladera.org
SUMMARY:Haumalu 'o Langi Worship Service
DESCRIPTION:Haumalu ‘o Langi Tongan congregation’s weekly Sunday service and Sunday school for the children.
URL:https://ladera.org/event/haumalu-o-langi-worship-service-2/2026-08-09/
LOCATION:Ladera Church\, 3300 Alpine Road\, Portola Valley\, CA\, 94028\, United States
CATEGORIES:Facility Use
ATTACH;FMTTYPE=image/jpeg:https://ladera.org/wp-content/uploads/2022/10/Tongan-Worship-Service.jpg
END:VEVENT
BEGIN:VEVENT
DTSTART;TZID=America/Los_Angeles:20260809T180000
DTEND;TZID=America/Los_Angeles:20260809T213000
DTSTAMP:20260425T062720
CREATED:20260425T014540Z
LAST-MODIFIED:20260425T014542Z
UID:10015985-1786298400-1786311000@ladera.org
SUMMARY:Stanford Quads
DESCRIPTION:Modern square dancing is a recreation enjoyed by people of all ages in the United States and around the world.  We dance the Plus program utilizing All Position Dancing.  We often have an A2 or C1 star tip at the end of the evening.  All Plus dancers are welcome to join us for an evening of dancing.  Square dance attire is not needed.  Masks are optional. \n\nThe weekly schedule is:\n\n\n\n\n\n\n\n\n\n       Class: 6:30-8:30 pm\n\n\n\n\n\n\n\n\n\n\n\n\n\n\n\n\n       Plus: 8:30-9:00 pm\n\n\n\n\n\n\n\n\n\n\n\n\n\n\n\n\n\n       Star tips: 9:00-9:30 pm \n\n\n\n\n\n\n\n\n\n\nThe cost is $10 per session.  We start a beginner’s class every fall in October.
URL:https://ladera.org/event/stanford-quads-2-2-2-2-2-2-2-2-2/2026-08-09/
LOCATION:LCC: Peabody Hall\, 3300 Alpine Road\, Portola Valley\, CA\, 94028
CATEGORIES:Facility Use,Find Connection
ATTACH;FMTTYPE=image/jpeg:https://ladera.org/wp-content/uploads/2022/10/squre-dancing.jpeg
END:VEVENT
BEGIN:VEVENT
DTSTART;TZID=America/Los_Angeles:20260810T190000
DTEND;TZID=America/Los_Angeles:20260810T210000
DTSTAMP:20260425T062720
CREATED:20221005T213350Z
LAST-MODIFIED:20240108T165955Z
UID:10000948-1786388400-1786395600@ladera.org
SUMMARY:AA
DESCRIPTION:
URL:https://ladera.org/event/aa/2026-08-10/
LOCATION:LCC: Peabody Hall\, 3300 Alpine Road\, Portola Valley\, CA\, 94028
CATEGORIES:Find Connection,Look Deeper
ORGANIZER;CN="Ladera Church":MAILTO:church@ladera.org
END:VEVENT
BEGIN:VEVENT
DTSTART;TZID=America/Los_Angeles:20260812T163000
DTEND;TZID=America/Los_Angeles:20260812T174500
DTSTAMP:20260425T062720
CREATED:20250910T165754Z
LAST-MODIFIED:20260310T155721Z
UID:10015876-1786552200-1786556700@ladera.org
SUMMARY:Social Justice Meeting
DESCRIPTION:
URL:https://ladera.org/event/social-justice-meeting-2-2-2-2-4/2026-08-12/
LOCATION:Online – Zoom
CATEGORIES:Make a Difference
ATTACH;FMTTYPE=image/jpeg:https://ladera.org/wp-content/uploads/2022/10/social-justice-e1666131952585.jpg
ORGANIZER;CN="Ladera Church":MAILTO:church@ladera.org
END:VEVENT
BEGIN:VEVENT
DTSTART;TZID=America/Los_Angeles:20260812T190000
DTEND;TZID=America/Los_Angeles:20260812T203000
DTSTAMP:20260425T062720
CREATED:20241223T012553Z
LAST-MODIFIED:20251102T013331Z
UID:10012591-1786561200-1786566600@ladera.org
SUMMARY:Peninsula Threshold Choir
DESCRIPTION:Peninsula Threshold Choir brings comfort and kindness through song to the bedsides of those at the thresholds of living and dying. The choir rehearses on the second and fourth Wednesdays of the month.
URL:https://ladera.org/event/peninsula-threshold-choir-6/2026-08-12/
LOCATION:LCC: Peabody Hall\, 3300 Alpine Road\, Portola Valley\, CA\, 94028
CATEGORIES:Facility Use
ATTACH;FMTTYPE=image/jpeg:https://ladera.org/wp-content/uploads/2022/10/PeninsulaThresholdChoir.jpg
END:VEVENT
BEGIN:VEVENT
DTSTART;TZID=America/Los_Angeles:20260816T093000
DTEND;TZID=America/Los_Angeles:20260816T103000
DTSTAMP:20260425T062720
CREATED:20241023T195434Z
LAST-MODIFIED:20260319T162123Z
UID:10000590-1786872600-1786876200@ladera.org
SUMMARY:Worship Service
DESCRIPTION:Worship is the heart of our community life. Sunday worship begins at 9:30 a.m. in the sanctuary and online via Zoom. All ages are invited. LCC worship is a joyful celebration of God’s presence among us. We find inspiration\, renewal\, and refreshment through song and silence\, prayer\, and reflection. We seek to integrate the arts – music\, drama\, and visual – to enrich the worship experience. Worship continues in the many ways we seek\, serve\, and grow in the world. \n\nWe serve communion on the first Sunday of every month. All are welcome to the table!\n\n  \nJoin us on Zoom \nID: 829 2023 8953\nPasscode: Sunday
URL:https://ladera.org/event/weekly-worship-service-2-2-2-5-2-2-2/2026-08-16/
LOCATION:LCC: Sanctuary\, 3300 Alpine Road\, Portola Valley\, CA\, 94028\, United States
CATEGORIES:Find Connection,Look Deeper,Quiet the Noise
ATTACH;FMTTYPE=image/jpeg:https://ladera.org/wp-content/uploads/2024/10/unnamed-11.jpg
END:VEVENT
BEGIN:VEVENT
DTSTART;TZID=America/Los_Angeles:20260816T123000
DTEND;TZID=America/Los_Angeles:20260816T150000
DTSTAMP:20260425T062720
CREATED:20230206T041415Z
LAST-MODIFIED:20240429T231837Z
UID:10006683-1786883400-1786892400@ladera.org
SUMMARY:Haumalu 'o Langi Worship Service
DESCRIPTION:Haumalu ‘o Langi Tongan congregation’s weekly Sunday service and Sunday school for the children.
URL:https://ladera.org/event/haumalu-o-langi-worship-service-2/2026-08-16/
LOCATION:Ladera Church\, 3300 Alpine Road\, Portola Valley\, CA\, 94028\, United States
CATEGORIES:Facility Use
ATTACH;FMTTYPE=image/jpeg:https://ladera.org/wp-content/uploads/2022/10/Tongan-Worship-Service.jpg
END:VEVENT
BEGIN:VEVENT
DTSTART;TZID=America/Los_Angeles:20260816T180000
DTEND;TZID=America/Los_Angeles:20260816T213000
DTSTAMP:20260425T062720
CREATED:20260425T014540Z
LAST-MODIFIED:20260425T014542Z
UID:10015986-1786903200-1786915800@ladera.org
SUMMARY:Stanford Quads
DESCRIPTION:Modern square dancing is a recreation enjoyed by people of all ages in the United States and around the world.  We dance the Plus program utilizing All Position Dancing.  We often have an A2 or C1 star tip at the end of the evening.  All Plus dancers are welcome to join us for an evening of dancing.  Square dance attire is not needed.  Masks are optional. \n\nThe weekly schedule is:\n\n\n\n\n\n\n\n\n\n       Class: 6:30-8:30 pm\n\n\n\n\n\n\n\n\n\n\n\n\n\n\n\n\n       Plus: 8:30-9:00 pm\n\n\n\n\n\n\n\n\n\n\n\n\n\n\n\n\n\n       Star tips: 9:00-9:30 pm \n\n\n\n\n\n\n\n\n\n\nThe cost is $10 per session.  We start a beginner’s class every fall in October.
URL:https://ladera.org/event/stanford-quads-2-2-2-2-2-2-2-2-2/2026-08-16/
LOCATION:LCC: Peabody Hall\, 3300 Alpine Road\, Portola Valley\, CA\, 94028
CATEGORIES:Facility Use,Find Connection
ATTACH;FMTTYPE=image/jpeg:https://ladera.org/wp-content/uploads/2022/10/squre-dancing.jpeg
END:VEVENT
BEGIN:VEVENT
DTSTART;TZID=America/Los_Angeles:20260817T190000
DTEND;TZID=America/Los_Angeles:20260817T210000
DTSTAMP:20260425T062720
CREATED:20221005T213350Z
LAST-MODIFIED:20240108T165955Z
UID:10000949-1786993200-1787000400@ladera.org
SUMMARY:AA
DESCRIPTION:
URL:https://ladera.org/event/aa/2026-08-17/
LOCATION:LCC: Peabody Hall\, 3300 Alpine Road\, Portola Valley\, CA\, 94028
CATEGORIES:Find Connection,Look Deeper
ORGANIZER;CN="Ladera Church":MAILTO:church@ladera.org
END:VEVENT
BEGIN:VEVENT
DTSTART;TZID=America/Los_Angeles:20260818T193000
DTEND;TZID=America/Los_Angeles:20260818T210000
DTSTAMP:20260425T062720
CREATED:20241216T205524Z
LAST-MODIFIED:20250902T165338Z
UID:10010679-1787081400-1787086800@ladera.org
SUMMARY:Council Meeting
DESCRIPTION:
URL:https://ladera.org/event/council-meeting-4-2/2026-08-18/
LOCATION:Online – Zoom
ATTACH;FMTTYPE=image/jpeg:https://ladera.org/wp-content/uploads/2023/04/www.denarebeach.jpg
ORGANIZER;CN="Ladera Church":MAILTO:church@ladera.org
END:VEVENT
BEGIN:VEVENT
DTSTART;TZID=America/Los_Angeles:20260819T123000
DTEND;TZID=America/Los_Angeles:20260819T123000
DTSTAMP:20260425T062720
CREATED:20250710T191322Z
LAST-MODIFIED:20250716T221409Z
UID:10014198-1787142600-1787142600@ladera.org
SUMMARY:Community Support: Reflections for These Times
DESCRIPTION:Join us for “Reflections for These Times\,” a nurturing space for connection and stillness. Each session opens with a Tai Chi prayer\, followed by time to check in\, lighting a candle for our shared concerns and hopes\, and silent meditation. We close in peaceful silence. \nAfter these 30 minutes of connection and quiet\, we will enjoy snacks and conversation in the fellowship hall.  This program will be held on the first and third Wednesdays of each month—join us whenever you need grounding and community.
URL:https://ladera.org/event/community-support-program-2-2/2026-08-19/
LOCATION:LCC: Fireside Room\, 3300 Alpine Road\, Portola Valley\, CA\, 94028\, United States
ATTACH;FMTTYPE=image/jpeg:https://ladera.org/wp-content/uploads/2025/06/Community-Support-Program-16-x-6-in.jpg
ORGANIZER;CN="Ladera Church":MAILTO:church@ladera.org
END:VEVENT
BEGIN:VEVENT
DTSTART;TZID=America/Los_Angeles:20260819T130000
DTEND;TZID=America/Los_Angeles:20260819T134500
DTSTAMP:20260425T062720
CREATED:20251029T203933Z
LAST-MODIFIED:20251125T184241Z
UID:10015001-1787144400-1787147100@ladera.org
SUMMARY:Community Support & Meditation
DESCRIPTION:Join in community for fellowship time to enjoy snacks and conversation after the community support program.
URL:https://ladera.org/event/community-support-program-fellowship-time-2/2026-08-19/
LOCATION:LCC: Peabody Hall\, 3300 Alpine Road\, Portola Valley\, CA\, 94028
CATEGORIES:Find Connection
ATTACH;FMTTYPE=image/jpeg:https://ladera.org/wp-content/uploads/2025/06/Community-Support-Program-16-x-6-in.jpg
ORGANIZER;CN="Ladera Church":MAILTO:church@ladera.org
END:VEVENT
BEGIN:VEVENT
DTSTART;VALUE=DATE:20260820
DTEND;VALUE=DATE:20260821
DTSTAMP:20260425T062720
CREATED:20250731T185947Z
LAST-MODIFIED:20260422T005905Z
UID:10015970-1787212800-1787245200@ladera.org
SUMMARY:Sharmila Montessori Preschool - Last Day of Summer Session
DESCRIPTION:Last day of Summer Session at Sharmila Montessori Preschool. School will resume on Tuesday\, August 2.
URL:https://ladera.org/event/sharmila-montessori-preschool-last-day-of-summer-session-3/2026-08-20/
LOCATION:Sharmila Montessori Preschool\, 3300 Alpine Road\, Unit B\, Portola Valley\, CA\, 94028\, United States
CATEGORIES:Preschool
ATTACH;FMTTYPE=image/png:https://ladera.org/wp-content/uploads/2022/11/SMP-Logo-e1669921740683.png
END:VEVENT
BEGIN:VEVENT
DTSTART;VALUE=DATE:20260821
DTEND;VALUE=DATE:20260822
DTSTAMP:20260425T062720
CREATED:20250915T194337Z
LAST-MODIFIED:20260422T004242Z
UID:10014448-1787270400-1787356799@ladera.org
SUMMARY:Sharmila Montessori Preschool Closed - Summer Break
DESCRIPTION:Sharmila Montessori Preschool is closed for Summer Break.
URL:https://ladera.org/event/sharmila-montessori-preschool-closed-summer-break-6/
LOCATION:Sharmila Montessori Preschool\, 3300 Alpine Road\, Unit B\, Portola Valley\, CA\, 94028\, United States
CATEGORIES:Preschool
ATTACH;FMTTYPE=image/png:https://ladera.org/wp-content/uploads/2022/11/SMP-Logo-e1669921740683.png
END:VEVENT
BEGIN:VEVENT
DTSTART;TZID=America/Los_Angeles:20260823T093000
DTEND;TZID=America/Los_Angeles:20260823T103000
DTSTAMP:20260425T062720
CREATED:20241023T195434Z
LAST-MODIFIED:20260319T162123Z
UID:10000591-1787477400-1787481000@ladera.org
SUMMARY:Worship Service
DESCRIPTION:Worship is the heart of our community life. Sunday worship begins at 9:30 a.m. in the sanctuary and online via Zoom. All ages are invited. LCC worship is a joyful celebration of God’s presence among us. We find inspiration\, renewal\, and refreshment through song and silence\, prayer\, and reflection. We seek to integrate the arts – music\, drama\, and visual – to enrich the worship experience. Worship continues in the many ways we seek\, serve\, and grow in the world. \n\nWe serve communion on the first Sunday of every month. All are welcome to the table!\n\n  \nJoin us on Zoom \nID: 829 2023 8953\nPasscode: Sunday
URL:https://ladera.org/event/weekly-worship-service-2-2-2-5-2-2-2/2026-08-23/
LOCATION:LCC: Sanctuary\, 3300 Alpine Road\, Portola Valley\, CA\, 94028\, United States
CATEGORIES:Find Connection,Look Deeper,Quiet the Noise
ATTACH;FMTTYPE=image/jpeg:https://ladera.org/wp-content/uploads/2024/10/unnamed-11.jpg
END:VEVENT
END:VCALENDAR