BEGIN:VCALENDAR
VERSION:2.0
PRODID:-//Ladera Community Church - ECPv6.15.20//NONSGML v1.0//EN
CALSCALE:GREGORIAN
METHOD:PUBLISH
X-ORIGINAL-URL:https://ladera.org
X-WR-CALDESC:Events for Ladera Community Church
REFRESH-INTERVAL;VALUE=DURATION:PT1H
X-Robots-Tag:noindex
X-PUBLISHED-TTL:PT1H
BEGIN:VTIMEZONE
TZID:America/Los_Angeles
BEGIN:DAYLIGHT
TZOFFSETFROM:-0800
TZOFFSETTO:-0700
TZNAME:PDT
DTSTART:20250309T100000
END:DAYLIGHT
BEGIN:STANDARD
TZOFFSETFROM:-0700
TZOFFSETTO:-0800
TZNAME:PST
DTSTART:20251102T090000
END:STANDARD
BEGIN:DAYLIGHT
TZOFFSETFROM:-0800
TZOFFSETTO:-0700
TZNAME:PDT
DTSTART:20260308T100000
END:DAYLIGHT
BEGIN:STANDARD
TZOFFSETFROM:-0700
TZOFFSETTO:-0800
TZNAME:PST
DTSTART:20261101T090000
END:STANDARD
BEGIN:DAYLIGHT
TZOFFSETFROM:-0800
TZOFFSETTO:-0700
TZNAME:PDT
DTSTART:20270314T100000
END:DAYLIGHT
BEGIN:STANDARD
TZOFFSETFROM:-0700
TZOFFSETTO:-0800
TZNAME:PST
DTSTART:20271107T090000
END:STANDARD
END:VTIMEZONE
BEGIN:VEVENT
DTSTART;TZID=America/Los_Angeles:20260823T123000
DTEND;TZID=America/Los_Angeles:20260823T150000
DTSTAMP:20260425T080547
CREATED:20230206T041415Z
LAST-MODIFIED:20240429T231837Z
UID:10006684-1787488200-1787497200@ladera.org
SUMMARY:Haumalu 'o Langi Worship Service
DESCRIPTION:Haumalu ‘o Langi Tongan congregation’s weekly Sunday service and Sunday school for the children.
URL:https://ladera.org/event/haumalu-o-langi-worship-service-2/2026-08-23/
LOCATION:Ladera Church\, 3300 Alpine Road\, Portola Valley\, CA\, 94028\, United States
CATEGORIES:Facility Use
ATTACH;FMTTYPE=image/jpeg:https://ladera.org/wp-content/uploads/2022/10/Tongan-Worship-Service.jpg
END:VEVENT
BEGIN:VEVENT
DTSTART;TZID=America/Los_Angeles:20260823T180000
DTEND;TZID=America/Los_Angeles:20260823T213000
DTSTAMP:20260425T080547
CREATED:20260425T014540Z
LAST-MODIFIED:20260425T014542Z
UID:10015987-1787508000-1787520600@ladera.org
SUMMARY:Stanford Quads
DESCRIPTION:Modern square dancing is a recreation enjoyed by people of all ages in the United States and around the world.  We dance the Plus program utilizing All Position Dancing.  We often have an A2 or C1 star tip at the end of the evening.  All Plus dancers are welcome to join us for an evening of dancing.  Square dance attire is not needed.  Masks are optional. \n\nThe weekly schedule is:\n\n\n\n\n\n\n\n\n\n       Class: 6:30-8:30 pm\n\n\n\n\n\n\n\n\n\n\n\n\n\n\n\n\n       Plus: 8:30-9:00 pm\n\n\n\n\n\n\n\n\n\n\n\n\n\n\n\n\n\n       Star tips: 9:00-9:30 pm \n\n\n\n\n\n\n\n\n\n\nThe cost is $10 per session.  We start a beginner’s class every fall in October.
URL:https://ladera.org/event/stanford-quads-2-2-2-2-2-2-2-2-2/2026-08-23/
LOCATION:LCC: Peabody Hall\, 3300 Alpine Road\, Portola Valley\, CA\, 94028
CATEGORIES:Facility Use,Find Connection
ATTACH;FMTTYPE=image/jpeg:https://ladera.org/wp-content/uploads/2022/10/squre-dancing.jpeg
END:VEVENT
BEGIN:VEVENT
DTSTART;VALUE=DATE:20260824
DTEND;VALUE=DATE:20260825
DTSTAMP:20260425T080547
CREATED:20250905T175344Z
LAST-MODIFIED:20260422T004406Z
UID:10015968-1787558400-1787590800@ladera.org
SUMMARY:Sharmila Montessori Preschool - First Day of School
DESCRIPTION:Sharmila Montessori Preschool’s first day of the regular school year.
URL:https://ladera.org/event/sharmila-montessori-preschool-first-day-of-school/2026-08-24/
LOCATION:Sharmila Montessori Preschool\, 3300 Alpine Road\, Unit B\, Portola Valley\, CA\, 94028\, United States
CATEGORIES:Preschool
ATTACH;FMTTYPE=image/png:https://ladera.org/wp-content/uploads/2022/11/SMP-Logo-e1669921740683.png
END:VEVENT
BEGIN:VEVENT
DTSTART;TZID=America/Los_Angeles:20260824T190000
DTEND;TZID=America/Los_Angeles:20260824T210000
DTSTAMP:20260425T080547
CREATED:20221005T213350Z
LAST-MODIFIED:20240108T165955Z
UID:10000950-1787598000-1787605200@ladera.org
SUMMARY:AA
DESCRIPTION:
URL:https://ladera.org/event/aa/2026-08-24/
LOCATION:LCC: Peabody Hall\, 3300 Alpine Road\, Portola Valley\, CA\, 94028
CATEGORIES:Find Connection,Look Deeper
ORGANIZER;CN="Ladera Church":MAILTO:church@ladera.org
END:VEVENT
BEGIN:VEVENT
DTSTART;TZID=America/Los_Angeles:20260826T190000
DTEND;TZID=America/Los_Angeles:20260826T203000
DTSTAMP:20260425T080547
CREATED:20221017T070859Z
LAST-MODIFIED:20251102T014045Z
UID:10014928-1787770800-1787776200@ladera.org
SUMMARY:Peninsula Threshold Choir
DESCRIPTION:Peninsula Threshold Choir brings comfort and kindness through song to the bedsides of those at the thresholds of living and dying. The choir rehearses on the second and fourth Wednesdays of the month.
URL:https://ladera.org/event/peninsula-threshold-choir-2/2026-08-26/
LOCATION:LCC: Peabody Hall\, 3300 Alpine Road\, Portola Valley\, CA\, 94028
CATEGORIES:Facility Use
ATTACH;FMTTYPE=image/jpeg:https://ladera.org/wp-content/uploads/2022/10/PeninsulaThresholdChoir.jpg
END:VEVENT
BEGIN:VEVENT
DTSTART;TZID=America/Los_Angeles:20260830T093000
DTEND;TZID=America/Los_Angeles:20260830T103000
DTSTAMP:20260425T080547
CREATED:20241023T195434Z
LAST-MODIFIED:20260319T162123Z
UID:10000592-1788082200-1788085800@ladera.org
SUMMARY:Worship Service
DESCRIPTION:Worship is the heart of our community life. Sunday worship begins at 9:30 a.m. in the sanctuary and online via Zoom. All ages are invited. LCC worship is a joyful celebration of God’s presence among us. We find inspiration\, renewal\, and refreshment through song and silence\, prayer\, and reflection. We seek to integrate the arts – music\, drama\, and visual – to enrich the worship experience. Worship continues in the many ways we seek\, serve\, and grow in the world. \n\nWe serve communion on the first Sunday of every month. All are welcome to the table!\n\n  \nJoin us on Zoom \nID: 829 2023 8953\nPasscode: Sunday
URL:https://ladera.org/event/weekly-worship-service-2-2-2-5-2-2-2/2026-08-30/
LOCATION:LCC: Sanctuary\, 3300 Alpine Road\, Portola Valley\, CA\, 94028\, United States
CATEGORIES:Find Connection,Look Deeper,Quiet the Noise
ATTACH;FMTTYPE=image/jpeg:https://ladera.org/wp-content/uploads/2024/10/unnamed-11.jpg
END:VEVENT
BEGIN:VEVENT
DTSTART;TZID=America/Los_Angeles:20260830T123000
DTEND;TZID=America/Los_Angeles:20260830T150000
DTSTAMP:20260425T080547
CREATED:20230206T041415Z
LAST-MODIFIED:20240429T231837Z
UID:10006685-1788093000-1788102000@ladera.org
SUMMARY:Haumalu 'o Langi Worship Service
DESCRIPTION:Haumalu ‘o Langi Tongan congregation’s weekly Sunday service and Sunday school for the children.
URL:https://ladera.org/event/haumalu-o-langi-worship-service-2/2026-08-30/
LOCATION:Ladera Church\, 3300 Alpine Road\, Portola Valley\, CA\, 94028\, United States
CATEGORIES:Facility Use
ATTACH;FMTTYPE=image/jpeg:https://ladera.org/wp-content/uploads/2022/10/Tongan-Worship-Service.jpg
END:VEVENT
BEGIN:VEVENT
DTSTART;TZID=America/Los_Angeles:20260830T140000
DTEND;TZID=America/Los_Angeles:20260830T160000
DTSTAMP:20260425T080547
CREATED:20260127T155520Z
LAST-MODIFIED:20260127T155520Z
UID:10015835-1788098400-1788105600@ladera.org
SUMMARY:Wine Tasting - Chardonnay
DESCRIPTION:Wine tasting events are LCC are fun\, educational and social.  This is our third year hosting wine tasting events at the church.  In the past\, we have focused on different wine regions around the world.  This year we want to focus on your favorite wines.  Come and join us for a fun afternoon of great fellowship and good wine. \nChardonnay is grown around the world.  From wonderful California chardonnays to a variety of different expressions from other parts of the US and internationally.  This is the day to share your favorite Chardonnay! \nJoin Us!  If you would like to attend\, please bring either a bottle of wine or snacks to share with the group.  Please RSVP a week before the event so we know how many people are coming.  All events are at Ladera Community Church. 
URL:https://ladera.org/event/wine-tasting-chardonnay/
LOCATION:Ladera Church\, 3300 Alpine Road\, Portola Valley\, CA\, 94028\, United States
ATTACH;FMTTYPE=image/jpeg:https://ladera.org/wp-content/uploads/2026/01/Chardonnay.jpg
ORGANIZER;CN="Ladera Church":MAILTO:church@ladera.org
END:VEVENT
BEGIN:VEVENT
DTSTART;TZID=America/Los_Angeles:20260830T180000
DTEND;TZID=America/Los_Angeles:20260830T213000
DTSTAMP:20260425T080547
CREATED:20260425T014540Z
LAST-MODIFIED:20260425T014542Z
UID:10015988-1788112800-1788125400@ladera.org
SUMMARY:Stanford Quads
DESCRIPTION:Modern square dancing is a recreation enjoyed by people of all ages in the United States and around the world.  We dance the Plus program utilizing All Position Dancing.  We often have an A2 or C1 star tip at the end of the evening.  All Plus dancers are welcome to join us for an evening of dancing.  Square dance attire is not needed.  Masks are optional. \n\nThe weekly schedule is:\n\n\n\n\n\n\n\n\n\n       Class: 6:30-8:30 pm\n\n\n\n\n\n\n\n\n\n\n\n\n\n\n\n\n       Plus: 8:30-9:00 pm\n\n\n\n\n\n\n\n\n\n\n\n\n\n\n\n\n\n       Star tips: 9:00-9:30 pm \n\n\n\n\n\n\n\n\n\n\nThe cost is $10 per session.  We start a beginner’s class every fall in October.
URL:https://ladera.org/event/stanford-quads-2-2-2-2-2-2-2-2-2/2026-08-30/
LOCATION:LCC: Peabody Hall\, 3300 Alpine Road\, Portola Valley\, CA\, 94028
CATEGORIES:Facility Use,Find Connection
ATTACH;FMTTYPE=image/jpeg:https://ladera.org/wp-content/uploads/2022/10/squre-dancing.jpeg
END:VEVENT
BEGIN:VEVENT
DTSTART;TZID=America/Los_Angeles:20260831T190000
DTEND;TZID=America/Los_Angeles:20260831T210000
DTSTAMP:20260425T080547
CREATED:20221005T213350Z
LAST-MODIFIED:20240108T165955Z
UID:10000951-1788202800-1788210000@ladera.org
SUMMARY:AA
DESCRIPTION:
URL:https://ladera.org/event/aa/2026-08-31/
LOCATION:LCC: Peabody Hall\, 3300 Alpine Road\, Portola Valley\, CA\, 94028
CATEGORIES:Find Connection,Look Deeper
ORGANIZER;CN="Ladera Church":MAILTO:church@ladera.org
END:VEVENT
BEGIN:VEVENT
DTSTART;TZID=America/Los_Angeles:20260902T130000
DTEND;TZID=America/Los_Angeles:20260902T134500
DTSTAMP:20260425T080547
CREATED:20251029T203807Z
LAST-MODIFIED:20251125T190402Z
UID:10015062-1788354000-1788356700@ladera.org
SUMMARY:Community Support & Meditation
DESCRIPTION:Join in community for fellowship time to enjoy snacks and conversation after the community support program.
URL:https://ladera.org/event/community-support-program-fellowship-time/2026-09-02/
LOCATION:LCC: Peabody Hall\, 3300 Alpine Road\, Portola Valley\, CA\, 94028
CATEGORIES:Find Connection
ATTACH;FMTTYPE=image/jpeg:https://ladera.org/wp-content/uploads/2025/06/Community-Support-Program-16-x-6-in.jpg
ORGANIZER;CN="Ladera Church":MAILTO:church@ladera.org
END:VEVENT
BEGIN:VEVENT
DTSTART;TZID=America/Los_Angeles:20260902T193000
DTEND;TZID=America/Los_Angeles:20260902T203000
DTSTAMP:20260425T080547
CREATED:20230125T000721Z
LAST-MODIFIED:20251006T185737Z
UID:10005991-1788377400-1788381000@ladera.org
SUMMARY:Affordable Housing Task Force
DESCRIPTION:To download and import the events into an iCalendar (.ics) calendar\, click here.
URL:https://ladera.org/event/affordable-housing-task-force/2026-09-02/
LOCATION:Online – Zoom
CATEGORIES:Make a Difference
ATTACH;FMTTYPE=image/jpeg:https://ladera.org/wp-content/uploads/2022/10/affordable-housing_hands.jpg
ORGANIZER;CN="Ladera Church":MAILTO:church@ladera.org
END:VEVENT
BEGIN:VEVENT
DTSTART;TZID=America/Los_Angeles:20260904T150000
DTEND;TZID=America/Los_Angeles:20260904T160000
DTSTAMP:20260425T080547
CREATED:20250317T140924Z
LAST-MODIFIED:20260421T173140Z
UID:10012722-1788534000-1788537600@ladera.org
SUMMARY:Share Your Joy Team Meeting
DESCRIPTION:Do you have a favorite activity you’d like to share at LCC? The Share Your Joy team can help you spread joy through activities like going to the opera\, playing table tennis\, reading for spiritual insights\, or cooking pancakes. To join the Share Your Joy team meeting or to submit an idea for an event\, email amy@ladera.org.
URL:https://ladera.org/event/share-your-joy-team-meeting-6/2026-09-04/
LOCATION:Ladera Church\, 3300 Alpine Road\, Portola Valley\, CA\, 94028\, United States
ATTACH;FMTTYPE=image/jpeg:https://ladera.org/wp-content/uploads/2024/01/Share-Your-Joy-e1721057609348.jpg
ORGANIZER;CN="Ladera Church":MAILTO:church@ladera.org
END:VEVENT
BEGIN:VEVENT
DTSTART;TZID=America/Los_Angeles:20260906T093000
DTEND;TZID=America/Los_Angeles:20260906T103000
DTSTAMP:20260425T080547
CREATED:20241023T195434Z
LAST-MODIFIED:20260319T162123Z
UID:10000593-1788687000-1788690600@ladera.org
SUMMARY:Worship Service
DESCRIPTION:Worship is the heart of our community life. Sunday worship begins at 9:30 a.m. in the sanctuary and online via Zoom. All ages are invited. LCC worship is a joyful celebration of God’s presence among us. We find inspiration\, renewal\, and refreshment through song and silence\, prayer\, and reflection. We seek to integrate the arts – music\, drama\, and visual – to enrich the worship experience. Worship continues in the many ways we seek\, serve\, and grow in the world. \n\nWe serve communion on the first Sunday of every month. All are welcome to the table!\n\n  \nJoin us on Zoom \nID: 829 2023 8953\nPasscode: Sunday
URL:https://ladera.org/event/weekly-worship-service-2-2-2-5-2-2-2/2026-09-06/
LOCATION:LCC: Sanctuary\, 3300 Alpine Road\, Portola Valley\, CA\, 94028\, United States
CATEGORIES:Find Connection,Look Deeper,Quiet the Noise
ATTACH;FMTTYPE=image/jpeg:https://ladera.org/wp-content/uploads/2024/10/unnamed-11.jpg
END:VEVENT
BEGIN:VEVENT
DTSTART;TZID=America/Los_Angeles:20260906T103000
DTEND;TZID=America/Los_Angeles:20260906T110000
DTSTAMP:20260425T080547
CREATED:20250604T235702Z
LAST-MODIFIED:20260325T211925Z
UID:10014288-1788690600-1788692400@ladera.org
SUMMARY:Pastoral Relations Committee Meeting
DESCRIPTION:Pastoral Relations Committee Meeting occur the first Sunday of each month in room 6.
URL:https://ladera.org/event/pastoral-relations-committee-meeting-3-2/2026-09-06/
LOCATION:LCC: Fireside Room\, 3300 Alpine Road\, Portola Valley\, CA\, 94028\, United States
CATEGORIES:Make a Difference
ATTACH;FMTTYPE=image/jpeg:https://ladera.org/wp-content/uploads/2025/03/Pastoral-Relations-Committee.jpg
ORGANIZER;CN="Ladera Church":MAILTO:church@ladera.org
END:VEVENT
BEGIN:VEVENT
DTSTART;TZID=America/Los_Angeles:20260906T180000
DTEND;TZID=America/Los_Angeles:20260906T213000
DTSTAMP:20260425T080547
CREATED:20260425T014540Z
LAST-MODIFIED:20260425T014542Z
UID:10015989-1788717600-1788730200@ladera.org
SUMMARY:Stanford Quads
DESCRIPTION:Modern square dancing is a recreation enjoyed by people of all ages in the United States and around the world.  We dance the Plus program utilizing All Position Dancing.  We often have an A2 or C1 star tip at the end of the evening.  All Plus dancers are welcome to join us for an evening of dancing.  Square dance attire is not needed.  Masks are optional. \n\nThe weekly schedule is:\n\n\n\n\n\n\n\n\n\n       Class: 6:30-8:30 pm\n\n\n\n\n\n\n\n\n\n\n\n\n\n\n\n\n       Plus: 8:30-9:00 pm\n\n\n\n\n\n\n\n\n\n\n\n\n\n\n\n\n\n       Star tips: 9:00-9:30 pm \n\n\n\n\n\n\n\n\n\n\nThe cost is $10 per session.  We start a beginner’s class every fall in October.
URL:https://ladera.org/event/stanford-quads-2-2-2-2-2-2-2-2-2/2026-09-06/
LOCATION:LCC: Peabody Hall\, 3300 Alpine Road\, Portola Valley\, CA\, 94028
CATEGORIES:Facility Use,Find Connection
ATTACH;FMTTYPE=image/jpeg:https://ladera.org/wp-content/uploads/2022/10/squre-dancing.jpeg
END:VEVENT
BEGIN:VEVENT
DTSTART;VALUE=DATE:20260907
DTEND;VALUE=DATE:20260908
DTSTAMP:20260425T080547
CREATED:20231006T203911Z
LAST-MODIFIED:20250915T194556Z
UID:10014451-1788785157-1788785157@ladera.org
SUMMARY:Sharmila Montessori Preschool Closed - Labor Day Holiday
DESCRIPTION:Sharmila Montessori Preschool is closed for the Labor Day holiday.
URL:https://ladera.org/event/sharmila-montessori-preschool-closed-labor-day-holiday-2/2026-09-07/
LOCATION:Sharmila Montessori Preschool\, 3300 Alpine Road\, Unit B\, Portola Valley\, CA\, 94028\, United States
CATEGORIES:Preschool
ATTACH;FMTTYPE=image/png:https://ladera.org/wp-content/uploads/2022/11/SMP-Logo-e1669921740683.png
END:VEVENT
BEGIN:VEVENT
DTSTART;TZID=America/Los_Angeles:20260907T190000
DTEND;TZID=America/Los_Angeles:20260907T210000
DTSTAMP:20260425T080547
CREATED:20221005T213350Z
LAST-MODIFIED:20240108T165955Z
UID:10000952-1788807600-1788814800@ladera.org
SUMMARY:AA
DESCRIPTION:
URL:https://ladera.org/event/aa/2026-09-07/
LOCATION:LCC: Peabody Hall\, 3300 Alpine Road\, Portola Valley\, CA\, 94028
CATEGORIES:Find Connection,Look Deeper
ORGANIZER;CN="Ladera Church":MAILTO:church@ladera.org
END:VEVENT
BEGIN:VEVENT
DTSTART;TZID=America/Los_Angeles:20260909T163000
DTEND;TZID=America/Los_Angeles:20260909T174500
DTSTAMP:20260425T080547
CREATED:20250910T165754Z
LAST-MODIFIED:20260310T155721Z
UID:10015877-1788971400-1788975900@ladera.org
SUMMARY:Social Justice Meeting
DESCRIPTION:
URL:https://ladera.org/event/social-justice-meeting-2-2-2-2-4/2026-09-09/
LOCATION:Online – Zoom
CATEGORIES:Make a Difference
ATTACH;FMTTYPE=image/jpeg:https://ladera.org/wp-content/uploads/2022/10/social-justice-e1666131952585.jpg
ORGANIZER;CN="Ladera Church":MAILTO:church@ladera.org
END:VEVENT
BEGIN:VEVENT
DTSTART;TZID=America/Los_Angeles:20260909T190000
DTEND;TZID=America/Los_Angeles:20260909T203000
DTSTAMP:20260425T080547
CREATED:20241223T012553Z
LAST-MODIFIED:20251102T013331Z
UID:10012592-1788980400-1788985800@ladera.org
SUMMARY:Peninsula Threshold Choir
DESCRIPTION:Peninsula Threshold Choir brings comfort and kindness through song to the bedsides of those at the thresholds of living and dying. The choir rehearses on the second and fourth Wednesdays of the month.
URL:https://ladera.org/event/peninsula-threshold-choir-6/2026-09-09/
LOCATION:LCC: Peabody Hall\, 3300 Alpine Road\, Portola Valley\, CA\, 94028
CATEGORIES:Facility Use
ATTACH;FMTTYPE=image/jpeg:https://ladera.org/wp-content/uploads/2022/10/PeninsulaThresholdChoir.jpg
END:VEVENT
BEGIN:VEVENT
DTSTART;TZID=America/Los_Angeles:20260913T093000
DTEND;TZID=America/Los_Angeles:20260913T103000
DTSTAMP:20260425T080547
CREATED:20241023T195434Z
LAST-MODIFIED:20260319T162123Z
UID:10000594-1789291800-1789295400@ladera.org
SUMMARY:Worship Service
DESCRIPTION:Worship is the heart of our community life. Sunday worship begins at 9:30 a.m. in the sanctuary and online via Zoom. All ages are invited. LCC worship is a joyful celebration of God’s presence among us. We find inspiration\, renewal\, and refreshment through song and silence\, prayer\, and reflection. We seek to integrate the arts – music\, drama\, and visual – to enrich the worship experience. Worship continues in the many ways we seek\, serve\, and grow in the world. \n\nWe serve communion on the first Sunday of every month. All are welcome to the table!\n\n  \nJoin us on Zoom \nID: 829 2023 8953\nPasscode: Sunday
URL:https://ladera.org/event/weekly-worship-service-2-2-2-5-2-2-2/2026-09-13/
LOCATION:LCC: Sanctuary\, 3300 Alpine Road\, Portola Valley\, CA\, 94028\, United States
CATEGORIES:Find Connection,Look Deeper,Quiet the Noise
ATTACH;FMTTYPE=image/jpeg:https://ladera.org/wp-content/uploads/2024/10/unnamed-11.jpg
END:VEVENT
BEGIN:VEVENT
DTSTART;TZID=America/Los_Angeles:20260913T113000
DTEND;TZID=America/Los_Angeles:20260913T130000
DTSTAMP:20260425T080547
CREATED:20250106T211358Z
LAST-MODIFIED:20251123T000135Z
UID:10015728-1789299000-1789304400@ladera.org
SUMMARY:Navigation Center Lunch Serving
DESCRIPTION:LCC has a long-standing connection with LifeMoves\, especially through its monthly lunch service at the Redwood City Navigation Center. Each monthly visit is a chance to share food\, fellowship\, and compassion with those navigating challenging transitions. We’re assembling a team of 6-10 people to prepare and serve lunch at the new center\, which boasts a full commercial kitchen. We’ll meet at the Navigation Center at 11:30 a.m. You will find this hands-on activity rewarding! Please RSVP to amy@ladera.org to join us. \nTo learn more about the Navigation Center and its mission\, click here.\nNavigation Center: 275 Blomquist St\, Redwood City
URL:https://ladera.org/event/navigation-center-lunch-serving/2026-09-13/
LOCATION:Ladera Church\, 3300 Alpine Road\, Portola Valley\, CA\, 94028\, United States
ATTACH;FMTTYPE=image/png:https://ladera.org/wp-content/uploads/2025/01/Volunteer.png
ORGANIZER;CN="Ladera Church":MAILTO:church@ladera.org
END:VEVENT
BEGIN:VEVENT
DTSTART;TZID=America/Los_Angeles:20260913T123000
DTEND;TZID=America/Los_Angeles:20260913T150000
DTSTAMP:20260425T080547
CREATED:20230206T041415Z
LAST-MODIFIED:20240429T231837Z
UID:10006686-1789302600-1789311600@ladera.org
SUMMARY:Haumalu 'o Langi Worship Service
DESCRIPTION:Haumalu ‘o Langi Tongan congregation’s weekly Sunday service and Sunday school for the children.
URL:https://ladera.org/event/haumalu-o-langi-worship-service-2/2026-09-13/
LOCATION:Ladera Church\, 3300 Alpine Road\, Portola Valley\, CA\, 94028\, United States
CATEGORIES:Facility Use
ATTACH;FMTTYPE=image/jpeg:https://ladera.org/wp-content/uploads/2022/10/Tongan-Worship-Service.jpg
END:VEVENT
BEGIN:VEVENT
DTSTART;TZID=America/Los_Angeles:20260914T190000
DTEND;TZID=America/Los_Angeles:20260914T210000
DTSTAMP:20260425T080547
CREATED:20221005T213350Z
LAST-MODIFIED:20240108T165955Z
UID:10000953-1789412400-1789419600@ladera.org
SUMMARY:AA
DESCRIPTION:
URL:https://ladera.org/event/aa/2026-09-14/
LOCATION:LCC: Peabody Hall\, 3300 Alpine Road\, Portola Valley\, CA\, 94028
CATEGORIES:Find Connection,Look Deeper
ORGANIZER;CN="Ladera Church":MAILTO:church@ladera.org
END:VEVENT
BEGIN:VEVENT
DTSTART;TZID=America/Los_Angeles:20260915T193000
DTEND;TZID=America/Los_Angeles:20260915T210000
DTSTAMP:20260425T080547
CREATED:20241216T205524Z
LAST-MODIFIED:20250902T165338Z
UID:10010680-1789500600-1789506000@ladera.org
SUMMARY:Council Meeting
DESCRIPTION:
URL:https://ladera.org/event/council-meeting-4-2/2026-09-15/
LOCATION:Online – Zoom
ATTACH;FMTTYPE=image/jpeg:https://ladera.org/wp-content/uploads/2023/04/www.denarebeach.jpg
ORGANIZER;CN="Ladera Church":MAILTO:church@ladera.org
END:VEVENT
BEGIN:VEVENT
DTSTART;TZID=America/Los_Angeles:20260916T123000
DTEND;TZID=America/Los_Angeles:20260916T123000
DTSTAMP:20260425T080547
CREATED:20250710T191322Z
LAST-MODIFIED:20250716T221409Z
UID:10014199-1789561800-1789561800@ladera.org
SUMMARY:Community Support: Reflections for These Times
DESCRIPTION:Join us for “Reflections for These Times\,” a nurturing space for connection and stillness. Each session opens with a Tai Chi prayer\, followed by time to check in\, lighting a candle for our shared concerns and hopes\, and silent meditation. We close in peaceful silence. \nAfter these 30 minutes of connection and quiet\, we will enjoy snacks and conversation in the fellowship hall.  This program will be held on the first and third Wednesdays of each month—join us whenever you need grounding and community.
URL:https://ladera.org/event/community-support-program-2-2/2026-09-16/
LOCATION:LCC: Fireside Room\, 3300 Alpine Road\, Portola Valley\, CA\, 94028\, United States
ATTACH;FMTTYPE=image/jpeg:https://ladera.org/wp-content/uploads/2025/06/Community-Support-Program-16-x-6-in.jpg
ORGANIZER;CN="Ladera Church":MAILTO:church@ladera.org
END:VEVENT
BEGIN:VEVENT
DTSTART;TZID=America/Los_Angeles:20260916T130000
DTEND;TZID=America/Los_Angeles:20260916T134500
DTSTAMP:20260425T080547
CREATED:20251029T203933Z
LAST-MODIFIED:20251125T184241Z
UID:10015002-1789563600-1789566300@ladera.org
SUMMARY:Community Support & Meditation
DESCRIPTION:Join in community for fellowship time to enjoy snacks and conversation after the community support program.
URL:https://ladera.org/event/community-support-program-fellowship-time-2/2026-09-16/
LOCATION:LCC: Peabody Hall\, 3300 Alpine Road\, Portola Valley\, CA\, 94028
CATEGORIES:Find Connection
ATTACH;FMTTYPE=image/jpeg:https://ladera.org/wp-content/uploads/2025/06/Community-Support-Program-16-x-6-in.jpg
ORGANIZER;CN="Ladera Church":MAILTO:church@ladera.org
END:VEVENT
BEGIN:VEVENT
DTSTART;TZID=America/Los_Angeles:20260920T093000
DTEND;TZID=America/Los_Angeles:20260920T103000
DTSTAMP:20260425T080548
CREATED:20241023T195434Z
LAST-MODIFIED:20260319T162123Z
UID:10000595-1789896600-1789900200@ladera.org
SUMMARY:Worship Service
DESCRIPTION:Worship is the heart of our community life. Sunday worship begins at 9:30 a.m. in the sanctuary and online via Zoom. All ages are invited. LCC worship is a joyful celebration of God’s presence among us. We find inspiration\, renewal\, and refreshment through song and silence\, prayer\, and reflection. We seek to integrate the arts – music\, drama\, and visual – to enrich the worship experience. Worship continues in the many ways we seek\, serve\, and grow in the world. \n\nWe serve communion on the first Sunday of every month. All are welcome to the table!\n\n  \nJoin us on Zoom \nID: 829 2023 8953\nPasscode: Sunday
URL:https://ladera.org/event/weekly-worship-service-2-2-2-5-2-2-2/2026-09-20/
LOCATION:LCC: Sanctuary\, 3300 Alpine Road\, Portola Valley\, CA\, 94028\, United States
CATEGORIES:Find Connection,Look Deeper,Quiet the Noise
ATTACH;FMTTYPE=image/jpeg:https://ladera.org/wp-content/uploads/2024/10/unnamed-11.jpg
END:VEVENT
BEGIN:VEVENT
DTSTART;TZID=America/Los_Angeles:20260920T123000
DTEND;TZID=America/Los_Angeles:20260920T150000
DTSTAMP:20260425T080548
CREATED:20230206T041415Z
LAST-MODIFIED:20240429T231837Z
UID:10006687-1789907400-1789916400@ladera.org
SUMMARY:Haumalu 'o Langi Worship Service
DESCRIPTION:Haumalu ‘o Langi Tongan congregation’s weekly Sunday service and Sunday school for the children.
URL:https://ladera.org/event/haumalu-o-langi-worship-service-2/2026-09-20/
LOCATION:Ladera Church\, 3300 Alpine Road\, Portola Valley\, CA\, 94028\, United States
CATEGORIES:Facility Use
ATTACH;FMTTYPE=image/jpeg:https://ladera.org/wp-content/uploads/2022/10/Tongan-Worship-Service.jpg
END:VEVENT
BEGIN:VEVENT
DTSTART;TZID=America/Los_Angeles:20260920T180000
DTEND;TZID=America/Los_Angeles:20260920T213000
DTSTAMP:20260425T080548
CREATED:20260425T014540Z
LAST-MODIFIED:20260425T014542Z
UID:10015990-1789927200-1789939800@ladera.org
SUMMARY:Stanford Quads
DESCRIPTION:Modern square dancing is a recreation enjoyed by people of all ages in the United States and around the world.  We dance the Plus program utilizing All Position Dancing.  We often have an A2 or C1 star tip at the end of the evening.  All Plus dancers are welcome to join us for an evening of dancing.  Square dance attire is not needed.  Masks are optional. \n\nThe weekly schedule is:\n\n\n\n\n\n\n\n\n\n       Class: 6:30-8:30 pm\n\n\n\n\n\n\n\n\n\n\n\n\n\n\n\n\n       Plus: 8:30-9:00 pm\n\n\n\n\n\n\n\n\n\n\n\n\n\n\n\n\n\n       Star tips: 9:00-9:30 pm \n\n\n\n\n\n\n\n\n\n\nThe cost is $10 per session.  We start a beginner’s class every fall in October.
URL:https://ladera.org/event/stanford-quads-2-2-2-2-2-2-2-2-2/2026-09-20/
LOCATION:LCC: Peabody Hall\, 3300 Alpine Road\, Portola Valley\, CA\, 94028
CATEGORIES:Facility Use,Find Connection
ATTACH;FMTTYPE=image/jpeg:https://ladera.org/wp-content/uploads/2022/10/squre-dancing.jpeg
END:VEVENT
END:VCALENDAR