BEGIN:VCALENDAR
VERSION:2.0
PRODID:-//Ladera Community Church - ECPv6.15.20//NONSGML v1.0//EN
CALSCALE:GREGORIAN
METHOD:PUBLISH
X-WR-CALNAME:Ladera Community Church
X-ORIGINAL-URL:https://ladera.org
X-WR-CALDESC:Events for Ladera Community Church
REFRESH-INTERVAL;VALUE=DURATION:PT1H
X-Robots-Tag:noindex
X-PUBLISHED-TTL:PT1H
BEGIN:VTIMEZONE
TZID:America/Los_Angeles
BEGIN:DAYLIGHT
TZOFFSETFROM:-0800
TZOFFSETTO:-0700
TZNAME:PDT
DTSTART:20240310T100000
END:DAYLIGHT
BEGIN:STANDARD
TZOFFSETFROM:-0700
TZOFFSETTO:-0800
TZNAME:PST
DTSTART:20241103T090000
END:STANDARD
BEGIN:DAYLIGHT
TZOFFSETFROM:-0800
TZOFFSETTO:-0700
TZNAME:PDT
DTSTART:20250309T100000
END:DAYLIGHT
BEGIN:STANDARD
TZOFFSETFROM:-0700
TZOFFSETTO:-0800
TZNAME:PST
DTSTART:20251102T090000
END:STANDARD
BEGIN:DAYLIGHT
TZOFFSETFROM:-0800
TZOFFSETTO:-0700
TZNAME:PDT
DTSTART:20260308T100000
END:DAYLIGHT
BEGIN:STANDARD
TZOFFSETFROM:-0700
TZOFFSETTO:-0800
TZNAME:PST
DTSTART:20261101T090000
END:STANDARD
END:VTIMEZONE
BEGIN:VEVENT
DTSTART;TZID=America/Los_Angeles:20251214T123000
DTEND;TZID=America/Los_Angeles:20251214T150000
DTSTAMP:20260425T143722
CREATED:20230206T041415Z
LAST-MODIFIED:20240429T231837Z
UID:10006656-1765715400-1765724400@ladera.org
SUMMARY:Haumalu 'o Langi Worship Service
DESCRIPTION:Haumalu ‘o Langi Tongan congregation’s weekly Sunday service and Sunday school for the children.
URL:https://ladera.org/event/haumalu-o-langi-worship-service-2/2025-12-14/
LOCATION:Ladera Church\, 3300 Alpine Road\, Portola Valley\, CA\, 94028\, United States
CATEGORIES:Facility Use
ATTACH;FMTTYPE=image/jpeg:https://ladera.org/wp-content/uploads/2022/10/Tongan-Worship-Service.jpg
END:VEVENT
BEGIN:VEVENT
DTSTART;TZID=America/Los_Angeles:20251214T110000
DTEND;TZID=America/Los_Angeles:20251214T130000
DTSTAMP:20260425T143722
CREATED:20251121T230540Z
LAST-MODIFIED:20251123T000506Z
UID:10015717-1765710000-1765717200@ladera.org
SUMMARY:Gift Basket Preparation & Navigation Center Lunch Serving
DESCRIPTION:The holiday season is a time for giving\, and Ladera Community Church (LCC) is once again partnering with LifeMoves to bring warmth and joy to the residents of the Navigation Center. In addition to our monthly lunch service\, we will be delivering gift baskets for the residents and singing Christmas carols. Join us in Peabody Hall at 10:30 a.m. to help prepare the baskets\, and meet us at the Navigation Center  at 11:30 a.m. if you’d like to help serve lunch and sing carols*. \nThis December\, we’re launching a special holiday collection for the gift baskets. These baskets include essentials like socks\, hats\, gloves\, and gift cards\, offering both comfort and dignity during the colder months. Every dollar raised goes directly toward these gifts. Our goal is to provide 80 gift baskets at $50 per basket. Let’s come together to make this season brighter for our neighbors in need. Want to contribute? Donations can be made by credit card through our website. Click here to donate. If you prefer\, you may also write a check payable to Ladera Community Church (memo: Navigation Center Baskets). \n*Contact Amy at amy@ladera.org with any questions and to RSVP to serve lunch. \n\nTo learn more about the Navigation Center and its mission\, click here.\nNavigation Center: 275 Blomquist St\, Redwood City
URL:https://ladera.org/event/gift-basket-preparation-navigation-center-lunch-serving/
LOCATION:Ladera Church\, 3300 Alpine Road\, Portola Valley\, CA\, 94028\, United States
ATTACH;FMTTYPE=image/jpeg:https://ladera.org/wp-content/uploads/2025/11/Help-1.jpg
ORGANIZER;CN="Ladera Church":MAILTO:church@ladera.org
END:VEVENT
BEGIN:VEVENT
DTSTART;TZID=America/Los_Angeles:20251214T093000
DTEND;TZID=America/Los_Angeles:20251214T103000
DTSTAMP:20260425T143722
CREATED:20251106T184037Z
LAST-MODIFIED:20251106T184040Z
UID:10012033-1765704600-1765708200@ladera.org
SUMMARY:Christmas Music Service
DESCRIPTION:Please join us for a special Christmas music service featuring the LCC Choir\, guest musicians\, and a diverse program of the familiar and not-so-familiar.  A warm and cozy experience for the whole family!
URL:https://ladera.org/event/christmas-music-service-2-2/
LOCATION:Ladera Church\, 3300 Alpine Road\, Portola Valley\, CA\, 94028\, United States
CATEGORIES:Find Connection,Look Deeper,Quiet the Noise
ATTACH;FMTTYPE=image/jpeg:https://ladera.org/wp-content/uploads/2022/11/Choir-Christmas-Concert.jpg
ORGANIZER;CN="Ladera Church":MAILTO:church@ladera.org
END:VEVENT
BEGIN:VEVENT
DTSTART;TZID=America/Los_Angeles:20251213T100000
DTEND;TZID=America/Los_Angeles:20251213T113000
DTSTAMP:20260425T143722
CREATED:20250403T171119Z
LAST-MODIFIED:20260422T062849Z
UID:10014466-1765620000-1765625400@ladera.org
SUMMARY:LCC Choir Rehearsal
DESCRIPTION:Ladera Community Church weekly choir rehearsal.
URL:https://ladera.org/event/lcc-choir-rehearsal-6/2025-12-13/
LOCATION:LCC: Sanctuary\, 3300 Alpine Road\, Portola Valley\, CA\, 94028\, United States
CATEGORIES:Find Connection
ATTACH;FMTTYPE=image/jpeg:https://ladera.org/wp-content/uploads/2023/03/Choir-Rehearsal.jpg
ORGANIZER;CN="Ladera Church":MAILTO:church@ladera.org
END:VEVENT
BEGIN:VEVENT
DTSTART;TZID=America/Los_Angeles:20251211T193000
DTEND;TZID=America/Los_Angeles:20251211T210000
DTSTAMP:20260425T143723
CREATED:20250403T171119Z
LAST-MODIFIED:20260422T062849Z
UID:10012864-1765481400-1765486800@ladera.org
SUMMARY:LCC Choir Rehearsal
DESCRIPTION:Ladera Community Church weekly choir rehearsal.
URL:https://ladera.org/event/lcc-choir-rehearsal-6/2025-12-11/
LOCATION:LCC: Sanctuary\, 3300 Alpine Road\, Portola Valley\, CA\, 94028\, United States
CATEGORIES:Find Connection
ATTACH;FMTTYPE=image/jpeg:https://ladera.org/wp-content/uploads/2023/03/Choir-Rehearsal.jpg
ORGANIZER;CN="Ladera Church":MAILTO:church@ladera.org
END:VEVENT
BEGIN:VEVENT
DTSTART;TZID=America/Los_Angeles:20251208T190000
DTEND;TZID=America/Los_Angeles:20251208T210000
DTSTAMP:20260425T143723
CREATED:20221005T213350Z
LAST-MODIFIED:20240108T165955Z
UID:10000913-1765220400-1765227600@ladera.org
SUMMARY:AA
DESCRIPTION:
URL:https://ladera.org/event/aa/2025-12-08/
LOCATION:LCC: Peabody Hall\, 3300 Alpine Road\, Portola Valley\, CA\, 94028
CATEGORIES:Find Connection,Look Deeper
ORGANIZER;CN="Ladera Church":MAILTO:church@ladera.org
END:VEVENT
BEGIN:VEVENT
DTSTART;TZID=America/Los_Angeles:20251207T173000
DTEND;TZID=America/Los_Angeles:20251207T213000
DTSTAMP:20260425T143723
CREATED:20251104T170042Z
LAST-MODIFIED:20260303T170423Z
UID:10015115-1765128600-1765143000@ladera.org
SUMMARY:Stanford Quads
DESCRIPTION:Modern square dancing is a recreation enjoyed by people of all ages in the United States and around the world.  We dance the Plus program utilizing All Position Dancing.  We often have an A2 or C1 star tip at the end of the evening.  All Plus dancers are welcome to join us for an evening of dancing.  Square dance attire is not needed.  Masks are optional. \n\nThe weekly schedule is:\n       Review: 6:00-6:30 pm\n\n\n\n\n\n\n\n\n\n       Class: 6:30-8:30 pm\n\n\n\n\n\n\n\n\n\n\n\n\n\n\n\n\n       Plus: 8:30-9:00 pm\n\n\n\n\n\n\n\n\n\n\n\n\n\n\n\n\n\n       Star tips: 9:00-9:30 pm \n\n\n\n\n\n\n\n\n\n\nThe cost is $10 per session.  We start a beginner’s class every fall in October.
URL:https://ladera.org/event/stanford-quads-2-2-2-2-2-2-2-2/2025-12-07/
LOCATION:LCC: Peabody Hall\, 3300 Alpine Road\, Portola Valley\, CA\, 94028
CATEGORIES:Facility Use,Find Connection
ATTACH;FMTTYPE=image/jpeg:https://ladera.org/wp-content/uploads/2022/10/squre-dancing.jpeg
END:VEVENT
BEGIN:VEVENT
DTSTART;TZID=America/Los_Angeles:20251207T103000
DTEND;TZID=America/Los_Angeles:20251207T110000
DTSTAMP:20260425T143723
CREATED:20250604T235702Z
LAST-MODIFIED:20260325T211925Z
UID:10014279-1765103400-1765105200@ladera.org
SUMMARY:Pastoral Relations Committee Meeting
DESCRIPTION:Pastoral Relations Committee Meeting occur the first Sunday of each month in room 6.
URL:https://ladera.org/event/pastoral-relations-committee-meeting-3-2/2025-12-07/
LOCATION:LCC: Fireside Room\, 3300 Alpine Road\, Portola Valley\, CA\, 94028\, United States
CATEGORIES:Make a Difference
ATTACH;FMTTYPE=image/jpeg:https://ladera.org/wp-content/uploads/2025/03/Pastoral-Relations-Committee.jpg
ORGANIZER;CN="Ladera Church":MAILTO:church@ladera.org
END:VEVENT
BEGIN:VEVENT
DTSTART;TZID=America/Los_Angeles:20251207T101500
DTEND;TZID=America/Los_Angeles:20251207T104500
DTSTAMP:20260425T143723
CREATED:20250516T175104Z
LAST-MODIFIED:20251205T015155Z
UID:10013765-1765102500-1765104300@ladera.org
SUMMARY:Mountain View Madrigals' Christmas Concert
DESCRIPTION:Join us in the sanctuary immediately after the service for the annual Holiday Concert by the award-winning Mountain View High School Madrigals. \nFor over 20 years\, LCC has proudly welcomed these talented singers. Come and support the Madrigals as they spread holiday cheer and showcase their incredible talents. Don’t miss this festive event! \nAfter the concert\, there will be a Community Coffee Hour in Peabody Hall.
URL:https://ladera.org/event/mountain-view-madrigals-christmas-concert-3/
LOCATION:Ladera Church\, 3300 Alpine Road\, Portola Valley\, CA\, 94028\, United States
CATEGORIES:Find Connection
ATTACH;FMTTYPE=image/jpeg:https://ladera.org/wp-content/uploads/2022/11/MtnView-Madrigals.jpg
ORGANIZER;CN="Ladera Church":MAILTO:church@ladera.org
END:VEVENT
BEGIN:VEVENT
DTSTART;TZID=America/Los_Angeles:20251207T093000
DTEND;TZID=America/Los_Angeles:20251207T103000
DTSTAMP:20260425T143723
CREATED:20241023T195434Z
LAST-MODIFIED:20260319T162123Z
UID:10000554-1765099800-1765103400@ladera.org
SUMMARY:Worship Service
DESCRIPTION:Worship is the heart of our community life. Sunday worship begins at 9:30 a.m. in the sanctuary and online via Zoom. All ages are invited. LCC worship is a joyful celebration of God’s presence among us. We find inspiration\, renewal\, and refreshment through song and silence\, prayer\, and reflection. We seek to integrate the arts – music\, drama\, and visual – to enrich the worship experience. Worship continues in the many ways we seek\, serve\, and grow in the world. \n\nWe serve communion on the first Sunday of every month. All are welcome to the table!\n\n  \nJoin us on Zoom \nID: 829 2023 8953\nPasscode: Sunday
URL:https://ladera.org/event/weekly-worship-service-2-2-2-5-2-2-2/2025-12-07/
LOCATION:LCC: Sanctuary\, 3300 Alpine Road\, Portola Valley\, CA\, 94028\, United States
CATEGORIES:Find Connection,Look Deeper,Quiet the Noise
ATTACH;FMTTYPE=image/jpeg:https://ladera.org/wp-content/uploads/2024/10/unnamed-11.jpg
END:VEVENT
BEGIN:VEVENT
DTSTART;TZID=America/Los_Angeles:20251205T140000
DTEND;TZID=America/Los_Angeles:20251205T180000
DTSTAMP:20260425T143723
CREATED:20230801T020101Z
LAST-MODIFIED:20250922T210814Z
UID:10014455-1764943200-1764957600@ladera.org
SUMMARY:Sharmila Montessori Preschool's Winter Party
DESCRIPTION:Sharmila Montessori Preschool’s Winter Party and potluck for the children and families. Santa will visit!
URL:https://ladera.org/event/sharmila-montessori-preschools-christmas-program/2025-12-05/
LOCATION:LCC: Peabody Hall\, 3300 Alpine Road\, Portola Valley\, CA\, 94028
CATEGORIES:Preschool
ATTACH;FMTTYPE=image/png:https://ladera.org/wp-content/uploads/2022/11/SMP-Logo-e1669921740683.png
END:VEVENT
BEGIN:VEVENT
DTSTART;TZID=America/Los_Angeles:20251204T193000
DTEND;TZID=America/Los_Angeles:20251204T210000
DTSTAMP:20260425T143723
CREATED:20250403T171119Z
LAST-MODIFIED:20260422T062849Z
UID:10012863-1764876600-1764882000@ladera.org
SUMMARY:LCC Choir Rehearsal
DESCRIPTION:Ladera Community Church weekly choir rehearsal.
URL:https://ladera.org/event/lcc-choir-rehearsal-6/2025-12-04/
LOCATION:LCC: Sanctuary\, 3300 Alpine Road\, Portola Valley\, CA\, 94028\, United States
CATEGORIES:Find Connection
ATTACH;FMTTYPE=image/jpeg:https://ladera.org/wp-content/uploads/2023/03/Choir-Rehearsal.jpg
ORGANIZER;CN="Ladera Church":MAILTO:church@ladera.org
END:VEVENT
BEGIN:VEVENT
DTSTART;TZID=America/Los_Angeles:20251203T193000
DTEND;TZID=America/Los_Angeles:20251203T203000
DTSTAMP:20260425T143723
CREATED:20230125T000721Z
LAST-MODIFIED:20251006T185737Z
UID:10005982-1764790200-1764793800@ladera.org
SUMMARY:Affordable Housing Task Force
DESCRIPTION:To download and import the events into an iCalendar (.ics) calendar\, click here.
URL:https://ladera.org/event/affordable-housing-task-force/2025-12-03/
LOCATION:Online – Zoom
CATEGORIES:Make a Difference
ATTACH;FMTTYPE=image/jpeg:https://ladera.org/wp-content/uploads/2022/10/affordable-housing_hands.jpg
ORGANIZER;CN="Ladera Church":MAILTO:church@ladera.org
END:VEVENT
BEGIN:VEVENT
DTSTART;TZID=America/Los_Angeles:20251203T190000
DTEND;TZID=America/Los_Angeles:20251203T203000
DTSTAMP:20260425T143723
CREATED:20241223T012553Z
LAST-MODIFIED:20251102T013331Z
UID:10014502-1764788400-1764793800@ladera.org
SUMMARY:Peninsula Threshold Choir
DESCRIPTION:Peninsula Threshold Choir brings comfort and kindness through song to the bedsides of those at the thresholds of living and dying. The choir rehearses on the second and fourth Wednesdays of the month.
URL:https://ladera.org/event/peninsula-threshold-choir-6/2025-12-03/
LOCATION:LCC: Peabody Hall\, 3300 Alpine Road\, Portola Valley\, CA\, 94028
CATEGORIES:Facility Use
ATTACH;FMTTYPE=image/jpeg:https://ladera.org/wp-content/uploads/2022/10/PeninsulaThresholdChoir.jpg
END:VEVENT
BEGIN:VEVENT
DTSTART;TZID=America/Los_Angeles:20251203T130000
DTEND;TZID=America/Los_Angeles:20251203T134500
DTSTAMP:20260425T143723
CREATED:20251029T203807Z
LAST-MODIFIED:20251125T190402Z
UID:10015053-1764766800-1764769500@ladera.org
SUMMARY:Community Support & Meditation
DESCRIPTION:Join in community for fellowship time to enjoy snacks and conversation after the community support program.
URL:https://ladera.org/event/community-support-program-fellowship-time/2025-12-03/
LOCATION:LCC: Peabody Hall\, 3300 Alpine Road\, Portola Valley\, CA\, 94028
CATEGORIES:Find Connection
ATTACH;FMTTYPE=image/jpeg:https://ladera.org/wp-content/uploads/2025/06/Community-Support-Program-16-x-6-in.jpg
ORGANIZER;CN="Ladera Church":MAILTO:church@ladera.org
END:VEVENT
BEGIN:VEVENT
DTSTART;TZID=America/Los_Angeles:20251203T123000
DTEND;TZID=America/Los_Angeles:20251203T130000
DTSTAMP:20260425T143723
CREATED:20250710T191709Z
LAST-MODIFIED:20251029T203451Z
UID:10014130-1764765000-1764766800@ladera.org
SUMMARY:Community Support: Reflections for These Times
DESCRIPTION:Join us for “Reflections for These Times\,” a nurturing space for connection and stillness. Each session opens with a Tai Chi prayer\, followed by time to check in\, lighting a candle for our shared concerns and hopes\, and silent meditation. We close in peaceful silence. \nAfter these 30 minutes of connection and quiet\, we will enjoy snacks and conversation in the fellowship hall.  This program will be held on the first and third Wednesdays of each month—join us whenever you need grounding and community.
URL:https://ladera.org/event/community-support-reflections-for-these-times-3/2025-12-03/
LOCATION:LCC: Fireside Room\, 3300 Alpine Road\, Portola Valley\, CA\, 94028\, United States
ATTACH;FMTTYPE=image/jpeg:https://ladera.org/wp-content/uploads/2025/06/Community-Support-Program-16-x-6-in.jpg
ORGANIZER;CN="Ladera Church":MAILTO:church@ladera.org
END:VEVENT
BEGIN:VEVENT
DTSTART;TZID=America/Los_Angeles:20251201T190000
DTEND;TZID=America/Los_Angeles:20251201T210000
DTSTAMP:20260425T143723
CREATED:20221005T213350Z
LAST-MODIFIED:20240108T165955Z
UID:10000912-1764615600-1764622800@ladera.org
SUMMARY:AA
DESCRIPTION:
URL:https://ladera.org/event/aa/2025-12-01/
LOCATION:LCC: Peabody Hall\, 3300 Alpine Road\, Portola Valley\, CA\, 94028
CATEGORIES:Find Connection,Look Deeper
ORGANIZER;CN="Ladera Church":MAILTO:church@ladera.org
END:VEVENT
BEGIN:VEVENT
DTSTART;VALUE=DATE:20251201
DTEND;VALUE=DATE:20251222
DTSTAMP:20260425T143723
CREATED:20251122T023934Z
LAST-MODIFIED:20251201T223915Z
UID:10015719-1764547200-1766361599@ladera.org
SUMMARY:Ecumenical Hunger Program (EHP) Adopt-a-Family
DESCRIPTION:This holiday season Ladera Community Church is sponsoring one family through East Palo Alto’s Ecumenical Hunger Family Share Program. The Bay Area has one of the highest costs of living in the nation and coupled with inflation\, EHP families are struggling and facing a bleak holiday season. Every family deserves hope and joy this holiday season\, and together\, we can help make that happen. Our church has a long standing tradition of supporting families in need at the holidays and your generous support again this year is greatly appreciated. \nThis year\, we will try out a virtual “giving tree” option. If you are short on time to shop for specific items requested\, you may make a financial donation here. Gift cards for stores such as Target\, Safeway\, Walmart\, Trader Joes\, Grocery Outlet\, and Costco may also be dropped off at the church office. Look for the gift wrapped donation box in the office. \nThe deadline for delivering physical gifts and gift cards is Thursday\, December 18th. The deadline for online monetary donations is Monday\, December 22nd. Please contact Susan Nicholls with any questions. \n-Mission and Service Team
URL:https://ladera.org/event/ecumenical-hunger-program-ehp-adopt-a-family/
LOCATION:Ladera Church\, 3300 Alpine Road\, Portola Valley\, CA\, 94028\, United States
CATEGORIES:Make a Difference
ATTACH;FMTTYPE=image/jpeg:https://ladera.org/wp-content/uploads/2025/05/EHP.jpg
ORGANIZER;CN="Ladera Church":MAILTO:church@ladera.org
END:VEVENT
BEGIN:VEVENT
DTSTART;TZID=America/Los_Angeles:20251130T173000
DTEND;TZID=America/Los_Angeles:20251130T213000
DTSTAMP:20260425T143723
CREATED:20251104T170042Z
LAST-MODIFIED:20260303T170423Z
UID:10015114-1764523800-1764538200@ladera.org
SUMMARY:Stanford Quads
DESCRIPTION:Modern square dancing is a recreation enjoyed by people of all ages in the United States and around the world.  We dance the Plus program utilizing All Position Dancing.  We often have an A2 or C1 star tip at the end of the evening.  All Plus dancers are welcome to join us for an evening of dancing.  Square dance attire is not needed.  Masks are optional. \n\nThe weekly schedule is:\n       Review: 6:00-6:30 pm\n\n\n\n\n\n\n\n\n\n       Class: 6:30-8:30 pm\n\n\n\n\n\n\n\n\n\n\n\n\n\n\n\n\n       Plus: 8:30-9:00 pm\n\n\n\n\n\n\n\n\n\n\n\n\n\n\n\n\n\n       Star tips: 9:00-9:30 pm \n\n\n\n\n\n\n\n\n\n\nThe cost is $10 per session.  We start a beginner’s class every fall in October.
URL:https://ladera.org/event/stanford-quads-2-2-2-2-2-2-2-2/2025-11-30/
LOCATION:LCC: Peabody Hall\, 3300 Alpine Road\, Portola Valley\, CA\, 94028
CATEGORIES:Facility Use,Find Connection
ATTACH;FMTTYPE=image/jpeg:https://ladera.org/wp-content/uploads/2022/10/squre-dancing.jpeg
END:VEVENT
BEGIN:VEVENT
DTSTART;TZID=America/Los_Angeles:20251130T123000
DTEND;TZID=America/Los_Angeles:20251130T150000
DTSTAMP:20260425T143723
CREATED:20230206T041415Z
LAST-MODIFIED:20240429T231837Z
UID:10006655-1764505800-1764514800@ladera.org
SUMMARY:Haumalu 'o Langi Worship Service
DESCRIPTION:Haumalu ‘o Langi Tongan congregation’s weekly Sunday service and Sunday school for the children.
URL:https://ladera.org/event/haumalu-o-langi-worship-service-2/2025-11-30/
LOCATION:Ladera Church\, 3300 Alpine Road\, Portola Valley\, CA\, 94028\, United States
CATEGORIES:Facility Use
ATTACH;FMTTYPE=image/jpeg:https://ladera.org/wp-content/uploads/2022/10/Tongan-Worship-Service.jpg
END:VEVENT
BEGIN:VEVENT
DTSTART;TZID=America/Los_Angeles:20251130T103000
DTEND;TZID=America/Los_Angeles:20251130T113000
DTSTAMP:20260425T143723
CREATED:20251118T042155Z
LAST-MODIFIED:20251118T042155Z
UID:10015437-1764498600-1764502200@ladera.org
SUMMARY:Hanging of the Greens
DESCRIPTION:Join in to make our church festive for Advent! We will be hanging the greens during coffee hour and hot cider will be available.
URL:https://ladera.org/event/hanging-of-the-greens/
LOCATION:Ladera Church\, 3300 Alpine Road\, Portola Valley\, CA\, 94028\, United States
ATTACH;FMTTYPE=image/jpeg:https://ladera.org/wp-content/uploads/2025/11/Greens.jpg
ORGANIZER;CN="Ladera Church":MAILTO:church@ladera.org
END:VEVENT
BEGIN:VEVENT
DTSTART;TZID=America/Los_Angeles:20251130T093000
DTEND;TZID=America/Los_Angeles:20251130T103000
DTSTAMP:20260425T143723
CREATED:20241023T195434Z
LAST-MODIFIED:20260319T162123Z
UID:10000553-1764495000-1764498600@ladera.org
SUMMARY:Worship Service
DESCRIPTION:Worship is the heart of our community life. Sunday worship begins at 9:30 a.m. in the sanctuary and online via Zoom. All ages are invited. LCC worship is a joyful celebration of God’s presence among us. We find inspiration\, renewal\, and refreshment through song and silence\, prayer\, and reflection. We seek to integrate the arts – music\, drama\, and visual – to enrich the worship experience. Worship continues in the many ways we seek\, serve\, and grow in the world. \n\nWe serve communion on the first Sunday of every month. All are welcome to the table!\n\n  \nJoin us on Zoom \nID: 829 2023 8953\nPasscode: Sunday
URL:https://ladera.org/event/weekly-worship-service-2-2-2-5-2-2-2/2025-11-30/
LOCATION:LCC: Sanctuary\, 3300 Alpine Road\, Portola Valley\, CA\, 94028\, United States
CATEGORIES:Find Connection,Look Deeper,Quiet the Noise
ATTACH;FMTTYPE=image/jpeg:https://ladera.org/wp-content/uploads/2024/10/unnamed-11.jpg
END:VEVENT
BEGIN:VEVENT
DTSTART;TZID=America/Los_Angeles:20251127T150000
DTEND;TZID=America/Los_Angeles:20251127T180000
DTSTAMP:20260425T143723
CREATED:20251111T165619Z
LAST-MODIFIED:20251120T015014Z
UID:10015436-1764255600-1764266400@ladera.org
SUMMARY:Chosen Family Thanksgiving Dinner
DESCRIPTION:Chosen Family Thanksgiving Dinner \nNovember 27\, 3:00 – 6:00 P.M. \nColleen Crangle’s Home\nWith Thanksgiving approaching\, Colleen Crangle invites you to a “Chosen Family” potluck at Colleen’s home for those without loved ones nearby. Colleen provides the turkey\, gravy & pies. Guests\, please let us know which of the following you’d like to bring: veggie dish (3)\, salad (2)\, corn bread\, drinks (3) to share in this warm\, inclusive celebration. It’s a potluck-style feast\, filled with delicious dishes and the warmth of community. To RSVP or if you have any questions\, please feel free to reach out to Amy Boward at amy@ladera.org.
URL:https://ladera.org/event/chosen-family-thanksgiving-dinner/
LOCATION:Ladera Church\, 3300 Alpine Road\, Portola Valley\, CA\, 94028\, United States
ATTACH;FMTTYPE=image/jpeg:https://ladera.org/wp-content/uploads/2025/11/Thanksgiving-Dinner-2.jpg
ORGANIZER;CN="Ladera Church":MAILTO:church@ladera.org
END:VEVENT
BEGIN:VEVENT
DTSTART;VALUE=DATE:20251126
DTEND;VALUE=DATE:20251129
DTSTAMP:20260425T143723
CREATED:20221105T071754Z
LAST-MODIFIED:20251106T225555Z
UID:10014377-1764115200-1764374399@ladera.org
SUMMARY:Sharmila Montessori Preschool Closed - Thanksgiving Break
DESCRIPTION:Sharmila Montessori Preschool is closed for the week of Thanksgiving.
URL:https://ladera.org/event/sharmila-montessori-preschool-closed-thanksgiving-break/2025-11-26/
LOCATION:Sharmila Montessori Preschool\, 3300 Alpine Road\, Unit B\, Portola Valley\, CA\, 94028\, United States
CATEGORIES:Preschool
ATTACH;FMTTYPE=image/png:https://ladera.org/wp-content/uploads/2022/11/SMP-Logo-e1669921740683.png
END:VEVENT
BEGIN:VEVENT
DTSTART;TZID=America/Los_Angeles:20251125T193000
DTEND;TZID=America/Los_Angeles:20251125T210000
DTSTAMP:20260425T143723
CREATED:20250403T171119Z
LAST-MODIFIED:20260422T062849Z
UID:10014903-1764099000-1764104400@ladera.org
SUMMARY:LCC Choir Rehearsal
DESCRIPTION:Ladera Community Church weekly choir rehearsal.
URL:https://ladera.org/event/lcc-choir-rehearsal-6/2025-11-25/
LOCATION:LCC: Sanctuary\, 3300 Alpine Road\, Portola Valley\, CA\, 94028\, United States
CATEGORIES:Find Connection
ATTACH;FMTTYPE=image/jpeg:https://ladera.org/wp-content/uploads/2023/03/Choir-Rehearsal.jpg
ORGANIZER;CN="Ladera Church":MAILTO:church@ladera.org
END:VEVENT
BEGIN:VEVENT
DTSTART;TZID=America/Los_Angeles:20251124T190000
DTEND;TZID=America/Los_Angeles:20251124T210000
DTSTAMP:20260425T143723
CREATED:20221005T213350Z
LAST-MODIFIED:20240108T165955Z
UID:10000911-1764010800-1764018000@ladera.org
SUMMARY:AA
DESCRIPTION:
URL:https://ladera.org/event/aa/2025-11-24/
LOCATION:LCC: Peabody Hall\, 3300 Alpine Road\, Portola Valley\, CA\, 94028
CATEGORIES:Find Connection,Look Deeper
ORGANIZER;CN="Ladera Church":MAILTO:church@ladera.org
END:VEVENT
BEGIN:VEVENT
DTSTART;TZID=America/Los_Angeles:20251123T173000
DTEND;TZID=America/Los_Angeles:20251123T213000
DTSTAMP:20260425T143723
CREATED:20251104T170042Z
LAST-MODIFIED:20260303T170423Z
UID:10015113-1763919000-1763933400@ladera.org
SUMMARY:Stanford Quads
DESCRIPTION:Modern square dancing is a recreation enjoyed by people of all ages in the United States and around the world.  We dance the Plus program utilizing All Position Dancing.  We often have an A2 or C1 star tip at the end of the evening.  All Plus dancers are welcome to join us for an evening of dancing.  Square dance attire is not needed.  Masks are optional. \n\nThe weekly schedule is:\n       Review: 6:00-6:30 pm\n\n\n\n\n\n\n\n\n\n       Class: 6:30-8:30 pm\n\n\n\n\n\n\n\n\n\n\n\n\n\n\n\n\n       Plus: 8:30-9:00 pm\n\n\n\n\n\n\n\n\n\n\n\n\n\n\n\n\n\n       Star tips: 9:00-9:30 pm \n\n\n\n\n\n\n\n\n\n\nThe cost is $10 per session.  We start a beginner’s class every fall in October.
URL:https://ladera.org/event/stanford-quads-2-2-2-2-2-2-2-2/2025-11-23/
LOCATION:LCC: Peabody Hall\, 3300 Alpine Road\, Portola Valley\, CA\, 94028
CATEGORIES:Facility Use,Find Connection
ATTACH;FMTTYPE=image/jpeg:https://ladera.org/wp-content/uploads/2022/10/squre-dancing.jpeg
END:VEVENT
BEGIN:VEVENT
DTSTART;TZID=America/Los_Angeles:20251123T123000
DTEND;TZID=America/Los_Angeles:20251123T150000
DTSTAMP:20260425T143723
CREATED:20230206T041415Z
LAST-MODIFIED:20240429T231837Z
UID:10006654-1763901000-1763910000@ladera.org
SUMMARY:Haumalu 'o Langi Worship Service
DESCRIPTION:Haumalu ‘o Langi Tongan congregation’s weekly Sunday service and Sunday school for the children.
URL:https://ladera.org/event/haumalu-o-langi-worship-service-2/2025-11-23/
LOCATION:Ladera Church\, 3300 Alpine Road\, Portola Valley\, CA\, 94028\, United States
CATEGORIES:Facility Use
ATTACH;FMTTYPE=image/jpeg:https://ladera.org/wp-content/uploads/2022/10/Tongan-Worship-Service.jpg
END:VEVENT
BEGIN:VEVENT
DTSTART;TZID=America/Los_Angeles:20251123T093000
DTEND;TZID=America/Los_Angeles:20251123T103000
DTSTAMP:20260425T143723
CREATED:20241023T195434Z
LAST-MODIFIED:20260319T162123Z
UID:10000552-1763890200-1763893800@ladera.org
SUMMARY:Worship Service
DESCRIPTION:Worship is the heart of our community life. Sunday worship begins at 9:30 a.m. in the sanctuary and online via Zoom. All ages are invited. LCC worship is a joyful celebration of God’s presence among us. We find inspiration\, renewal\, and refreshment through song and silence\, prayer\, and reflection. We seek to integrate the arts – music\, drama\, and visual – to enrich the worship experience. Worship continues in the many ways we seek\, serve\, and grow in the world. \n\nWe serve communion on the first Sunday of every month. All are welcome to the table!\n\n  \nJoin us on Zoom \nID: 829 2023 8953\nPasscode: Sunday
URL:https://ladera.org/event/weekly-worship-service-2-2-2-5-2-2-2/2025-11-23/
LOCATION:LCC: Sanctuary\, 3300 Alpine Road\, Portola Valley\, CA\, 94028\, United States
CATEGORIES:Find Connection,Look Deeper,Quiet the Noise
ATTACH;FMTTYPE=image/jpeg:https://ladera.org/wp-content/uploads/2024/10/unnamed-11.jpg
END:VEVENT
BEGIN:VEVENT
DTSTART;TZID=America/Los_Angeles:20251123T093000
DTEND;TZID=America/Los_Angeles:20251123T103000
DTSTAMP:20260425T143723
CREATED:20231115T200101Z
LAST-MODIFIED:20250930T212522Z
UID:10014456-1763890200-1763893800@ladera.org
SUMMARY:Stewardship Sunday Worship Service
DESCRIPTION:Worship is the heart of our community life. Sunday worship begins at 9:30 a.m. in the sanctuary and online via Zoom. All ages are invited. LCC worship is a joyful celebration of God’s presence among us. We find inspiration\, renewal\, and refreshment through song and silence\, prayer\, and reflection. We seek to integrate the arts – music\, drama\, and visual – to enrich the worship experience. Worship continues in the many ways we seek\, serve\, and grow in the world.
URL:https://ladera.org/event/stewardship-sunday-worship-service/2025-11-23/
LOCATION:Ladera Church\, 3300 Alpine Road\, Portola Valley\, CA\, 94028\, United States
ATTACH;FMTTYPE=image/png:https://ladera.org/wp-content/uploads/2023/11/1k9kilojn2094uq3vkzz8c5xhgl.png
ORGANIZER;CN="Ladera Church":MAILTO:church@ladera.org
END:VEVENT
END:VCALENDAR