BEGIN:VCALENDAR
VERSION:2.0
PRODID:-//Ladera Community Church - ECPv6.15.20//NONSGML v1.0//EN
CALSCALE:GREGORIAN
METHOD:PUBLISH
X-WR-CALNAME:Ladera Community Church
X-ORIGINAL-URL:https://ladera.org
X-WR-CALDESC:Events for Ladera Community Church
REFRESH-INTERVAL;VALUE=DURATION:PT1H
X-Robots-Tag:noindex
X-PUBLISHED-TTL:PT1H
BEGIN:VTIMEZONE
TZID:America/Los_Angeles
BEGIN:DAYLIGHT
TZOFFSETFROM:-0800
TZOFFSETTO:-0700
TZNAME:PDT
DTSTART:20250309T100000
END:DAYLIGHT
BEGIN:STANDARD
TZOFFSETFROM:-0700
TZOFFSETTO:-0800
TZNAME:PST
DTSTART:20251102T090000
END:STANDARD
BEGIN:DAYLIGHT
TZOFFSETFROM:-0800
TZOFFSETTO:-0700
TZNAME:PDT
DTSTART:20260308T100000
END:DAYLIGHT
BEGIN:STANDARD
TZOFFSETFROM:-0700
TZOFFSETTO:-0800
TZNAME:PST
DTSTART:20261101T090000
END:STANDARD
BEGIN:DAYLIGHT
TZOFFSETFROM:-0800
TZOFFSETTO:-0700
TZNAME:PDT
DTSTART:20270314T100000
END:DAYLIGHT
BEGIN:STANDARD
TZOFFSETFROM:-0700
TZOFFSETTO:-0800
TZNAME:PST
DTSTART:20271107T090000
END:STANDARD
END:VTIMEZONE
BEGIN:VEVENT
DTSTART;TZID=America/Los_Angeles:20260422T190000
DTEND;TZID=America/Los_Angeles:20260422T203000
DTSTAMP:20260425T062722
CREATED:20221017T070859Z
LAST-MODIFIED:20251102T014045Z
UID:10014924-1776884400-1776889800@ladera.org
SUMMARY:Peninsula Threshold Choir
DESCRIPTION:Peninsula Threshold Choir brings comfort and kindness through song to the bedsides of those at the thresholds of living and dying. The choir rehearses on the second and fourth Wednesdays of the month.
URL:https://ladera.org/event/peninsula-threshold-choir-2/2026-04-22/
LOCATION:LCC: Peabody Hall\, 3300 Alpine Road\, Portola Valley\, CA\, 94028
CATEGORIES:Facility Use
ATTACH;FMTTYPE=image/jpeg:https://ladera.org/wp-content/uploads/2022/10/PeninsulaThresholdChoir.jpg
END:VEVENT
BEGIN:VEVENT
DTSTART;TZID=America/Los_Angeles:20260423T193000
DTEND;TZID=America/Los_Angeles:20260423T210000
DTSTAMP:20260425T062722
CREATED:20250403T171119Z
LAST-MODIFIED:20260422T062849Z
UID:10012883-1776972600-1776978000@ladera.org
SUMMARY:LCC Choir Rehearsal
DESCRIPTION:Ladera Community Church weekly choir rehearsal.
URL:https://ladera.org/event/lcc-choir-rehearsal-6/2026-04-23/
LOCATION:LCC: Sanctuary\, 3300 Alpine Road\, Portola Valley\, CA\, 94028\, United States
CATEGORIES:Find Connection
ATTACH;FMTTYPE=image/jpeg:https://ladera.org/wp-content/uploads/2023/03/Choir-Rehearsal.jpg
ORGANIZER;CN="Ladera Church":MAILTO:church@ladera.org
END:VEVENT
BEGIN:VEVENT
DTSTART;TZID=America/Los_Angeles:20260425T100000
DTEND;TZID=America/Los_Angeles:20260425T123000
DTSTAMP:20260425T062722
CREATED:20260201T231014Z
LAST-MODIFIED:20260211T062541Z
UID:10015838-1777111200-1777120200@ladera.org
SUMMARY:Sharmila Montessori Preschool's Spring Family Fun
DESCRIPTION:Sharmila Montessori House of Children welcomes their families to campus to celebrate spring with a bird show by Happy Birds and a potluck.
URL:https://ladera.org/event/sharmila-montessori-preschools-spring-family-fun-private-hold-for-confirmation/
LOCATION:LCC: Peabody Hall\, 3300 Alpine Road\, Portola Valley\, CA\, 94028
CATEGORIES:Preschool
ATTACH;FMTTYPE=image/png:https://ladera.org/wp-content/uploads/2022/11/SMP-Logo-e1669921740683.png
END:VEVENT
BEGIN:VEVENT
DTSTART;TZID=America/Los_Angeles:20260426T093000
DTEND;TZID=America/Los_Angeles:20260426T103000
DTSTAMP:20260425T062722
CREATED:20241023T195434Z
LAST-MODIFIED:20260319T162123Z
UID:10000574-1777195800-1777199400@ladera.org
SUMMARY:Worship Service
DESCRIPTION:Worship is the heart of our community life. Sunday worship begins at 9:30 a.m. in the sanctuary and online via Zoom. All ages are invited. LCC worship is a joyful celebration of God’s presence among us. We find inspiration\, renewal\, and refreshment through song and silence\, prayer\, and reflection. We seek to integrate the arts – music\, drama\, and visual – to enrich the worship experience. Worship continues in the many ways we seek\, serve\, and grow in the world. \n\nWe serve communion on the first Sunday of every month. All are welcome to the table!\n\n  \nJoin us on Zoom \nID: 829 2023 8953\nPasscode: Sunday
URL:https://ladera.org/event/weekly-worship-service-2-2-2-5-2-2-2/2026-04-26/
LOCATION:LCC: Sanctuary\, 3300 Alpine Road\, Portola Valley\, CA\, 94028\, United States
CATEGORIES:Find Connection,Look Deeper,Quiet the Noise
ATTACH;FMTTYPE=image/jpeg:https://ladera.org/wp-content/uploads/2024/10/unnamed-11.jpg
END:VEVENT
BEGIN:VEVENT
DTSTART;TZID=America/Los_Angeles:20260426T093000
DTEND;TZID=America/Los_Angeles:20260426T103000
DTSTAMP:20260425T062722
CREATED:20260324T201640Z
LAST-MODIFIED:20260324T202954Z
UID:10015935-1777195800-1777199400@ladera.org
SUMMARY:Earth Sunday Worship Service
DESCRIPTION:Join us for a special Earth Sunday worship service. We will center the service around our relationship with the land and how we can better protect our home. The service highlights themes around environmental awareness and what we can do to help. More details to come.
URL:https://ladera.org/event/earth-sunday-worship-service/
LOCATION:LCC: Sanctuary\, 3300 Alpine Road\, Portola Valley\, CA\, 94028\, United States
CATEGORIES:Make a Difference
ATTACH;FMTTYPE=image/jpeg:https://ladera.org/wp-content/uploads/2026/03/Earth-Day-Flyer.jpg
ORGANIZER;CN="Ladera Church":MAILTO:church@ladera.org
END:VEVENT
BEGIN:VEVENT
DTSTART;TZID=America/Los_Angeles:20260426T093000
DTEND;TZID=America/Los_Angeles:20260426T110000
DTSTAMP:20260425T062722
CREATED:20260422T164404Z
LAST-MODIFIED:20260422T164404Z
UID:10015972-1777195800-1777201200@ladera.org
SUMMARY:Earth Sunday Celebration
DESCRIPTION:Let’s celebrate our glorious Earth this coming Sunday and learn ways to use God’s gifts to care for all we have been gifted. You won’t want to miss: how to use these gifts for a better world; poems; a fun quiz at coffee hour encompassing surprise answers and prizes; plus Fair Trade chocolate and nuts to purchase. Come one\, come all\, including inviting your neighbors and friends to these enlightening events!
URL:https://ladera.org/event/earth-sunday-celebration/
LOCATION:LCC: Sanctuary\, 3300 Alpine Road\, Portola Valley\, CA\, 94028\, United States
CATEGORIES:Make a Difference
ATTACH;FMTTYPE=image/jpeg:https://ladera.org/wp-content/uploads/2026/04/Earth-Day-photo-illustration.jpg
ORGANIZER;CN="Ladera Church":MAILTO:church@ladera.org
END:VEVENT
BEGIN:VEVENT
DTSTART;TZID=America/Los_Angeles:20260426T123000
DTEND;TZID=America/Los_Angeles:20260426T150000
DTSTAMP:20260425T062722
CREATED:20230206T041415Z
LAST-MODIFIED:20240429T231837Z
UID:10006671-1777206600-1777215600@ladera.org
SUMMARY:Haumalu 'o Langi Worship Service
DESCRIPTION:Haumalu ‘o Langi Tongan congregation’s weekly Sunday service and Sunday school for the children.
URL:https://ladera.org/event/haumalu-o-langi-worship-service-2/2026-04-26/
LOCATION:Ladera Church\, 3300 Alpine Road\, Portola Valley\, CA\, 94028\, United States
CATEGORIES:Facility Use
ATTACH;FMTTYPE=image/jpeg:https://ladera.org/wp-content/uploads/2022/10/Tongan-Worship-Service.jpg
END:VEVENT
BEGIN:VEVENT
DTSTART;TZID=America/Los_Angeles:20260426T180000
DTEND;TZID=America/Los_Angeles:20260426T213000
DTSTAMP:20260425T062722
CREATED:20260425T014540Z
LAST-MODIFIED:20260425T014542Z
UID:10015478-1777226400-1777239000@ladera.org
SUMMARY:Stanford Quads
DESCRIPTION:Modern square dancing is a recreation enjoyed by people of all ages in the United States and around the world.  We dance the Plus program utilizing All Position Dancing.  We often have an A2 or C1 star tip at the end of the evening.  All Plus dancers are welcome to join us for an evening of dancing.  Square dance attire is not needed.  Masks are optional. \n\nThe weekly schedule is:\n\n\n\n\n\n\n\n\n\n       Class: 6:30-8:30 pm\n\n\n\n\n\n\n\n\n\n\n\n\n\n\n\n\n       Plus: 8:30-9:00 pm\n\n\n\n\n\n\n\n\n\n\n\n\n\n\n\n\n\n       Star tips: 9:00-9:30 pm \n\n\n\n\n\n\n\n\n\n\nThe cost is $10 per session.  We start a beginner’s class every fall in October.
URL:https://ladera.org/event/stanford-quads-2-2-2-2-2-2-2-2-2/2026-04-26/
LOCATION:LCC: Peabody Hall\, 3300 Alpine Road\, Portola Valley\, CA\, 94028
CATEGORIES:Facility Use,Find Connection
ATTACH;FMTTYPE=image/jpeg:https://ladera.org/wp-content/uploads/2022/10/squre-dancing.jpeg
END:VEVENT
BEGIN:VEVENT
DTSTART;TZID=America/Los_Angeles:20260427T190000
DTEND;TZID=America/Los_Angeles:20260427T210000
DTSTAMP:20260425T062722
CREATED:20221005T213350Z
LAST-MODIFIED:20240108T165955Z
UID:10000933-1777316400-1777323600@ladera.org
SUMMARY:AA
DESCRIPTION:
URL:https://ladera.org/event/aa/2026-04-27/
LOCATION:LCC: Peabody Hall\, 3300 Alpine Road\, Portola Valley\, CA\, 94028
CATEGORIES:Find Connection,Look Deeper
ORGANIZER;CN="Ladera Church":MAILTO:church@ladera.org
END:VEVENT
BEGIN:VEVENT
DTSTART;TZID=America/Los_Angeles:20260428T190000
DTEND;TZID=America/Los_Angeles:20260428T203000
DTSTAMP:20260425T062722
CREATED:20260409T211246Z
LAST-MODIFIED:20260409T211249Z
UID:10015958-1777402800-1777408200@ladera.org
SUMMARY:Immigration! Justice? w/ Judge Stephen Trott & Judge Franklin Bondonno
DESCRIPTION:We will discuss: \n\nBirthright citizenship\nLegal versus illegal immigration\nJustice and mercy\n\nStephen S. Trott is an inactive Senior United States Circuit judge \nFranklin E. Bondonno is a judge of the Superior Court of Santa Clara County
URL:https://ladera.org/event/immigration-justice-w-judge-stephen-trott-judge-franklin-bondonno/
LOCATION:LCC: Sanctuary\, 3300 Alpine Road\, Portola Valley\, CA\, 94028\, United States
CATEGORIES:Make a Difference
ATTACH;FMTTYPE=image/jpeg:https://ladera.org/wp-content/uploads/2026/04/Second-Hour-Discussion-Immigration-Policy-16-x-6-in.jpg
ORGANIZER;CN="Ladera Church":MAILTO:church@ladera.org
END:VEVENT
BEGIN:VEVENT
DTSTART;TZID=America/Los_Angeles:20260430T193000
DTEND;TZID=America/Los_Angeles:20260430T210000
DTSTAMP:20260425T062722
CREATED:20250403T171119Z
LAST-MODIFIED:20260422T062849Z
UID:10012884-1777577400-1777582800@ladera.org
SUMMARY:LCC Choir Rehearsal
DESCRIPTION:Ladera Community Church weekly choir rehearsal.
URL:https://ladera.org/event/lcc-choir-rehearsal-6/2026-04-30/
LOCATION:LCC: Sanctuary\, 3300 Alpine Road\, Portola Valley\, CA\, 94028\, United States
CATEGORIES:Find Connection
ATTACH;FMTTYPE=image/jpeg:https://ladera.org/wp-content/uploads/2023/03/Choir-Rehearsal.jpg
ORGANIZER;CN="Ladera Church":MAILTO:church@ladera.org
END:VEVENT
BEGIN:VEVENT
DTSTART;VALUE=DATE:20260503
DTEND;VALUE=DATE:20260518
DTSTAMP:20260425T062722
CREATED:20260407T173600Z
LAST-MODIFIED:20260407T173600Z
UID:10015954-1777766400-1779062399@ladera.org
SUMMARY:Church World Service Blanket Drive
DESCRIPTION:CWS is there in times of need with blankets and toiletry kits\, whether it is during a disaster or a daily need for the homeless. Let’s support their efforts with our funds! Drop a check in the collection plate made out to LCC with CWS in the memo line\, send a check to LCC\, or give online: ladera.org.
URL:https://ladera.org/event/church-world-service-blanket-drive-3/
LOCATION:Ladera Church\, 3300 Alpine Road\, Portola Valley\, CA\, 94028\, United States
ATTACH;FMTTYPE=image/jpeg:https://ladera.org/wp-content/uploads/2024/04/ValentinesBlanket-Web-24-scaled-1.jpg
ORGANIZER;CN="Ladera Church":MAILTO:church@ladera.org
END:VEVENT
BEGIN:VEVENT
DTSTART;TZID=America/Los_Angeles:20260503T093000
DTEND;TZID=America/Los_Angeles:20260503T103000
DTSTAMP:20260425T062722
CREATED:20241023T195434Z
LAST-MODIFIED:20260319T162123Z
UID:10000575-1777800600-1777804200@ladera.org
SUMMARY:Worship Service
DESCRIPTION:Worship is the heart of our community life. Sunday worship begins at 9:30 a.m. in the sanctuary and online via Zoom. All ages are invited. LCC worship is a joyful celebration of God’s presence among us. We find inspiration\, renewal\, and refreshment through song and silence\, prayer\, and reflection. We seek to integrate the arts – music\, drama\, and visual – to enrich the worship experience. Worship continues in the many ways we seek\, serve\, and grow in the world. \n\nWe serve communion on the first Sunday of every month. All are welcome to the table!\n\n  \nJoin us on Zoom \nID: 829 2023 8953\nPasscode: Sunday
URL:https://ladera.org/event/weekly-worship-service-2-2-2-5-2-2-2/2026-05-03/
LOCATION:LCC: Sanctuary\, 3300 Alpine Road\, Portola Valley\, CA\, 94028\, United States
CATEGORIES:Find Connection,Look Deeper,Quiet the Noise
ATTACH;FMTTYPE=image/jpeg:https://ladera.org/wp-content/uploads/2024/10/unnamed-11.jpg
END:VEVENT
BEGIN:VEVENT
DTSTART;TZID=America/Los_Angeles:20260503T103000
DTEND;TZID=America/Los_Angeles:20260503T110000
DTSTAMP:20260425T062722
CREATED:20250604T235702Z
LAST-MODIFIED:20260325T211925Z
UID:10014284-1777804200-1777806000@ladera.org
SUMMARY:Pastoral Relations Committee Meeting
DESCRIPTION:Pastoral Relations Committee Meeting occur the first Sunday of each month in room 6.
URL:https://ladera.org/event/pastoral-relations-committee-meeting-3-2/2026-05-03/
LOCATION:LCC: Fireside Room\, 3300 Alpine Road\, Portola Valley\, CA\, 94028\, United States
CATEGORIES:Make a Difference
ATTACH;FMTTYPE=image/jpeg:https://ladera.org/wp-content/uploads/2025/03/Pastoral-Relations-Committee.jpg
ORGANIZER;CN="Ladera Church":MAILTO:church@ladera.org
END:VEVENT
BEGIN:VEVENT
DTSTART;TZID=America/Los_Angeles:20260503T130000
DTEND;TZID=America/Los_Angeles:20260503T170000
DTSTAMP:20260425T062722
CREATED:20260409T201234Z
LAST-MODIFIED:20260412T194858Z
UID:10015957-1777813200-1777827600@ladera.org
SUMMARY:Haumalu 'o Langi Special Children's Day Service & Fellowship
DESCRIPTION:Haumalu ‘o Langi congregation’s special children’s service followed by food and fellowship in Peabody Hall.
URL:https://ladera.org/event/haumalu-o-langi-childrens-day-worship/
LOCATION:LCC: Sanctuary\, Peabody Hall\, and kitchen
ATTACH;FMTTYPE=image/jpeg:https://ladera.org/wp-content/uploads/2022/10/Tongan-Worship-Service.jpg
ORGANIZER;CN="Ladera Church":MAILTO:church@ladera.org
END:VEVENT
BEGIN:VEVENT
DTSTART;TZID=America/Los_Angeles:20260503T180000
DTEND;TZID=America/Los_Angeles:20260503T213000
DTSTAMP:20260425T062722
CREATED:20260425T014540Z
LAST-MODIFIED:20260425T014542Z
UID:10015973-1777831200-1777843800@ladera.org
SUMMARY:Stanford Quads
DESCRIPTION:Modern square dancing is a recreation enjoyed by people of all ages in the United States and around the world.  We dance the Plus program utilizing All Position Dancing.  We often have an A2 or C1 star tip at the end of the evening.  All Plus dancers are welcome to join us for an evening of dancing.  Square dance attire is not needed.  Masks are optional. \n\nThe weekly schedule is:\n\n\n\n\n\n\n\n\n\n       Class: 6:30-8:30 pm\n\n\n\n\n\n\n\n\n\n\n\n\n\n\n\n\n       Plus: 8:30-9:00 pm\n\n\n\n\n\n\n\n\n\n\n\n\n\n\n\n\n\n       Star tips: 9:00-9:30 pm \n\n\n\n\n\n\n\n\n\n\nThe cost is $10 per session.  We start a beginner’s class every fall in October.
URL:https://ladera.org/event/stanford-quads-2-2-2-2-2-2-2-2-2/2026-05-03/
LOCATION:LCC: Peabody Hall\, 3300 Alpine Road\, Portola Valley\, CA\, 94028
CATEGORIES:Facility Use,Find Connection
ATTACH;FMTTYPE=image/jpeg:https://ladera.org/wp-content/uploads/2022/10/squre-dancing.jpeg
END:VEVENT
BEGIN:VEVENT
DTSTART;VALUE=DATE:20260504
DTEND;VALUE=DATE:20260509
DTSTAMP:20260425T062722
CREATED:20260401T202212Z
LAST-MODIFIED:20260410T013801Z
UID:10015950-1777852800-1778284799@ladera.org
SUMMARY:Sump Pumps Installation Project
DESCRIPTION:We will be installing new pump sumps in the breezeway outside of the office\, Peabody Hall\, and the kitchen.
URL:https://ladera.org/event/pump-sump-repair-work/
LOCATION:LCC: Peabody Hall\, 3300 Alpine Road\, Portola Valley\, CA\, 94028
ORGANIZER;CN="Ladera Church":MAILTO:church@ladera.org
END:VEVENT
BEGIN:VEVENT
DTSTART;TZID=America/Los_Angeles:20260504T190000
DTEND;TZID=America/Los_Angeles:20260504T210000
DTSTAMP:20260425T062722
CREATED:20221005T213350Z
LAST-MODIFIED:20240108T165955Z
UID:10000934-1777921200-1777928400@ladera.org
SUMMARY:AA
DESCRIPTION:
URL:https://ladera.org/event/aa/2026-05-04/
LOCATION:LCC: Peabody Hall\, 3300 Alpine Road\, Portola Valley\, CA\, 94028
CATEGORIES:Find Connection,Look Deeper
ORGANIZER;CN="Ladera Church":MAILTO:church@ladera.org
END:VEVENT
BEGIN:VEVENT
DTSTART;TZID=America/Los_Angeles:20260505T080000
DTEND;TZID=America/Los_Angeles:20260505T130000
DTSTAMP:20260425T062722
CREATED:20260422T002902Z
LAST-MODIFIED:20260422T062417Z
UID:10015966-1777968000-1777986000@ladera.org
SUMMARY:Sharmila Montessori Preschool's Picture Day
DESCRIPTION:Sharmila Montessori Preschool’s Picture Day.
URL:https://ladera.org/event/sharmila-montessori-preschools-picture-day-4/
LOCATION:LCC: Room 7
CATEGORIES:Preschool
ATTACH;FMTTYPE=image/png:https://ladera.org/wp-content/uploads/2022/11/SMP-Logo-e1669921740683.png
END:VEVENT
BEGIN:VEVENT
DTSTART;TZID=America/Los_Angeles:20260506T130000
DTEND;TZID=America/Los_Angeles:20260506T134500
DTSTAMP:20260425T062722
CREATED:20251029T203807Z
LAST-MODIFIED:20251125T190402Z
UID:10015058-1778072400-1778075100@ladera.org
SUMMARY:Community Support & Meditation
DESCRIPTION:Join in community for fellowship time to enjoy snacks and conversation after the community support program.
URL:https://ladera.org/event/community-support-program-fellowship-time/2026-05-06/
LOCATION:LCC: Peabody Hall\, 3300 Alpine Road\, Portola Valley\, CA\, 94028
CATEGORIES:Find Connection
ATTACH;FMTTYPE=image/jpeg:https://ladera.org/wp-content/uploads/2025/06/Community-Support-Program-16-x-6-in.jpg
ORGANIZER;CN="Ladera Church":MAILTO:church@ladera.org
END:VEVENT
BEGIN:VEVENT
DTSTART;TZID=America/Los_Angeles:20260506T193000
DTEND;TZID=America/Los_Angeles:20260506T203000
DTSTAMP:20260425T062722
CREATED:20230125T000721Z
LAST-MODIFIED:20251006T185737Z
UID:10005987-1778095800-1778099400@ladera.org
SUMMARY:Affordable Housing Task Force
DESCRIPTION:To download and import the events into an iCalendar (.ics) calendar\, click here.
URL:https://ladera.org/event/affordable-housing-task-force/2026-05-06/
LOCATION:Online – Zoom
CATEGORIES:Make a Difference
ATTACH;FMTTYPE=image/jpeg:https://ladera.org/wp-content/uploads/2022/10/affordable-housing_hands.jpg
ORGANIZER;CN="Ladera Church":MAILTO:church@ladera.org
END:VEVENT
BEGIN:VEVENT
DTSTART;TZID=America/Los_Angeles:20260507T193000
DTEND;TZID=America/Los_Angeles:20260507T210000
DTSTAMP:20260425T062722
CREATED:20250403T171119Z
LAST-MODIFIED:20260422T062849Z
UID:10012885-1778182200-1778187600@ladera.org
SUMMARY:LCC Choir Rehearsal
DESCRIPTION:Ladera Community Church weekly choir rehearsal.
URL:https://ladera.org/event/lcc-choir-rehearsal-6/2026-05-07/
LOCATION:LCC: Sanctuary\, 3300 Alpine Road\, Portola Valley\, CA\, 94028\, United States
CATEGORIES:Find Connection
ATTACH;FMTTYPE=image/jpeg:https://ladera.org/wp-content/uploads/2023/03/Choir-Rehearsal.jpg
ORGANIZER;CN="Ladera Church":MAILTO:church@ladera.org
END:VEVENT
BEGIN:VEVENT
DTSTART;TZID=America/Los_Angeles:20260508T170000
DTEND;TZID=America/Los_Angeles:20260508T180000
DTSTAMP:20260425T062722
CREATED:20260421T173256Z
LAST-MODIFIED:20260421T173256Z
UID:10015963-1778259600-1778263200@ladera.org
SUMMARY:Share Your Joy Meeting
DESCRIPTION:Do you have a favorite activity you’d like to share at LCC? The Share Your Joy team can help you spread joy through activities like going to the opera\, playing table tennis\, reading for spiritual insights\, or cooking pancakes. To join the Share Your Joy team meeting or to submit an idea for an event\, email amy@ladera.org.
URL:https://ladera.org/event/share-your-joy-meeting-8/
LOCATION:Ladera Church\, 3300 Alpine Road\, Portola Valley\, CA\, 94028\, United States
ATTACH;FMTTYPE=image/jpeg:https://ladera.org/wp-content/uploads/2024/01/Share-Your-Joy-e1721057609348.jpg
ORGANIZER;CN="Ladera Church":MAILTO:church@ladera.org
END:VEVENT
BEGIN:VEVENT
DTSTART;TZID=America/Los_Angeles:20260510T093000
DTEND;TZID=America/Los_Angeles:20260510T103000
DTSTAMP:20260425T062722
CREATED:20241023T195434Z
LAST-MODIFIED:20260319T162123Z
UID:10000576-1778405400-1778409000@ladera.org
SUMMARY:Worship Service
DESCRIPTION:Worship is the heart of our community life. Sunday worship begins at 9:30 a.m. in the sanctuary and online via Zoom. All ages are invited. LCC worship is a joyful celebration of God’s presence among us. We find inspiration\, renewal\, and refreshment through song and silence\, prayer\, and reflection. We seek to integrate the arts – music\, drama\, and visual – to enrich the worship experience. Worship continues in the many ways we seek\, serve\, and grow in the world. \n\nWe serve communion on the first Sunday of every month. All are welcome to the table!\n\n  \nJoin us on Zoom \nID: 829 2023 8953\nPasscode: Sunday
URL:https://ladera.org/event/weekly-worship-service-2-2-2-5-2-2-2/2026-05-10/
LOCATION:LCC: Sanctuary\, 3300 Alpine Road\, Portola Valley\, CA\, 94028\, United States
CATEGORIES:Find Connection,Look Deeper,Quiet the Noise
ATTACH;FMTTYPE=image/jpeg:https://ladera.org/wp-content/uploads/2024/10/unnamed-11.jpg
END:VEVENT
BEGIN:VEVENT
DTSTART;TZID=America/Los_Angeles:20260510T093000
DTEND;TZID=America/Los_Angeles:20260510T110000
DTSTAMP:20260425T062722
CREATED:20260421T200015Z
LAST-MODIFIED:20260421T200031Z
UID:10015964-1778405400-1778410800@ladera.org
SUMMARY:Mothering Day Worship Service &  Community Coffee Hour
DESCRIPTION:We will offer a special blessing honoring all who nurture and care for others. Afterwards\, stay and enjoy coffee and treats as we share in fellowship and celebration. We encourage members to bring desserts to share.
URL:https://ladera.org/event/mothering-day-worship-service-community-coffee-hour/
LOCATION:LCC: Sanctuary\, 3300 Alpine Road\, Portola Valley\, CA\, 94028\, United States
CATEGORIES:Find Connection
ATTACH;FMTTYPE=image/jpeg:https://ladera.org/wp-content/uploads/2026/04/Mothering-day-Weekly-Update-Banner.jpg
ORGANIZER;CN="Ladera Church":MAILTO:church@ladera.org
END:VEVENT
BEGIN:VEVENT
DTSTART;TZID=America/Los_Angeles:20260510T103000
DTEND;TZID=America/Los_Angeles:20260510T113000
DTSTAMP:20260425T062722
CREATED:20260407T174616Z
LAST-MODIFIED:20260407T175319Z
UID:10015956-1778409000-1778412600@ladera.org
SUMMARY:Community Coffee Hour
DESCRIPTION:Mother’s/Mothering Day Community Coffee Hour\nSunday\, May 10\, 10:30 a.m.\nAfter our Mother’s Day/Mothering Day service on Sunday\, May 10\, everyone is invited to stay for a special Community Coffee Hour beginning at 10:30 a.m. Join us for coffee\, treats\, and time together as we celebrate the many forms of mothering in our lives and community.\n\nWe encourage members to bring a dessert to share. All are welcome to linger\, connect\, and enjoy this meaningful morning together. \n\nhttps://www.signupgenius.com/go/10C084DACA92CA3FB6-63369239-community
URL:https://ladera.org/event/community-coffee-event/
LOCATION:Ladera Church\, 3300 Alpine Road\, Portola Valley\, CA\, 94028\, United States
CATEGORIES:Find Connection,Look Deeper
ATTACH;FMTTYPE=image/png:https://ladera.org/wp-content/uploads/2026/04/Community-Coffee-Hour-May-10.png
ORGANIZER;CN="Ladera Church":MAILTO:church@ladera.org
END:VEVENT
BEGIN:VEVENT
DTSTART;TZID=America/Los_Angeles:20260510T113000
DTEND;TZID=America/Los_Angeles:20260510T130000
DTSTAMP:20260425T062722
CREATED:20250106T211358Z
LAST-MODIFIED:20251123T000135Z
UID:10015724-1778412600-1778418000@ladera.org
SUMMARY:Navigation Center Lunch Serving
DESCRIPTION:LCC has a long-standing connection with LifeMoves\, especially through its monthly lunch service at the Redwood City Navigation Center. Each monthly visit is a chance to share food\, fellowship\, and compassion with those navigating challenging transitions. We’re assembling a team of 6-10 people to prepare and serve lunch at the new center\, which boasts a full commercial kitchen. We’ll meet at the Navigation Center at 11:30 a.m. You will find this hands-on activity rewarding! Please RSVP to amy@ladera.org to join us. \nTo learn more about the Navigation Center and its mission\, click here.\nNavigation Center: 275 Blomquist St\, Redwood City
URL:https://ladera.org/event/navigation-center-lunch-serving/2026-05-10/
LOCATION:Ladera Church\, 3300 Alpine Road\, Portola Valley\, CA\, 94028\, United States
ATTACH;FMTTYPE=image/png:https://ladera.org/wp-content/uploads/2025/01/Volunteer.png
ORGANIZER;CN="Ladera Church":MAILTO:church@ladera.org
END:VEVENT
BEGIN:VEVENT
DTSTART;TZID=America/Los_Angeles:20260510T123000
DTEND;TZID=America/Los_Angeles:20260510T150000
DTSTAMP:20260425T062722
CREATED:20230206T041415Z
LAST-MODIFIED:20240429T231837Z
UID:10006672-1778416200-1778425200@ladera.org
SUMMARY:Haumalu 'o Langi Worship Service
DESCRIPTION:Haumalu ‘o Langi Tongan congregation’s weekly Sunday service and Sunday school for the children.
URL:https://ladera.org/event/haumalu-o-langi-worship-service-2/2026-05-10/
LOCATION:Ladera Church\, 3300 Alpine Road\, Portola Valley\, CA\, 94028\, United States
CATEGORIES:Facility Use
ATTACH;FMTTYPE=image/jpeg:https://ladera.org/wp-content/uploads/2022/10/Tongan-Worship-Service.jpg
END:VEVENT
BEGIN:VEVENT
DTSTART;TZID=America/Los_Angeles:20260510T180000
DTEND;TZID=America/Los_Angeles:20260510T213000
DTSTAMP:20260425T062722
CREATED:20260425T014540Z
LAST-MODIFIED:20260425T014542Z
UID:10015974-1778436000-1778448600@ladera.org
SUMMARY:Stanford Quads
DESCRIPTION:Modern square dancing is a recreation enjoyed by people of all ages in the United States and around the world.  We dance the Plus program utilizing All Position Dancing.  We often have an A2 or C1 star tip at the end of the evening.  All Plus dancers are welcome to join us for an evening of dancing.  Square dance attire is not needed.  Masks are optional. \n\nThe weekly schedule is:\n\n\n\n\n\n\n\n\n\n       Class: 6:30-8:30 pm\n\n\n\n\n\n\n\n\n\n\n\n\n\n\n\n\n       Plus: 8:30-9:00 pm\n\n\n\n\n\n\n\n\n\n\n\n\n\n\n\n\n\n       Star tips: 9:00-9:30 pm \n\n\n\n\n\n\n\n\n\n\nThe cost is $10 per session.  We start a beginner’s class every fall in October.
URL:https://ladera.org/event/stanford-quads-2-2-2-2-2-2-2-2-2/2026-05-10/
LOCATION:LCC: Peabody Hall\, 3300 Alpine Road\, Portola Valley\, CA\, 94028
CATEGORIES:Facility Use,Find Connection
ATTACH;FMTTYPE=image/jpeg:https://ladera.org/wp-content/uploads/2022/10/squre-dancing.jpeg
END:VEVENT
BEGIN:VEVENT
DTSTART;TZID=America/Los_Angeles:20260511T190000
DTEND;TZID=America/Los_Angeles:20260511T210000
DTSTAMP:20260425T062722
CREATED:20221005T213350Z
LAST-MODIFIED:20240108T165955Z
UID:10000935-1778526000-1778533200@ladera.org
SUMMARY:AA
DESCRIPTION:
URL:https://ladera.org/event/aa/2026-05-11/
LOCATION:LCC: Peabody Hall\, 3300 Alpine Road\, Portola Valley\, CA\, 94028
CATEGORIES:Find Connection,Look Deeper
ORGANIZER;CN="Ladera Church":MAILTO:church@ladera.org
END:VEVENT
END:VCALENDAR