BEGIN:VCALENDAR
VERSION:2.0
PRODID:-//Ladera Community Church - ECPv6.15.20//NONSGML v1.0//EN
CALSCALE:GREGORIAN
METHOD:PUBLISH
X-WR-CALNAME:Ladera Community Church
X-ORIGINAL-URL:https://ladera.org
X-WR-CALDESC:Events for Ladera Community Church
REFRESH-INTERVAL;VALUE=DURATION:PT1H
X-Robots-Tag:noindex
X-PUBLISHED-TTL:PT1H
BEGIN:VTIMEZONE
TZID:America/Los_Angeles
BEGIN:DAYLIGHT
TZOFFSETFROM:-0800
TZOFFSETTO:-0700
TZNAME:PDT
DTSTART:20250309T100000
END:DAYLIGHT
BEGIN:STANDARD
TZOFFSETFROM:-0700
TZOFFSETTO:-0800
TZNAME:PST
DTSTART:20251102T090000
END:STANDARD
BEGIN:DAYLIGHT
TZOFFSETFROM:-0800
TZOFFSETTO:-0700
TZNAME:PDT
DTSTART:20260308T100000
END:DAYLIGHT
BEGIN:STANDARD
TZOFFSETFROM:-0700
TZOFFSETTO:-0800
TZNAME:PST
DTSTART:20261101T090000
END:STANDARD
BEGIN:DAYLIGHT
TZOFFSETFROM:-0800
TZOFFSETTO:-0700
TZNAME:PDT
DTSTART:20270314T100000
END:DAYLIGHT
BEGIN:STANDARD
TZOFFSETFROM:-0700
TZOFFSETTO:-0800
TZNAME:PST
DTSTART:20271107T090000
END:STANDARD
END:VTIMEZONE
BEGIN:VEVENT
DTSTART;TZID=America/Los_Angeles:20260516T143000
DTEND;TZID=America/Los_Angeles:20260516T170000
DTSTAMP:20260424T183451
CREATED:20260220T173732Z
LAST-MODIFIED:20260220T173732Z
UID:10015846-1778941800-1778950800@ladera.org
SUMMARY:David Ng-Quinn's Student Piano Rehearsal
DESCRIPTION:Private student rehearsal before their piano recital on Saturday\, May 23rd.
URL:https://ladera.org/event/david-ng-quinns-student-piano-rehearsal/
LOCATION:Ladera Church\, 3300 Alpine Road\, Portola Valley\, CA\, 94028\, United States
END:VEVENT
BEGIN:VEVENT
DTSTART;TZID=America/Los_Angeles:20260523T143000
DTEND;TZID=America/Los_Angeles:20260523T173000
DTSTAMP:20260424T183451
CREATED:20250123T030839Z
LAST-MODIFIED:20260220T174032Z
UID:10012657-1779546600-1779557400@ladera.org
SUMMARY:David Ng-Quinn's Student Piano Recital
DESCRIPTION:The recital begins at 2:30 p.m. A short reception in Peabody Hall will follow the recital.
URL:https://ladera.org/event/david-ng-quinns-student-piano-recital-2/
LOCATION:Ladera Church\, 3300 Alpine Road\, Portola Valley\, CA\, 94028\, United States
END:VEVENT
END:VCALENDAR