BEGIN:VCALENDAR
VERSION:2.0
PRODID:-//Ladera Community Church - ECPv6.15.20//NONSGML v1.0//EN
CALSCALE:GREGORIAN
METHOD:PUBLISH
X-WR-CALNAME:Ladera Community Church
X-ORIGINAL-URL:https://ladera.org
X-WR-CALDESC:Events for Ladera Community Church
REFRESH-INTERVAL;VALUE=DURATION:PT1H
X-Robots-Tag:noindex
X-PUBLISHED-TTL:PT1H
BEGIN:VTIMEZONE
TZID:America/Los_Angeles
BEGIN:DAYLIGHT
TZOFFSETFROM:-0800
TZOFFSETTO:-0700
TZNAME:PDT
DTSTART:20250309T100000
END:DAYLIGHT
BEGIN:STANDARD
TZOFFSETFROM:-0700
TZOFFSETTO:-0800
TZNAME:PST
DTSTART:20251102T090000
END:STANDARD
BEGIN:DAYLIGHT
TZOFFSETFROM:-0800
TZOFFSETTO:-0700
TZNAME:PDT
DTSTART:20260308T100000
END:DAYLIGHT
BEGIN:STANDARD
TZOFFSETFROM:-0700
TZOFFSETTO:-0800
TZNAME:PST
DTSTART:20261101T090000
END:STANDARD
BEGIN:DAYLIGHT
TZOFFSETFROM:-0800
TZOFFSETTO:-0700
TZNAME:PDT
DTSTART:20270314T100000
END:DAYLIGHT
BEGIN:STANDARD
TZOFFSETFROM:-0700
TZOFFSETTO:-0800
TZNAME:PST
DTSTART:20271107T090000
END:STANDARD
BEGIN:DAYLIGHT
TZOFFSETFROM:-0800
TZOFFSETTO:-0700
TZNAME:PDT
DTSTART:20280312T100000
END:DAYLIGHT
BEGIN:STANDARD
TZOFFSETFROM:-0700
TZOFFSETTO:-0800
TZNAME:PST
DTSTART:20281105T090000
END:STANDARD
BEGIN:DAYLIGHT
TZOFFSETFROM:-0800
TZOFFSETTO:-0700
TZNAME:PDT
DTSTART:20290311T100000
END:DAYLIGHT
BEGIN:STANDARD
TZOFFSETFROM:-0700
TZOFFSETTO:-0800
TZNAME:PST
DTSTART:20291104T090000
END:STANDARD
BEGIN:DAYLIGHT
TZOFFSETFROM:-0800
TZOFFSETTO:-0700
TZNAME:PDT
DTSTART:20300310T100000
END:DAYLIGHT
BEGIN:STANDARD
TZOFFSETFROM:-0700
TZOFFSETTO:-0800
TZNAME:PST
DTSTART:20301103T090000
END:STANDARD
BEGIN:DAYLIGHT
TZOFFSETFROM:-0800
TZOFFSETTO:-0700
TZNAME:PDT
DTSTART:20310309T100000
END:DAYLIGHT
BEGIN:STANDARD
TZOFFSETFROM:-0700
TZOFFSETTO:-0800
TZNAME:PST
DTSTART:20311102T090000
END:STANDARD
BEGIN:DAYLIGHT
TZOFFSETFROM:-0800
TZOFFSETTO:-0700
TZNAME:PDT
DTSTART:20320314T100000
END:DAYLIGHT
BEGIN:STANDARD
TZOFFSETFROM:-0700
TZOFFSETTO:-0800
TZNAME:PST
DTSTART:20321107T090000
END:STANDARD
BEGIN:DAYLIGHT
TZOFFSETFROM:-0800
TZOFFSETTO:-0700
TZNAME:PDT
DTSTART:20330313T100000
END:DAYLIGHT
BEGIN:STANDARD
TZOFFSETFROM:-0700
TZOFFSETTO:-0800
TZNAME:PST
DTSTART:20331106T090000
END:STANDARD
BEGIN:DAYLIGHT
TZOFFSETFROM:-0800
TZOFFSETTO:-0700
TZNAME:PDT
DTSTART:20340312T100000
END:DAYLIGHT
BEGIN:STANDARD
TZOFFSETFROM:-0700
TZOFFSETTO:-0800
TZNAME:PST
DTSTART:20341105T090000
END:STANDARD
BEGIN:DAYLIGHT
TZOFFSETFROM:-0800
TZOFFSETTO:-0700
TZNAME:PDT
DTSTART:20350311T100000
END:DAYLIGHT
BEGIN:STANDARD
TZOFFSETFROM:-0700
TZOFFSETTO:-0800
TZNAME:PST
DTSTART:20351104T090000
END:STANDARD
BEGIN:DAYLIGHT
TZOFFSETFROM:-0800
TZOFFSETTO:-0700
TZNAME:PDT
DTSTART:20360309T100000
END:DAYLIGHT
BEGIN:STANDARD
TZOFFSETFROM:-0700
TZOFFSETTO:-0800
TZNAME:PST
DTSTART:20361102T090000
END:STANDARD
END:VTIMEZONE
BEGIN:VEVENT
DTSTART;TZID=America/Los_Angeles:20261224T170000
DTEND;TZID=America/Los_Angeles:20261224T180000
DTSTAMP:20260424T171956
CREATED:20241119T185616Z
LAST-MODIFIED:20251102T015532Z
UID:10014981-1798131600-1798135200@ladera.org
SUMMARY:Christmas Eve Service
DESCRIPTION:Join us for a special celebration where we honor the birth of Jesus and what it means for us personally: a birth of the Divine spirit within and all the hope\, joy\, life\, and love that is in us and among us. This service is for children of all ages!
URL:https://ladera.org/event/christmas-eve-service-2-2/2026-12-24/
LOCATION:Ladera Church\, 3300 Alpine Road\, Portola Valley\, CA\, 94028\, United States
CATEGORIES:Look Deeper
ATTACH;FMTTYPE=image/jpeg:https://ladera.org/wp-content/uploads/2022/11/Christmas-Eve-Service.jpg
ORGANIZER;CN="Ladera Church":MAILTO:church@ladera.org
END:VEVENT
BEGIN:VEVENT
DTSTART;TZID=America/Los_Angeles:20271224T170000
DTEND;TZID=America/Los_Angeles:20271224T180000
DTSTAMP:20260424T171956
CREATED:20241119T185616Z
LAST-MODIFIED:20251102T015532Z
UID:10014982-1829667600-1829671200@ladera.org
SUMMARY:Christmas Eve Service
DESCRIPTION:Join us for a special celebration where we honor the birth of Jesus and what it means for us personally: a birth of the Divine spirit within and all the hope\, joy\, life\, and love that is in us and among us. This service is for children of all ages!
URL:https://ladera.org/event/christmas-eve-service-2-2/2027-12-24/
LOCATION:Ladera Church\, 3300 Alpine Road\, Portola Valley\, CA\, 94028\, United States
CATEGORIES:Look Deeper
ATTACH;FMTTYPE=image/jpeg:https://ladera.org/wp-content/uploads/2022/11/Christmas-Eve-Service.jpg
ORGANIZER;CN="Ladera Church":MAILTO:church@ladera.org
END:VEVENT
BEGIN:VEVENT
DTSTART;TZID=America/Los_Angeles:20281224T170000
DTEND;TZID=America/Los_Angeles:20281224T180000
DTSTAMP:20260424T171956
CREATED:20241119T185616Z
LAST-MODIFIED:20251102T015532Z
UID:10014983-1861290000-1861293600@ladera.org
SUMMARY:Christmas Eve Service
DESCRIPTION:Join us for a special celebration where we honor the birth of Jesus and what it means for us personally: a birth of the Divine spirit within and all the hope\, joy\, life\, and love that is in us and among us. This service is for children of all ages!
URL:https://ladera.org/event/christmas-eve-service-2-2/2028-12-24/
LOCATION:Ladera Church\, 3300 Alpine Road\, Portola Valley\, CA\, 94028\, United States
CATEGORIES:Look Deeper
ATTACH;FMTTYPE=image/jpeg:https://ladera.org/wp-content/uploads/2022/11/Christmas-Eve-Service.jpg
ORGANIZER;CN="Ladera Church":MAILTO:church@ladera.org
END:VEVENT
BEGIN:VEVENT
DTSTART;TZID=America/Los_Angeles:20291224T170000
DTEND;TZID=America/Los_Angeles:20291224T180000
DTSTAMP:20260424T171956
CREATED:20241119T185616Z
LAST-MODIFIED:20251102T015532Z
UID:10014984-1892826000-1892829600@ladera.org
SUMMARY:Christmas Eve Service
DESCRIPTION:Join us for a special celebration where we honor the birth of Jesus and what it means for us personally: a birth of the Divine spirit within and all the hope\, joy\, life\, and love that is in us and among us. This service is for children of all ages!
URL:https://ladera.org/event/christmas-eve-service-2-2/2029-12-24/
LOCATION:Ladera Church\, 3300 Alpine Road\, Portola Valley\, CA\, 94028\, United States
CATEGORIES:Look Deeper
ATTACH;FMTTYPE=image/jpeg:https://ladera.org/wp-content/uploads/2022/11/Christmas-Eve-Service.jpg
ORGANIZER;CN="Ladera Church":MAILTO:church@ladera.org
END:VEVENT
BEGIN:VEVENT
DTSTART;TZID=America/Los_Angeles:20301224T170000
DTEND;TZID=America/Los_Angeles:20301224T180000
DTSTAMP:20260424T171956
CREATED:20241119T185616Z
LAST-MODIFIED:20251102T015532Z
UID:10014985-1924362000-1924365600@ladera.org
SUMMARY:Christmas Eve Service
DESCRIPTION:Join us for a special celebration where we honor the birth of Jesus and what it means for us personally: a birth of the Divine spirit within and all the hope\, joy\, life\, and love that is in us and among us. This service is for children of all ages!
URL:https://ladera.org/event/christmas-eve-service-2-2/2030-12-24/
LOCATION:Ladera Church\, 3300 Alpine Road\, Portola Valley\, CA\, 94028\, United States
CATEGORIES:Look Deeper
ATTACH;FMTTYPE=image/jpeg:https://ladera.org/wp-content/uploads/2022/11/Christmas-Eve-Service.jpg
ORGANIZER;CN="Ladera Church":MAILTO:church@ladera.org
END:VEVENT
BEGIN:VEVENT
DTSTART;TZID=America/Los_Angeles:20311224T170000
DTEND;TZID=America/Los_Angeles:20311224T180000
DTSTAMP:20260424T171956
CREATED:20241119T185616Z
LAST-MODIFIED:20251102T015532Z
UID:10014986-1955898000-1955901600@ladera.org
SUMMARY:Christmas Eve Service
DESCRIPTION:Join us for a special celebration where we honor the birth of Jesus and what it means for us personally: a birth of the Divine spirit within and all the hope\, joy\, life\, and love that is in us and among us. This service is for children of all ages!
URL:https://ladera.org/event/christmas-eve-service-2-2/2031-12-24/
LOCATION:Ladera Church\, 3300 Alpine Road\, Portola Valley\, CA\, 94028\, United States
CATEGORIES:Look Deeper
ATTACH;FMTTYPE=image/jpeg:https://ladera.org/wp-content/uploads/2022/11/Christmas-Eve-Service.jpg
ORGANIZER;CN="Ladera Church":MAILTO:church@ladera.org
END:VEVENT
BEGIN:VEVENT
DTSTART;TZID=America/Los_Angeles:20321224T170000
DTEND;TZID=America/Los_Angeles:20321224T180000
DTSTAMP:20260424T171956
CREATED:20241119T185616Z
LAST-MODIFIED:20251102T015532Z
UID:10014987-1987520400-1987524000@ladera.org
SUMMARY:Christmas Eve Service
DESCRIPTION:Join us for a special celebration where we honor the birth of Jesus and what it means for us personally: a birth of the Divine spirit within and all the hope\, joy\, life\, and love that is in us and among us. This service is for children of all ages!
URL:https://ladera.org/event/christmas-eve-service-2-2/2032-12-24/
LOCATION:Ladera Church\, 3300 Alpine Road\, Portola Valley\, CA\, 94028\, United States
CATEGORIES:Look Deeper
ATTACH;FMTTYPE=image/jpeg:https://ladera.org/wp-content/uploads/2022/11/Christmas-Eve-Service.jpg
ORGANIZER;CN="Ladera Church":MAILTO:church@ladera.org
END:VEVENT
BEGIN:VEVENT
DTSTART;TZID=America/Los_Angeles:20331224T170000
DTEND;TZID=America/Los_Angeles:20331224T180000
DTSTAMP:20260424T171956
CREATED:20241119T185616Z
LAST-MODIFIED:20251102T015532Z
UID:10014988-2019056400-2019060000@ladera.org
SUMMARY:Christmas Eve Service
DESCRIPTION:Join us for a special celebration where we honor the birth of Jesus and what it means for us personally: a birth of the Divine spirit within and all the hope\, joy\, life\, and love that is in us and among us. This service is for children of all ages!
URL:https://ladera.org/event/christmas-eve-service-2-2/2033-12-24/
LOCATION:Ladera Church\, 3300 Alpine Road\, Portola Valley\, CA\, 94028\, United States
CATEGORIES:Look Deeper
ATTACH;FMTTYPE=image/jpeg:https://ladera.org/wp-content/uploads/2022/11/Christmas-Eve-Service.jpg
ORGANIZER;CN="Ladera Church":MAILTO:church@ladera.org
END:VEVENT
BEGIN:VEVENT
DTSTART;TZID=America/Los_Angeles:20341224T170000
DTEND;TZID=America/Los_Angeles:20341224T180000
DTSTAMP:20260424T171956
CREATED:20241119T185616Z
LAST-MODIFIED:20251102T015532Z
UID:10014989-2050592400-2050596000@ladera.org
SUMMARY:Christmas Eve Service
DESCRIPTION:Join us for a special celebration where we honor the birth of Jesus and what it means for us personally: a birth of the Divine spirit within and all the hope\, joy\, life\, and love that is in us and among us. This service is for children of all ages!
URL:https://ladera.org/event/christmas-eve-service-2-2/2034-12-24/
LOCATION:Ladera Church\, 3300 Alpine Road\, Portola Valley\, CA\, 94028\, United States
CATEGORIES:Look Deeper
ATTACH;FMTTYPE=image/jpeg:https://ladera.org/wp-content/uploads/2022/11/Christmas-Eve-Service.jpg
ORGANIZER;CN="Ladera Church":MAILTO:church@ladera.org
END:VEVENT
BEGIN:VEVENT
DTSTART;TZID=America/Los_Angeles:20351224T170000
DTEND;TZID=America/Los_Angeles:20351224T180000
DTSTAMP:20260424T171956
CREATED:20241119T185616Z
LAST-MODIFIED:20251102T015532Z
UID:10014990-2082128400-2082132000@ladera.org
SUMMARY:Christmas Eve Service
DESCRIPTION:Join us for a special celebration where we honor the birth of Jesus and what it means for us personally: a birth of the Divine spirit within and all the hope\, joy\, life\, and love that is in us and among us. This service is for children of all ages!
URL:https://ladera.org/event/christmas-eve-service-2-2/2035-12-24/
LOCATION:Ladera Church\, 3300 Alpine Road\, Portola Valley\, CA\, 94028\, United States
CATEGORIES:Look Deeper
ATTACH;FMTTYPE=image/jpeg:https://ladera.org/wp-content/uploads/2022/11/Christmas-Eve-Service.jpg
ORGANIZER;CN="Ladera Church":MAILTO:church@ladera.org
END:VEVENT
END:VCALENDAR