BEGIN:VCALENDAR
VERSION:2.0
PRODID:-//Ladera Community Church - ECPv6.15.20//NONSGML v1.0//EN
CALSCALE:GREGORIAN
METHOD:PUBLISH
X-WR-CALNAME:Ladera Community Church
X-ORIGINAL-URL:https://ladera.org
X-WR-CALDESC:Events for Ladera Community Church
REFRESH-INTERVAL;VALUE=DURATION:PT1H
X-Robots-Tag:noindex
X-PUBLISHED-TTL:PT1H
BEGIN:VTIMEZONE
TZID:America/Los_Angeles
BEGIN:DAYLIGHT
TZOFFSETFROM:-0800
TZOFFSETTO:-0700
TZNAME:PDT
DTSTART:20250309T100000
END:DAYLIGHT
BEGIN:STANDARD
TZOFFSETFROM:-0700
TZOFFSETTO:-0800
TZNAME:PST
DTSTART:20251102T090000
END:STANDARD
BEGIN:DAYLIGHT
TZOFFSETFROM:-0800
TZOFFSETTO:-0700
TZNAME:PDT
DTSTART:20260308T100000
END:DAYLIGHT
BEGIN:STANDARD
TZOFFSETFROM:-0700
TZOFFSETTO:-0800
TZNAME:PST
DTSTART:20261101T090000
END:STANDARD
BEGIN:DAYLIGHT
TZOFFSETFROM:-0800
TZOFFSETTO:-0700
TZNAME:PDT
DTSTART:20270314T100000
END:DAYLIGHT
BEGIN:STANDARD
TZOFFSETFROM:-0700
TZOFFSETTO:-0800
TZNAME:PST
DTSTART:20271107T090000
END:STANDARD
END:VTIMEZONE
BEGIN:VEVENT
DTSTART;TZID=America/Los_Angeles:20260424T201614
DTEND;TZID=America/Los_Angeles:20260424T201614
DTSTAMP:20260424T201614
CREATED:20250910T191242Z
LAST-MODIFIED:20250910T191242Z
UID:11606-1777061774-1777061774@ladera.org
SUMMARY:Mexican Heritage Plaza Theater
DESCRIPTION:
URL:https://ladera.org/venue/mexican-heritage-plaza-theater/
LOCATION:Mexican Heritage Plaza Theater\, 1700 Alum Rock Ave\, San José\, CA\, 95116\, United States
END:VEVENT
END:VCALENDAR